{"text_format":"1","workbook":"xlsx","n_sheets":6,"sheets":["Summary","AI-SCC","RA-SCC","LB-SCC","Anchor","Test"],"not_rendered":{"charts":0,"images":0,"macros":1,"external_links":0,"defined_names":0,"comments":0,"pivot_tables":0},"unopened":[],"bounds":{"document_bytes":16777216,"sheet_cells":100000,"rows_first":2000,"rows_last":500,"rows_between":2000,"halvings":0,"cell_chars":16384,"cell_head_chars":4096},"cells_cut":0,"cells_raw":0,"read":"whole","date_system":"1900"}

{"sheet":"Summary","index":0,"n_rows":51,"n_cols":8,"rows_kept":51,"cut":false,"hidden":false,"merged":[[50,2,50,4],[49,2,49,4],[35,2,35,4],[1,2,1,4],[15,2,15,4],[18,2,18,4],[16,2,16,4],[33,2,33,4],[32,2,32,4]]}
["   "]
[null,null,"All Intra ",null,null,null,"Reference:","Anchor (SCM-1.0)"]
[null,null,"G/Y","B/U","R/V",null,"Tested:","Tested (Rnnnn)"]
[null,{"$f":"'AI-SCC'!B107","v":"RGB, text & graphics with motion, 1080p"},{"$f":"'AI-SCC'!T107","v":-0.11588303169891245},{"$f":"'AI-SCC'!U107","v":-0.11561727757280749},{"$f":"'AI-SCC'!V107","v":-0.11507969504432509}]
[null,{"$f":"'AI-SCC'!B108","v":"RGB, text & graphics with motion,720p"},{"$f":"'AI-SCC'!T108","v":-6.5565476171328352E-2},{"$f":"'AI-SCC'!U108","v":-5.8694325655214125E-2},{"$f":"'AI-SCC'!V108","v":-6.2224222313974314E-2}]
[null,{"$f":"'AI-SCC'!B109","v":"RGB, mixed content, 1440p"},{"$f":"'AI-SCC'!T109","v":-1.2475831949466942E-2},{"$f":"'AI-SCC'!U109","v":-1.1334293681364849E-2},{"$f":"'AI-SCC'!V109","v":-1.0697302277092702E-2},null,"Note: BD-rate is computed using piece-wise cubic interpolation"]
[null,{"$f":"'AI-SCC'!B110","v":"RGB, mixed content, 1080p"},{"$f":"'AI-SCC'!T110","v":-2.2140647912419431E-2},{"$f":"'AI-SCC'!U110","v":-2.3453191130468731E-2},{"$f":"'AI-SCC'!V110","v":-2.1085582393020164E-2}]
[null,{"$f":"'AI-SCC'!B111","v":"RGB, Animation, 720p"},{"$f":"'AI-SCC'!T111","v":7.7191513191388061E-4},{"$f":"'AI-SCC'!U111","v":-5.798045341839364E-4},{"$f":"'AI-SCC'!V111","v":-4.2614239644345187E-4}]
[null,{"$f":"'AI-SCC'!B112","v":"RGB, camera captured, 1080p"},{"$f":"'AI-SCC'!T112","v":2.0891182398208308E-4},{"$f":"'AI-SCC'!U112","v":1.417719397172057E-4},{"$f":"'AI-SCC'!V112","v":2.5372908829646157E-4}]
[null,{"$f":"'AI-SCC'!B113","v":"YUV, text & graphics with motion, 1080p"},{"$f":"'AI-SCC'!T113","v":-0.11265578677432782},{"$f":"'AI-SCC'!U113","v":-0.12656524974450337},{"$f":"'AI-SCC'!V113","v":-0.11780037923326973}]
[null,{"$f":"'AI-SCC'!B114","v":"YUV, text & graphics with motion,720p"},{"$f":"'AI-SCC'!T114","v":-5.1157265388616119E-2},{"$f":"'AI-SCC'!U114","v":-7.3820171199823481E-2},{"$f":"'AI-SCC'!V114","v":-9.5300709394563088E-2}]
[null,{"$f":"'AI-SCC'!B115","v":"YUV, mixed content, 1440p"},{"$f":"'AI-SCC'!T115","v":-9.7450045619636994E-3},{"$f":"'AI-SCC'!U115","v":-2.6234457176956827E-2},{"$f":"'AI-SCC'!V115","v":-2.4705056993635788E-2}]
[null,{"$f":"'AI-SCC'!B116","v":"YUV, mixed content, 1080p"},{"$f":"'AI-SCC'!T116","v":-2.4226269093183372E-2},{"$f":"'AI-SCC'!U116","v":-3.5379956468680529E-2},{"$f":"'AI-SCC'!V116","v":-3.3549919855643706E-2}]
[null,{"$f":"'AI-SCC'!B117","v":"YUV, Animation, 720p"},{"$f":"'AI-SCC'!T117","v":1.2384779605221219E-3},{"$f":"'AI-SCC'!U117","v":-7.5025267938899631E-4},{"$f":"'AI-SCC'!V117","v":-5.4307662309327487E-4}]
[null,{"$f":"'AI-SCC'!B118","v":"YUV, camera captured, 1080p"},{"$f":"'AI-SCC'!T118","v":3.2627994010336892E-4},{"$f":"'AI-SCC'!U118","v":2.8634899399948566E-4},{"$f":"'AI-SCC'!V118","v":4.7759130672986316E-4}]
[null,"Enc Time[%]",{"$f":"'AI-SCC'!$D$138","v":0.99449992923416275}]
[null,"Dec Time[%]",{"$f":"'AI-SCC'!$C$138","v":0.98561716343339933}]
[]
[null,null,"Random Access "]
[null,null,"G/Y","B/U","R/V"]
[null,{"$f":"'RA-SCC'!B107","v":"RGB, text & graphics with motion, 1080p"},{"$f":"'RA-SCC'!T107","v":-6.6644085885258761E-2},{"$f":"'RA-SCC'!U107","v":-6.8948396894731132E-2},{"$f":"'RA-SCC'!V107","v":-7.0196109580539748E-2}]
[null,{"$f":"'RA-SCC'!B108","v":"RGB, text & graphics with motion,720p"},{"$f":"'RA-SCC'!T108","v":-6.2633395358858424E-2},{"$f":"'RA-SCC'!U108","v":-5.3125362672780035E-2},{"$f":"'RA-SCC'!V108","v":-5.7571410655087918E-2}]
[null,{"$f":"'RA-SCC'!B109","v":"RGB, mixed content, 1440p"},{"$f":"'RA-SCC'!T109","v":-1.4129397351734407E-2},{"$f":"'RA-SCC'!U109","v":-1.1192536054866309E-2},{"$f":"'RA-SCC'!V109","v":-1.0595871254311551E-2}]
[null,{"$f":"'RA-SCC'!B110","v":"RGB, mixed content, 1080p"},{"$f":"'RA-SCC'!T110","v":-2.1077482573351625E-2},{"$f":"'RA-SCC'!U110","v":-2.2538090719557147E-2},{"$f":"'RA-SCC'!V110","v":-1.9869967075580197E-2}]
[null,{"$f":"'RA-SCC'!B111","v":"RGB, Animation, 720p"},{"$f":"'RA-SCC'!T111","v":-1.5649641773551881E-4},{"$f":"'RA-SCC'!U111","v":-1.2335437442213548E-3},{"$f":"'RA-SCC'!V111","v":-1.5804337517033584E-4}]
[null,{"$f":"'RA-SCC'!B112","v":"RGB, camera captured, 1080p"},{"$f":"'RA-SCC'!T112","v":4.0105561286396529E-4},{"$f":"'RA-SCC'!U112","v":1.2690140101645486E-4},{"$f":"'RA-SCC'!V112","v":5.0215632391237275E-4}]
[null,{"$f":"'RA-SCC'!B113","v":"YUV, text & graphics with motion, 1080p"},{"$f":"'RA-SCC'!T113","v":-6.729337857398672E-2},{"$f":"'RA-SCC'!U113","v":-8.7668519861613836E-2},{"$f":"'RA-SCC'!V113","v":-8.346690331505395E-2}]
[null,{"$f":"'RA-SCC'!B114","v":"YUV, text & graphics with motion,720p"},{"$f":"'RA-SCC'!T114","v":-5.1487378060509237E-2},{"$f":"'RA-SCC'!U114","v":-7.289117584177271E-2},{"$f":"'RA-SCC'!V114","v":-9.0663835429971362E-2}]
[null,{"$f":"'RA-SCC'!B115","v":"YUV, mixed content, 1440p"},{"$f":"'RA-SCC'!T115","v":-1.0231504734490915E-2},{"$f":"'RA-SCC'!U115","v":-3.7506390461968964E-2},{"$f":"'RA-SCC'!V115","v":-3.1529573812470568E-2}]
[null,{"$f":"'RA-SCC'!B116","v":"YUV, mixed content, 1080p"},{"$f":"'RA-SCC'!T116","v":-2.3743090130977307E-2},{"$f":"'RA-SCC'!U116","v":-4.7476814684600077E-2},{"$f":"'RA-SCC'!V116","v":-4.5325181337854015E-2}]
[null,{"$f":"'RA-SCC'!B117","v":"YUV, Animation, 720p"},{"$f":"'RA-SCC'!T117","v":1.3820487826627925E-3},{"$f":"'RA-SCC'!U117","v":-2.2106651039320857E-3},{"$f":"'RA-SCC'!V117","v":3.5793477708434551E-4}]
[null,{"$f":"'RA-SCC'!B118","v":"YUV, camera captured, 1080p"},{"$f":"'RA-SCC'!T118","v":4.2307833881005674E-4},{"$f":"'RA-SCC'!U118","v":8.5074939622842294E-4},{"$f":"'RA-SCC'!V118","v":9.0364919573171498E-4}]
[null,"Enc Time[%]",{"$f":"'RA-SCC'!$D$138","v":1.0140036051835981}]
[null,"Dec Time[%]",{"$f":"'RA-SCC'!$C$138","v":1.0388523601290971}]
[]
[null,null,"Low delay B "]
[null,null,"G/Y","B/U","R/V"]
[null,{"$f":"'LB-SCC'!B107","v":"RGB, text & graphics with motion, 1080p"},{"$f":"'LB-SCC'!T107","v":-3.8866938129002548E-2},{"$f":"'LB-SCC'!U107","v":-4.3126091795236188E-2},{"$f":"'LB-SCC'!V107","v":-4.3323362870828018E-2}]
[null,{"$f":"'LB-SCC'!B108","v":"RGB, text & graphics with motion,720p"},{"$f":"'LB-SCC'!T108","v":-3.8619005404671031E-2},{"$f":"'LB-SCC'!U108","v":-3.3678347940360315E-2},{"$f":"'LB-SCC'!V108","v":-3.6978853472967838E-2}]
[null,{"$f":"'LB-SCC'!B109","v":"RGB, mixed content, 1440p"},{"$f":"'LB-SCC'!T109","v":-1.253992705380913E-2},{"$f":"'LB-SCC'!U109","v":-1.3243908648221892E-2},{"$f":"'LB-SCC'!V109","v":-1.0387436097032798E-2}]
[null,{"$f":"'LB-SCC'!B110","v":"RGB, mixed content, 1080p"},{"$f":"'LB-SCC'!T110","v":-1.8398743996022926E-2},{"$f":"'LB-SCC'!U110","v":-2.063970859030162E-2},{"$f":"'LB-SCC'!V110","v":-1.805141510088637E-2}]
[null,{"$f":"'LB-SCC'!B111","v":"RGB, Animation, 720p"},{"$f":"'LB-SCC'!T111","v":6.1420854393134938E-4},{"$f":"'LB-SCC'!U111","v":3.2504499597663106E-4},{"$f":"'LB-SCC'!V111","v":1.1576234777241901E-3}]
[null,{"$f":"'LB-SCC'!B112","v":"RGB, camera captured, 1080p"},{"$f":"'LB-SCC'!T112","v":-5.1035556983353159E-4},{"$f":"'LB-SCC'!U112","v":1.7649891338145096E-4},{"$f":"'LB-SCC'!V112","v":-5.1980248492977665E-4}]
[null,{"$f":"'LB-SCC'!B113","v":"YUV, text & graphics with motion, 1080p"},{"$f":"'LB-SCC'!T113","v":-3.3501467789663453E-2},{"$f":"'LB-SCC'!U113","v":-5.532862292767423E-2},{"$f":"'LB-SCC'!V113","v":-5.2612395414502168E-2}]
[null,{"$f":"'LB-SCC'!B114","v":"YUV, text & graphics with motion,720p"},{"$f":"'LB-SCC'!T114","v":-3.1666922874201142E-2},{"$f":"'LB-SCC'!U114","v":-5.0814659711425209E-2},{"$f":"'LB-SCC'!V114","v":-6.6492046361706109E-2}]
[null,{"$f":"'LB-SCC'!B115","v":"YUV, mixed content, 1440p"},{"$f":"'LB-SCC'!T115","v":-7.4738614611286613E-3},{"$f":"'LB-SCC'!U115","v":-3.7156917946158607E-2},{"$f":"'LB-SCC'!V115","v":-3.1386641325409248E-2}]
[null,{"$f":"'LB-SCC'!B116","v":"YUV, mixed content, 1080p"},{"$f":"'LB-SCC'!T116","v":-9.7265636481778106E-3},{"$f":"'LB-SCC'!U116","v":-3.6672427270578511E-2},{"$f":"'LB-SCC'!V116","v":-2.8227908723441497E-2}]
[null,{"$f":"'LB-SCC'!B117","v":"YUV, Animation, 720p"},{"$f":"'LB-SCC'!T117","v":1.4929733514539301E-3},{"$f":"'LB-SCC'!U117","v":-2.388680002245458E-3},{"$f":"'LB-SCC'!V117","v":1.98440670481137E-4}]
[null,{"$f":"'LB-SCC'!B118","v":"YUV, camera captured, 1080p"},{"$f":"'LB-SCC'!T118","v":5.5014286008958635E-4},{"$f":"'LB-SCC'!U118","v":7.8929962745549753E-4},{"$f":"'LB-SCC'!V118","v":-8.337382988953812E-4}]
[null,"Enc Time[%]",{"$f":"'LB-SCC'!$D$138","v":1.006711051630844}]
[null,"Dec Time[%]",{"$f":"'LB-SCC'!$C$138","v":1.0222408717138534}]

{"sheet":"AI-SCC","index":1,"n_rows":138,"n_cols":33,"rows_kept":138,"cut":false,"hidden":false,"merged":[[0,30,0,32],[123,2,123,3],[0,3,0,9],[0,11,0,17],[0,19,0,21],[0,22,0,24],[0,26,0,28]]}
[null,null,null,{"$f":"Summary!H2","v":"Anchor (SCM-1.0)"},null,null,null,null,null,null,null,{"$f":"Summary!H3","v":"Tested (Rnnnn)"},null,null,null,null,null,null,null,"BD-rate (piecewise cubic)",null,null,"BD-rate (cubic)",null,null,null,"MSE PSNR (anchor)",null,null,null,"MSE PSNR (tested)"]
[null,null,"QPISlice","kbps","G/Y psnr","B/U psnr","R/V psnr","Enc T [s]","Dec T [s]","Enc T [h]",null,"kbps","G/Y psnr","B/U psnr","R/V psnr","Enc T [s]","Dec T [s]","Enc T [h]",null,"G/Y","B/U","R/V","G/Y","B/U","R/V",null,"G/Y","B/U","R/V ",null,"G/Y","B/U","R/V"]
["RGB, text & graphics with motion, 1080p","sc_flyingGraphics_1920x1080_60_8bit_rgb",22,{"$f":"Anchor!B1","v":103060.1808},{"$f":"Anchor!C1","v":48.800199999999997},{"$f":"Anchor!D1","v":48.324100000000001},{"$f":"Anchor!E1","v":48.148000000000003},{"$f":"Anchor!F1","v":35414.199999999997},{"$f":"Anchor!G1","v":65.08},{"$f":"secToHours(H3)","v":9.8372777777777767},null,{"$f":"Test!B1","v":99746.512000000002},{"$f":"Test!C1","v":49.885399999999997},{"$f":"Test!D1","v":49.496699999999997},{"$f":"Test!E1","v":49.215400000000002},{"$f":"Test!F1","v":34526.46},{"$f":"Test!G1","v":60.83},{"$f":"secToHours(P3)","v":9.5906833333333328},null,{"$f":"bdrate(D3:D6,E3:E6,L3:L6,M3:M6)","v":-7.2599045660611927E-2},{"$f":"bdrate(D3:D6,F3:F6,L3:L6,N3:N6)","v":-7.425318629387645E-2},{"$f":"bdrate(D3:D6,G3:G6,L3:L6,O3:O6)","v":-7.1742275824120072E-2},{"$f":"bdrateOld(D3:D6,E3:E6,L3:L6,M3:M6)","v":-7.2533062279801497E-2},{"$f":"bdrateOld(D3:D6,F3:F6,L3:L6,N3:N6)","v":-7.4249813371758289E-2},{"$f":"bdrateOld(D3:D6,G3:G6,L3:L6,O3:O6)","v":-7.1728133371416702E-2},null,{"$f":"Anchor!H1","v":48.790999999999997},{"$f":"Anchor!I1","v":48.317700000000002},{"$f":"Anchor!J1","v":48.139299999999999},null,{"$f":"Test!H1","v":49.870199999999997},{"$f":"Test!I1","v":49.485399999999998},{"$f":"Test!J1","v":49.201700000000002}]
[null,null,27,{"$f":"Anchor!B2","v":81981.934399999998},{"$f":"Anchor!C2","v":43.914900000000003},{"$f":"Anchor!D2","v":43.493600000000001},{"$f":"Anchor!E2","v":43.296500000000002},{"$f":"Anchor!F2","v":35469.51},{"$f":"Anchor!G2","v":62.12},{"$f":"secToHours(H4)","v":9.852641666666667},null,{"$f":"Test!B2","v":79988.651199999993},{"$f":"Test!C2","v":44.911000000000001},{"$f":"Test!D2","v":44.517699999999998},{"$f":"Test!E2","v":44.251300000000001},{"$f":"Test!F2","v":33498.71},{"$f":"Test!G2","v":59.32},{"$f":"secToHours(P4)","v":9.3051972222222226},null,null,null,null,null,null,null,null,{"$f":"Anchor!H2","v":43.906700000000001},{"$f":"Anchor!I2","v":43.487299999999998},{"$f":"Anchor!J2","v":43.2896},null,{"$f":"Test!H2","v":44.8964},{"$f":"Test!I2","v":44.5075},{"$f":"Test!J2","v":44.239899999999999}]
[null,null,32,{"$f":"Anchor!B3","v":63317.804799999998},{"$f":"Anchor!C3","v":39.136299999999999},{"$f":"Anchor!D3","v":38.889000000000003},{"$f":"Anchor!E3","v":38.707999999999998},{"$f":"Anchor!F3","v":33766.28},{"$f":"Anchor!G3","v":59.45},{"$f":"secToHours(H5)","v":9.3795222222222225},null,{"$f":"Test!B3","v":62190.756800000003},{"$f":"Test!C3","v":40.098300000000002},{"$f":"Test!D3","v":39.836599999999997},{"$f":"Test!E3","v":39.625599999999999},{"$f":"Test!F3","v":31813.279999999999},{"$f":"Test!G3","v":56.94},{"$f":"secToHours(P5)","v":8.8370222222222221},null,null,null,null,null,null,null,null,{"$f":"Anchor!H3","v":39.129100000000001},{"$f":"Anchor!I3","v":38.882100000000001},{"$f":"Anchor!J3","v":38.700899999999997},null,{"$f":"Test!H3","v":40.0852},{"$f":"Test!I3","v":39.826500000000003},{"$f":"Test!J3","v":39.6145}]
[null,null,37,{"$f":"Anchor!B4","v":46473.0144},{"$f":"Anchor!C4","v":34.410899999999998},{"$f":"Anchor!D4","v":34.126600000000003},{"$f":"Anchor!E4","v":34.0488},{"$f":"Anchor!F4","v":32148.99},{"$f":"Anchor!G4","v":56.74},8.930275,null,{"$f":"Test!B4","v":45890.412799999998},{"$f":"Test!C4","v":35.398600000000002},{"$f":"Test!D4","v":35.1751},{"$f":"Test!E4","v":35.0122},{"$f":"Test!F4","v":29767.63},{"$f":"Test!G4","v":54.99},8.2687861111111118,null,null,null,null,null,null,null,null,{"$f":"Anchor!H4","v":34.405299999999997},{"$f":"Anchor!I4","v":34.121000000000002},{"$f":"Anchor!J4","v":34.041800000000002},null,{"$f":"Test!H4","v":35.389600000000002},{"$f":"Test!I4","v":35.167299999999997},{"$f":"Test!J4","v":35.0045}]
[null,"sc_desktop_1920x1080_60_8bit_rgb",22,{"$f":"Anchor!B5","v":58975.067199999998},{"$f":"Anchor!C5","v":51.983600000000003},{"$f":"Anchor!D5","v":51.603999999999999},{"$f":"Anchor!E5","v":51.123699999999999},{"$f":"Anchor!F5","v":54376.56},{"$f":"Anchor!G5","v":106.36},15.1046,null,{"$f":"Test!B5","v":52658.249600000003},{"$f":"Test!C5","v":54.900500000000001},{"$f":"Test!D5","v":54.154600000000002},{"$f":"Test!E5","v":53.481499999999997},{"$f":"Test!F5","v":53719.839999999997},{"$f":"Test!G5","v":96.69},14.922177777777776,null,{"$f":"bdrate(D7:D10,E7:E10,L7:L10,M7:M10)","v":-0.12899942839548517},{"$f":"bdrate(D7:D10,F7:F10,L7:L10,N7:N10)","v":-0.12426342679640401},{"$f":"bdrate(D7:D10,G7:G10,L7:L10,O7:O10)","v":-0.12375474566930078},{"$f":"bdrateOld(D7:D10,E7:E10,L7:L10,M7:M10)","v":-0.12887771388860603},{"$f":"bdrateOld(D7:D10,F7:F10,L7:L10,N7:N10)","v":-0.12434496392601802},{"$f":"bdrateOld(D7:D10,G7:G10,L7:L10,O7:O10)","v":-0.12387543928903777},null,{"$f":"Anchor!H5","v":51.979399999999998},{"$f":"Anchor!I5","v":51.595100000000002},{"$f":"Anchor!J5","v":51.118499999999997},null,{"$f":"Test!H5","v":54.895899999999997},{"$f":"Test!I5","v":54.152799999999999},{"$f":"Test!J5","v":53.479100000000003}]
[null,null,27,{"$f":"Anchor!B6","v":50808.923999999999},{"$f":"Anchor!C6","v":46.596800000000002},{"$f":"Anchor!D6","v":45.968600000000002},{"$f":"Anchor!E6","v":45.427700000000002},{"$f":"Anchor!F6","v":58716.54},{"$f":"Anchor!G6","v":104.96},16.31015,null,{"$f":"Test!B6","v":47295.584799999997},{"$f":"Test!C6","v":49.920999999999999},{"$f":"Test!D6","v":48.918399999999998},{"$f":"Test!E6","v":48.364600000000003},{"$f":"Test!F6","v":53742.97},{"$f":"Test!G6","v":96.95},14.928602777777778,null,null,null,null,null,null,null,null,{"$f":"Anchor!H6","v":46.589500000000001},{"$f":"Anchor!I6","v":45.956099999999999},{"$f":"Anchor!J6","v":45.419800000000002},null,{"$f":"Test!H6","v":49.909500000000001},{"$f":"Test!I6","v":48.915700000000001},{"$f":"Test!J6","v":48.360700000000001}]
[null,null,32,{"$f":"Anchor!B7","v":43765.214399999997},{"$f":"Anchor!C7","v":41.868699999999997},{"$f":"Anchor!D7","v":41.276499999999999},{"$f":"Anchor!E7","v":40.8703},{"$f":"Anchor!F7","v":56266.37},{"$f":"Anchor!G7","v":102.84},15.629547222222223,null,{"$f":"Test!B7","v":42083.386400000003},{"$f":"Test!C7","v":44.782600000000002},{"$f":"Test!D7","v":43.958100000000002},{"$f":"Test!E7","v":43.436199999999999},{"$f":"Test!F7","v":51974.13},{"$f":"Test!G7","v":96.21},14.437258333333332,null,null,null,null,null,null,null,null,{"$f":"Anchor!H7","v":41.861800000000002},{"$f":"Anchor!I7","v":41.264400000000002},{"$f":"Anchor!J7","v":40.858800000000002},null,{"$f":"Test!H7","v":44.769199999999998},{"$f":"Test!I7","v":43.955100000000002},{"$f":"Test!J7","v":43.433199999999999}]
[null,null,37,{"$f":"Anchor!B8","v":35978.886400000003},{"$f":"Anchor!C8","v":36.017299999999999},{"$f":"Anchor!D8","v":35.624200000000002},{"$f":"Anchor!E8","v":35.44},{"$f":"Anchor!F8","v":54174.76},{"$f":"Anchor!G8","v":100.39},15.048544444444445,null,{"$f":"Test!B8","v":36095.3704},{"$f":"Test!C8","v":39.064900000000002},{"$f":"Test!D8","v":38.533799999999999},{"$f":"Test!E8","v":38.165199999999999},{"$f":"Test!F8","v":50135.97},{"$f":"Test!G8","v":94.88},13.926658333333334,null,null,null,null,null,null,null,null,{"$f":"Anchor!H8","v":36.009500000000003},{"$f":"Anchor!I8","v":35.6051},{"$f":"Anchor!J8","v":35.422699999999999},null,{"$f":"Test!H8","v":39.057000000000002},{"$f":"Test!I8","v":38.527200000000001},{"$f":"Test!J8","v":38.159999999999997}]
[null,"sc_console_1920x1080_60_8bit_rgb",22,{"$f":"Anchor!B9","v":48262.088000000003},{"$f":"Anchor!C9","v":54.795099999999998},{"$f":"Anchor!D9","v":55.258800000000001},{"$f":"Anchor!E9","v":54.458500000000001},{"$f":"Anchor!F9","v":45093.07},{"$f":"Anchor!G9","v":99.3},12.525852777777777,null,{"$f":"Test!B9","v":44102.515200000002},{"$f":"Test!C9","v":57.6325},{"$f":"Test!D9","v":57.264000000000003},{"$f":"Test!E9","v":56.634},{"$f":"Test!F9","v":45382.89},{"$f":"Test!G9","v":88.13},12.606358333333333,null,{"$f":"bdrate(D11:D14,E11:E14,L11:L14,M11:M14)","v":-0.14605062104064026},{"$f":"bdrate(D11:D14,F11:F14,L11:L14,N11:N14)","v":-0.148335219628142},{"$f":"bdrate(D11:D14,G11:G14,L11:L14,O11:O14)","v":-0.14974206363955445},{"$f":"bdrateOld(D11:D14,E11:E14,L11:L14,M11:M14)","v":-0.14806257931253664},{"$f":"bdrateOld(D11:D14,F11:F14,L11:L14,N11:N14)","v":-0.15405303871434584},{"$f":"bdrateOld(D11:D14,G11:G14,L11:L14,O11:O14)","v":-0.15484152424092323},null,{"$f":"Anchor!H9","v":54.779299999999999},{"$f":"Anchor!I9","v":55.2423},{"$f":"Anchor!J9","v":54.445799999999998},null,{"$f":"Test!H9","v":57.618400000000001},{"$f":"Test!I9","v":57.248899999999999},{"$f":"Test!J9","v":56.620899999999999}]
[null,null,27,{"$f":"Anchor!B10","v":41704.535199999998},{"$f":"Anchor!C10","v":48.586199999999998},{"$f":"Anchor!D10","v":47.8962},{"$f":"Anchor!E10","v":47.361600000000003},{"$f":"Anchor!F10","v":50389.87},{"$f":"Anchor!G10","v":98.88},13.997186111111112,null,{"$f":"Test!B10","v":39107.436800000003},{"$f":"Test!C10","v":52.332000000000001},{"$f":"Test!D10","v":51.735599999999998},{"$f":"Test!E10","v":51.214799999999997},{"$f":"Test!F10","v":45513.18},{"$f":"Test!G10","v":88.54},12.64255,null,null,null,null,null,null,null,null,{"$f":"Anchor!H10","v":48.565600000000003},{"$f":"Anchor!I10","v":47.878100000000003},{"$f":"Anchor!J10","v":47.347299999999997},null,{"$f":"Test!H10","v":52.319600000000001},{"$f":"Test!I10","v":51.720799999999997},{"$f":"Test!J10","v":51.203099999999999}]
[null,null,32,{"$f":"Anchor!B11","v":35520.005599999997},{"$f":"Anchor!C11","v":44.171500000000002},{"$f":"Anchor!D11","v":43.978299999999997},{"$f":"Anchor!E11","v":43.4724},{"$f":"Anchor!F11","v":48799.89},{"$f":"Anchor!G11","v":97.13},13.555524999999999,null,{"$f":"Test!B11","v":33981.777600000001},{"$f":"Test!C11","v":47.5749},{"$f":"Test!D11","v":47.322099999999999},{"$f":"Test!E11","v":46.865699999999997},{"$f":"Test!F11","v":42800.05},{"$f":"Test!G11","v":87.58},11.888902777777778,null,null,null,null,null,null,null,null,{"$f":"Anchor!H11","v":44.148000000000003},{"$f":"Anchor!I11","v":43.953899999999997},{"$f":"Anchor!J11","v":43.452100000000002},null,{"$f":"Test!H11","v":47.561300000000003},{"$f":"Test!I11","v":47.303400000000003},{"$f":"Test!J11","v":46.853200000000001}]
[null,null,37,{"$f":"Anchor!B12","v":29086.156800000001},{"$f":"Anchor!C12","v":38.4893},{"$f":"Anchor!D12","v":38.219900000000003},{"$f":"Anchor!E12","v":38.097900000000003},{"$f":"Anchor!F12","v":46076.88},{"$f":"Anchor!G12","v":95.98},12.799133333333332,null,{"$f":"Test!B12","v":28904.107199999999},{"$f":"Test!C12","v":41.8996},{"$f":"Test!D12","v":42.013300000000001},{"$f":"Test!E12","v":41.421700000000001},{"$f":"Test!F12","v":40889.29},{"$f":"Test!G12","v":87.11},11.358136111111111,null,null,null,null,null,null,null,null,{"$f":"Anchor!H12","v":38.480899999999998},{"$f":"Anchor!I12","v":38.2102},{"$f":"Anchor!J12","v":38.087600000000002},null,{"$f":"Test!H12","v":41.889099999999999},{"$f":"Test!I12","v":41.999099999999999},{"$f":"Test!J12","v":41.410200000000003}]
["RGB, text & graphics with motion,720p","sc_web_browsing_1280x720_30_8bit_300_rgb",22,{"$f":"Anchor!B13","v":11401.436},{"$f":"Anchor!C13","v":52.369199999999999},{"$f":"Anchor!D13","v":50.902999999999999},{"$f":"Anchor!E13","v":50.986499999999999},{"$f":"Anchor!F13","v":10700.32},{"$f":"Anchor!G13","v":22.85},2.9723111111111109,null,{"$f":"Test!B13","v":10631.6528},{"$f":"Test!C13","v":54.107999999999997},{"$f":"Test!D13","v":52.813800000000001},{"$f":"Test!E13","v":52.6295},{"$f":"Test!F13","v":10324.27},{"$f":"Test!G13","v":22.04},2.8678527777777778,null,{"$f":"bdrate(D15:D18,E15:E18,L15:L18,M15:M18)","v":-0.12812137745644514},{"$f":"bdrate(D15:D18,F15:F18,L15:L18,N15:N18)","v":-0.12176834312656348},{"$f":"bdrate(D15:D18,G15:G18,L15:L18,O15:O18)","v":-0.1253034167314746},{"$f":"bdrateOld(D15:D18,E15:E18,L15:L18,M15:M18)","v":-0.12806585157466244},{"$f":"bdrateOld(D15:D18,F15:F18,L15:L18,N15:N18)","v":-0.12138078368692828},{"$f":"bdrateOld(D15:D18,G15:G18,L15:L18,O15:O18)","v":-0.12501838518666908},null,{"$f":"Anchor!H13","v":52.043700000000001},{"$f":"Anchor!I13","v":50.685499999999998},{"$f":"Anchor!J13","v":50.761699999999998},null,{"$f":"Test!H13","v":53.476799999999997},{"$f":"Test!I13","v":52.332500000000003},{"$f":"Test!J13","v":52.2012}]
[null,null,27,{"$f":"Anchor!B14","v":8951.3008000000009},{"$f":"Anchor!C14","v":46.782800000000002},{"$f":"Anchor!D14","v":45.955100000000002},{"$f":"Anchor!E14","v":45.744900000000001},{"$f":"Anchor!F14","v":11059.59},{"$f":"Anchor!G14","v":22.01},3.0721083333333334,null,{"$f":"Test!B14","v":8639.4120000000003},{"$f":"Test!C14","v":49.618899999999996},{"$f":"Test!D14","v":48.372700000000002},{"$f":"Test!E14","v":48.311799999999998},{"$f":"Test!F14","v":9914.07},{"$f":"Test!G14","v":21.23},2.7539083333333334,null,null,null,null,null,null,null,null,{"$f":"Anchor!H14","v":46.650300000000001},{"$f":"Anchor!I14","v":45.813099999999999},{"$f":"Anchor!J14","v":45.6355},null,{"$f":"Test!H14","v":49.119799999999998},{"$f":"Test!I14","v":47.987299999999998},{"$f":"Test!J14","v":47.960900000000002}]
[null,null,32,{"$f":"Anchor!B15","v":7161.9495999999999},{"$f":"Anchor!C15","v":43.041400000000003},{"$f":"Anchor!D15","v":41.834200000000003},{"$f":"Anchor!E15","v":41.657800000000002},{"$f":"Anchor!F15","v":10213.91},{"$f":"Anchor!G15","v":21.1},2.8371972222222221,null,{"$f":"Test!B15","v":7132.6688000000004},{"$f":"Test!C15","v":45.399799999999999},{"$f":"Test!D15","v":44.119900000000001},{"$f":"Test!E15","v":44.054299999999998},{"$f":"Test!F15","v":9329.2000000000007},{"$f":"Test!G15","v":20.61},2.5914444444444444,null,null,null,null,null,null,null,null,{"$f":"Anchor!H15","v":42.917200000000001},{"$f":"Anchor!I15","v":41.719200000000001},{"$f":"Anchor!J15","v":41.574100000000001},null,{"$f":"Test!H15","v":44.990200000000002},{"$f":"Test!I15","v":43.808999999999997},{"$f":"Test!J15","v":43.7913}]
[null,null,37,{"$f":"Anchor!B16","v":5378.7168000000001},{"$f":"Anchor!C16","v":36.327800000000003},{"$f":"Anchor!D16","v":35.709200000000003},{"$f":"Anchor!E16","v":35.554200000000002},{"$f":"Anchor!F16","v":10399.879999999999},{"$f":"Anchor!G16","v":20.190000000000001},2.8888555555555553,null,{"$f":"Test!B16","v":5427.8728000000001},{"$f":"Test!C16","v":39.036000000000001},{"$f":"Test!D16","v":38.095300000000002},{"$f":"Test!E16","v":37.976300000000002},{"$f":"Test!F16","v":9396.0300000000007},{"$f":"Test!G16","v":19.73},2.6100083333333335,null,null,null,null,null,null,null,null,{"$f":"Anchor!H16","v":36.296799999999998},{"$f":"Anchor!I16","v":35.672600000000003},{"$f":"Anchor!J16","v":35.523400000000002},null,{"$f":"Test!H16","v":38.885599999999997},{"$f":"Test!I16","v":37.958100000000002},{"$f":"Test!J16","v":37.863999999999997}]
[null,"sc_map_1280x720_60_8bit",22,{"$f":"Anchor!B17","v":67042.446400000001},{"$f":"Anchor!C17","v":47.358600000000003},{"$f":"Anchor!D17","v":46.509300000000003},{"$f":"Anchor!E17","v":46.778399999999998},{"$f":"Anchor!F17","v":34566.5},{"$f":"Anchor!G17","v":72.27},9.6018055555555559,null,{"$f":"Test!B17","v":64243.836799999997},{"$f":"Test!C17","v":48.6434},{"$f":"Test!D17","v":47.823},{"$f":"Test!E17","v":48.100099999999998},{"$f":"Test!F17","v":34638.14},{"$f":"Test!G17","v":60.65},9.6217055555555557,null,{"$f":"bdrate(D19:D22,E19:E22,L19:L22,M19:M22)","v":-6.1288470753008473E-2},{"$f":"bdrate(D19:D22,F19:F22,L19:L22,N19:N22)","v":-6.4788889358996182E-2},{"$f":"bdrate(D19:D22,G19:G22,L19:L22,O19:O22)","v":-6.9211932397762466E-2},{"$f":"bdrateOld(D19:D22,E19:E22,L19:L22,M19:M22)","v":-6.1251954034790557E-2},{"$f":"bdrateOld(D19:D22,F19:F22,L19:L22,N19:N22)","v":-6.4676697801444694E-2},{"$f":"bdrateOld(D19:D22,G19:G22,L19:L22,O19:O22)","v":-6.919318379601469E-2},null,{"$f":"Anchor!H17","v":46.945900000000002},{"$f":"Anchor!I17","v":46.094900000000003},{"$f":"Anchor!J17","v":46.377000000000002},null,{"$f":"Test!H17","v":48.220100000000002},{"$f":"Test!I17","v":47.355499999999999},{"$f":"Test!J17","v":47.711799999999997}]
[null,null,27,{"$f":"Anchor!B18","v":45932.025600000001},{"$f":"Anchor!C18","v":42.964300000000001},{"$f":"Anchor!D18","v":42.148899999999998},{"$f":"Anchor!E18","v":42.5974},{"$f":"Anchor!F18","v":31400.45},{"$f":"Anchor!G18","v":65.06},8.722347222222222,null,{"$f":"Test!B18","v":45975.512799999997},{"$f":"Test!C18","v":43.794400000000003},{"$f":"Test!D18","v":42.995600000000003},{"$f":"Test!E18","v":43.473300000000002},{"$f":"Test!F18","v":32014.65},{"$f":"Test!G18","v":60.01},8.8929583333333344,null,null,null,null,null,null,null,null,{"$f":"Anchor!H18","v":42.486400000000003},{"$f":"Anchor!I18","v":41.673900000000003},{"$f":"Anchor!J18","v":42.174300000000002},null,{"$f":"Test!H18","v":43.341799999999999},{"$f":"Test!I18","v":42.517099999999999},{"$f":"Test!J18","v":43.067999999999998}]
[null,null,32,{"$f":"Anchor!B19","v":29652.731199999998},{"$f":"Anchor!C19","v":38.601900000000001},{"$f":"Anchor!D19","v":37.86},{"$f":"Anchor!E19","v":38.552599999999998},{"$f":"Anchor!F19","v":28621.78},{"$f":"Anchor!G19","v":58.15},7.9504944444444439,null,{"$f":"Test!B19","v":30173.741600000001},{"$f":"Test!C19","v":39.175199999999997},{"$f":"Test!D19","v":38.487900000000003},{"$f":"Test!E19","v":39.172800000000002},{"$f":"Test!F19","v":29102.23},{"$f":"Test!G19","v":56.38},8.0839527777777782,null,null,null,null,null,null,null,null,{"$f":"Anchor!H19","v":38.0413},{"$f":"Anchor!I19","v":37.323399999999999},{"$f":"Anchor!J19","v":38.079799999999999},null,{"$f":"Test!H19","v":38.587200000000003},{"$f":"Test!I19","v":37.9071},{"$f":"Test!J19","v":38.669499999999999}]
[null,null,37,{"$f":"Anchor!B20","v":18561.821599999999},{"$f":"Anchor!C20","v":34.518900000000002},{"$f":"Anchor!D20","v":33.936999999999998},{"$f":"Anchor!E20","v":34.723599999999998},{"$f":"Anchor!F20","v":24347.1},{"$f":"Anchor!G20","v":51.83},6.7630833333333333,null,{"$f":"Test!B20","v":19012.405599999998},{"$f":"Test!C20","v":35.0779},{"$f":"Test!D20","v":34.447699999999998},{"$f":"Test!E20","v":35.292200000000001},{"$f":"Test!F20","v":24554.959999999999},{"$f":"Test!G20","v":51.49},6.8208222222222217,null,null,null,null,null,null,null,null,{"$f":"Anchor!H20","v":34.014499999999998},{"$f":"Anchor!I20","v":33.400199999999998},{"$f":"Anchor!J20","v":34.277200000000001},null,{"$f":"Test!H20","v":34.473799999999997},{"$f":"Test!I20","v":33.831099999999999},{"$f":"Test!J20","v":34.764200000000002}]
[null,"sc_programming_1280x720_60_8bit",22,{"$f":"Anchor!B21","v":61192.281600000002},{"$f":"Anchor!C21","v":47.513500000000001},{"$f":"Anchor!D21","v":47.046799999999998},{"$f":"Anchor!E21","v":46.932000000000002},{"$f":"Anchor!F21","v":28800.11},{"$f":"Anchor!G21","v":65.23},8.000030555555556,null,{"$f":"Test!B21","v":60661.544000000002},{"$f":"Test!C21","v":47.987699999999997},{"$f":"Test!D21","v":47.3812},{"$f":"Test!E21","v":47.2532},{"$f":"Test!F21","v":29235.91},{"$f":"Test!G21","v":64.819999999999993},8.1210861111111114,null,{"$f":"bdrate(D23:D26,E23:E26,L23:L26,M23:M26)","v":-4.4154056128790531E-2},{"$f":"bdrate(D23:D26,F23:F26,L23:L26,N23:N26)","v":-2.5638862613000302E-2},{"$f":"bdrate(D23:D26,G23:G26,L23:L26,O23:O26)","v":-2.9207035890506106E-2},{"$f":"bdrateOld(D23:D26,E23:E26,L23:L26,M23:M26)","v":-4.4139939949925822E-2},{"$f":"bdrateOld(D23:D26,F23:F26,L23:L26,N23:N26)","v":-2.5669479129064143E-2},{"$f":"bdrateOld(D23:D26,G23:G26,L23:L26,O23:O26)","v":-2.9192329966890029E-2},null,{"$f":"Anchor!H21","v":47.497399999999999},{"$f":"Anchor!I21","v":47.006700000000002},{"$f":"Anchor!J21","v":46.906100000000002},null,{"$f":"Test!H21","v":47.960999999999999},{"$f":"Test!I21","v":47.331200000000003},{"$f":"Test!J21","v":47.221299999999999}]
[null,null,27,{"$f":"Anchor!B22","v":44752.967199999999},{"$f":"Anchor!C22","v":43.3337},{"$f":"Anchor!D22","v":42.499600000000001},{"$f":"Anchor!E22","v":42.697099999999999},{"$f":"Anchor!F22","v":27280.89},{"$f":"Anchor!G22","v":60.12},7.5780250000000002,null,{"$f":"Test!B22","v":44559.177600000003},{"$f":"Test!C22","v":43.823700000000002},{"$f":"Test!D22","v":42.798200000000001},{"$f":"Test!E22","v":43.033000000000001},{"$f":"Test!F22","v":27925.15},{"$f":"Test!G22","v":60.13},7.7569861111111118,null,null,null,null,null,null,null,null,{"$f":"Anchor!H22","v":43.317599999999999},{"$f":"Anchor!I22","v":42.475000000000001},{"$f":"Anchor!J22","v":42.679499999999997},null,{"$f":"Test!H22","v":43.796799999999998},{"$f":"Test!I22","v":42.767200000000003},{"$f":"Test!J22","v":43.010800000000003}]
[null,null,32,{"$f":"Anchor!B23","v":31355.0648},{"$f":"Anchor!C23","v":39.043599999999998},{"$f":"Anchor!D23","v":37.972900000000003},{"$f":"Anchor!E23","v":38.314799999999998},{"$f":"Anchor!F23","v":25314.13},{"$f":"Anchor!G23","v":55.7},7.0317027777777783,null,{"$f":"Test!B23","v":31577.031200000001},{"$f":"Test!C23","v":39.644599999999997},{"$f":"Test!D23","v":38.325899999999997},{"$f":"Test!E23","v":38.707999999999998},{"$f":"Test!F23","v":26045.360000000001},{"$f":"Test!G23","v":55.86},7.2348222222222223,null,null,null,null,null,null,null,null,{"$f":"Anchor!H23","v":39.034799999999997},{"$f":"Anchor!I23","v":37.959499999999998},{"$f":"Anchor!J23","v":38.3033},null,{"$f":"Test!H23","v":39.623199999999997},{"$f":"Test!I23","v":38.305599999999998},{"$f":"Test!J23","v":38.691499999999998}]
[null,null,37,{"$f":"Anchor!B24","v":20942.504000000001},{"$f":"Anchor!C24","v":34.689},{"$f":"Anchor!D24","v":33.616500000000002},{"$f":"Anchor!E24","v":33.954999999999998},{"$f":"Anchor!F24","v":22942.6},{"$f":"Anchor!G24","v":51.05},6.3729444444444443,null,{"$f":"Test!B24","v":21196.799999999999},{"$f":"Test!C24","v":35.372700000000002},{"$f":"Test!D24","v":34.052999999999997},{"$f":"Test!E24","v":34.4405},{"$f":"Test!F24","v":23703.67},{"$f":"Test!G24","v":51.56},6.5843527777777773,null,null,null,null,null,null,null,null,{"$f":"Anchor!H24","v":34.6785},{"$f":"Anchor!I24","v":33.604900000000001},{"$f":"Anchor!J24","v":33.943399999999997},null,{"$f":"Test!H24","v":35.355400000000003},{"$f":"Test!I24","v":34.038600000000002},{"$f":"Test!J24","v":34.427900000000001}]
[null,"sc_SlideShow_1280x720_20_8bit_500",22,{"$f":"Anchor!B25","v":7406.5097999999998},{"$f":"Anchor!C25","v":51.0702},{"$f":"Anchor!D25","v":50.634300000000003},{"$f":"Anchor!E25","v":50.755000000000003},{"$f":"Anchor!F25","v":14287.05},{"$f":"Anchor!G25","v":38.89},3.9686249999999998,null,{"$f":"Test!B25","v":7383.1692999999996},{"$f":"Test!C25","v":51.173000000000002},{"$f":"Test!D25","v":50.724499999999999},{"$f":"Test!E25","v":50.860900000000001},{"$f":"Test!F25","v":14766.24},{"$f":"Test!G25","v":39.729999999999997},4.1017333333333337,null,{"$f":"bdrate(D27:D30,E27:E30,L27:L30,M27:M30)","v":-2.8698000347069264E-2},{"$f":"bdrate(D27:D30,F27:F30,L27:L30,N27:N30)","v":-2.2581207522296531E-2},{"$f":"bdrate(D27:D30,G27:G30,L27:L30,O27:O30)","v":-2.5174504236154083E-2},{"$f":"bdrateOld(D27:D30,E27:E30,L27:L30,M27:M30)","v":-2.8688227041747894E-2},{"$f":"bdrateOld(D27:D30,F27:F30,L27:L30,N27:N30)","v":-2.2530811533973183E-2},{"$f":"bdrateOld(D27:D30,G27:G30,L27:L30,O27:O30)","v":-2.5149844059407456E-2},null,{"$f":"Anchor!H25","v":49.915799999999997},{"$f":"Anchor!I25","v":49.466700000000003},{"$f":"Anchor!J25","v":49.639899999999997},null,{"$f":"Test!H25","v":49.986199999999997},{"$f":"Test!I25","v":49.527500000000003},{"$f":"Test!J25","v":49.717700000000001}]
[null,null,27,{"$f":"Anchor!B26","v":4822.665},{"$f":"Anchor!C26","v":47.508299999999998},{"$f":"Anchor!D26","v":47.011400000000002},{"$f":"Anchor!E26","v":47.166699999999999},{"$f":"Anchor!F26","v":12834.4},{"$f":"Anchor!G26","v":35.19},3.5651111111111109,null,{"$f":"Test!B26","v":4808.7357000000002},{"$f":"Test!C26","v":47.68},{"$f":"Test!D26","v":47.144399999999997},{"$f":"Test!E26","v":47.3232},{"$f":"Test!F26","v":13525.52},{"$f":"Test!G26","v":35.83},3.7570888888888891,null,null,null,null,null,null,null,null,{"$f":"Anchor!H26","v":46.403199999999998},{"$f":"Anchor!I26","v":45.895899999999997},{"$f":"Anchor!J26","v":46.117100000000001},null,{"$f":"Test!H26","v":46.517200000000003},{"$f":"Test!I26","v":45.994100000000003},{"$f":"Test!J26","v":46.226799999999997}]
[null,null,32,{"$f":"Anchor!B27","v":3124.1538999999998},{"$f":"Anchor!C27","v":43.963200000000001},{"$f":"Anchor!D27","v":43.557099999999998},{"$f":"Anchor!E27","v":43.682499999999997},{"$f":"Anchor!F27","v":11468.6},{"$f":"Anchor!G27","v":32.53},3.1857222222222221,null,{"$f":"Test!B27","v":3134.4261999999999},{"$f":"Test!C27","v":44.271000000000001},{"$f":"Test!D27","v":43.790900000000001},{"$f":"Test!E27","v":43.944800000000001},{"$f":"Test!F27","v":12101.03},{"$f":"Test!G27","v":32.83},3.3613972222222226,null,null,null,null,null,null,null,null,{"$f":"Anchor!H27","v":42.927399999999999},{"$f":"Anchor!I27","v":42.5015},{"$f":"Anchor!J27","v":42.692700000000002},null,{"$f":"Test!H27","v":43.146999999999998},{"$f":"Test!I27","v":42.667400000000001},{"$f":"Test!J27","v":42.887}]
[null,null,37,{"$f":"Anchor!B28","v":2008.5539000000001},{"$f":"Anchor!C28","v":40.258699999999997},{"$f":"Anchor!D28","v":39.888300000000001},{"$f":"Anchor!E28","v":40.010599999999997},{"$f":"Anchor!F28","v":10696.52},{"$f":"Anchor!G28","v":29.68},2.9712555555555555,null,{"$f":"Test!B28","v":2043.3244999999999},{"$f":"Test!C28","v":40.767699999999998},{"$f":"Test!D28","v":40.326000000000001},{"$f":"Test!E28","v":40.4482},{"$f":"Test!F28","v":10922.07},{"$f":"Test!G28","v":30.27},3.0339083333333332,null,null,null,null,null,null,null,null,{"$f":"Anchor!H28","v":39.335999999999999},{"$f":"Anchor!I28","v":38.934399999999997},{"$f":"Anchor!J28","v":39.136299999999999},null,{"$f":"Test!H28","v":39.722499999999997},{"$f":"Test!I28","v":39.258699999999997},{"$f":"Test!J28","v":39.470500000000001}]
["RGB, mixed content, 1440p","Basketball_Screen_2560x1440_60p_8b444",22,{"$f":"Anchor!B29","v":207507.39360000001},{"$f":"Anchor!C29","v":46.217700000000001},{"$f":"Anchor!D29","v":45.652099999999997},{"$f":"Anchor!E29","v":45.561199999999999},{"$f":"Anchor!F29","v":64311.81},{"$f":"Anchor!G29","v":137.11000000000001},17.864391666666666,null,{"$f":"Test!B29","v":206537.16},{"$f":"Test!C29","v":46.3108},{"$f":"Test!D29","v":45.733199999999997},{"$f":"Test!E29","v":45.628100000000003},{"$f":"Test!F29","v":66894.559999999998},{"$f":"Test!G29","v":136.72},18.581822222222222,null,{"$f":"bdrate(D31:D34,E31:E34,L31:L34,M31:M34)","v":-1.6141168689541852E-2},{"$f":"bdrate(D31:D34,F31:F34,L31:L34,N31:N34)","v":-1.3230350555501591E-2},{"$f":"bdrate(D31:D34,G31:G34,L31:L34,O31:O34)","v":-1.3312148608880969E-2},{"$f":"bdrateOld(D31:D34,E31:E34,L31:L34,M31:M34)","v":-1.6139547410463528E-2},{"$f":"bdrateOld(D31:D34,F31:F34,L31:L34,N31:N34)","v":-1.3229950443092164E-2},{"$f":"bdrateOld(D31:D34,G31:G34,L31:L34,O31:O34)","v":-1.3313182766136133E-2},null,{"$f":"Anchor!H29","v":46.217599999999997},{"$f":"Anchor!I29","v":45.652000000000001},{"$f":"Anchor!J29","v":45.561100000000003},null,{"$f":"Test!H29","v":46.310699999999997},{"$f":"Test!I29","v":45.7331},{"$f":"Test!J29","v":45.628}]
[null,null,27,{"$f":"Anchor!B30","v":138472.63039999999},{"$f":"Anchor!C30","v":42.540199999999999},{"$f":"Anchor!D30","v":41.877000000000002},{"$f":"Anchor!E30","v":41.884099999999997},{"$f":"Anchor!F30","v":62040.22},{"$f":"Anchor!G30","v":123.06},17.233394444444446,null,{"$f":"Test!B30","v":137907.2064},{"$f":"Test!C30","v":42.664000000000001},{"$f":"Test!D30","v":41.976100000000002},{"$f":"Test!E30","v":41.987499999999997},{"$f":"Test!F30","v":63378.18},{"$f":"Test!G30","v":122.61},17.605049999999999,null,null,null,null,null,null,null,null,{"$f":"Anchor!H30","v":42.540199999999999},{"$f":"Anchor!I30","v":41.876899999999999},{"$f":"Anchor!J30","v":41.884},null,{"$f":"Test!H30","v":42.664000000000001},{"$f":"Test!I30","v":41.975999999999999},{"$f":"Test!J30","v":41.987499999999997}]
[null,null,32,{"$f":"Anchor!B31","v":94935.339200000002},{"$f":"Anchor!C31","v":38.818100000000001},{"$f":"Anchor!D31","v":38.2729},{"$f":"Anchor!E31","v":38.266199999999998},{"$f":"Anchor!F31","v":53999.55},{"$f":"Anchor!G31","v":112.57},14.999875000000001,null,{"$f":"Test!B31","v":94888.072},{"$f":"Test!C31","v":38.979399999999998},{"$f":"Test!D31","v":38.402099999999997},{"$f":"Test!E31","v":38.402299999999997},{"$f":"Test!F31","v":56274.239999999998},{"$f":"Test!G31","v":112.45},15.631733333333333,null,null,null,null,null,null,null,null,{"$f":"Anchor!H31","v":38.817999999999998},{"$f":"Anchor!I31","v":38.272799999999997},{"$f":"Anchor!J31","v":38.266100000000002},null,{"$f":"Test!H31","v":38.979399999999998},{"$f":"Test!I31","v":38.402099999999997},{"$f":"Test!J31","v":38.402299999999997}]
[null,null,37,{"$f":"Anchor!B32","v":64390.447999999997},{"$f":"Anchor!C32","v":35.025300000000001},{"$f":"Anchor!D32","v":34.508000000000003},{"$f":"Anchor!E32","v":34.464300000000001},{"$f":"Anchor!F32","v":48215.12},{"$f":"Anchor!G32","v":102.88},13.39308888888889,null,{"$f":"Test!B32","v":64873.364800000003},{"$f":"Test!C32","v":35.223700000000001},{"$f":"Test!D32","v":34.656300000000002},{"$f":"Test!E32","v":34.6},{"$f":"Test!F32","v":49437.14},{"$f":"Test!G32","v":103.57},13.73253888888889,null,null,null,null,null,null,null,null,{"$f":"Anchor!H32","v":35.025100000000002},{"$f":"Anchor!I32","v":34.507800000000003},{"$f":"Anchor!J32","v":34.464199999999998},null,{"$f":"Test!H32","v":35.223599999999998},{"$f":"Test!I32","v":34.656100000000002},{"$f":"Test!J32","v":34.599800000000002}]
[null,"MissionControlClip2_2560x1440_60p_8b444",22,{"$f":"Anchor!B33","v":161191.13440000001},{"$f":"Anchor!C33","v":45.945599999999999},{"$f":"Anchor!D33","v":45.356200000000001},{"$f":"Anchor!E33","v":45.456600000000002},{"$f":"Anchor!F33","v":62048.160000000003},{"$f":"Anchor!G33","v":131.97999999999999},17.235600000000002,null,{"$f":"Test!B33","v":161117.00320000001},{"$f":"Test!C33","v":45.9953},{"$f":"Test!D33","v":45.402299999999997},{"$f":"Test!E33","v":45.498699999999999},{"$f":"Test!F33","v":64249.8},{"$f":"Test!G33","v":133.28},17.847166666666666,null,{"$f":"bdrate(D35:D38,E35:E38,L35:L38,M35:M38)","v":-8.810495209392033E-3},{"$f":"bdrate(D35:D38,F35:F38,L35:L38,N35:N38)","v":-9.4382368072281064E-3},{"$f":"bdrate(D35:D38,G35:G38,L35:L38,O35:O38)","v":-8.0824559453044342E-3},{"$f":"bdrateOld(D35:D38,E35:E38,L35:L38,M35:M38)","v":-8.8291415192257583E-3},{"$f":"bdrateOld(D35:D38,F35:F38,L35:L38,N35:N38)","v":-9.44972308047487E-3},{"$f":"bdrateOld(D35:D38,G35:G38,L35:L38,O35:O38)","v":-8.0915504934024884E-3},null,{"$f":"Anchor!H33","v":45.856299999999997},{"$f":"Anchor!I33","v":45.264000000000003},{"$f":"Anchor!J33","v":45.363799999999998},null,{"$f":"Test!H33","v":45.8932},{"$f":"Test!I33","v":45.298000000000002},{"$f":"Test!J33","v":45.394399999999997}]
[null,null,27,{"$f":"Anchor!B34","v":107709.93919999999},{"$f":"Anchor!C34","v":42.624000000000002},{"$f":"Anchor!D34","v":42.232799999999997},{"$f":"Anchor!E34","v":42.189799999999998},{"$f":"Anchor!F34","v":52604.28},{"$f":"Anchor!G34","v":120.12},14.612299999999999,null,{"$f":"Test!B34","v":107636.83040000001},{"$f":"Test!C34","v":42.671599999999998},{"$f":"Test!D34","v":42.286499999999997},{"$f":"Test!E34","v":42.238500000000002},{"$f":"Test!F34","v":54450.71},{"$f":"Test!G34","v":121.48},15.125197222222223,null,null,null,null,null,null,null,null,{"$f":"Anchor!H34","v":42.542499999999997},{"$f":"Anchor!I34","v":42.1691},{"$f":"Anchor!J34","v":42.1158},null,{"$f":"Test!H34","v":42.577800000000003},{"$f":"Test!I34","v":42.210799999999999},{"$f":"Test!J34","v":42.1539}]
[null,null,32,{"$f":"Anchor!B35","v":69839.761599999998},{"$f":"Anchor!C35","v":39.088700000000003},{"$f":"Anchor!D35","v":38.9146},{"$f":"Anchor!E35","v":38.759},{"$f":"Anchor!F35","v":42427.07},{"$f":"Anchor!G35","v":110.21},11.785297222222223,null,{"$f":"Test!B35","v":69963.753599999996},{"$f":"Test!C35","v":39.183300000000003},{"$f":"Test!D35","v":39.0077},{"$f":"Test!E35","v":38.842100000000002},{"$f":"Test!F35","v":43829.99},{"$f":"Test!G35","v":111.44},12.174997222222222,null,null,null,null,null,null,null,null,{"$f":"Anchor!H35","v":39.027900000000002},{"$f":"Anchor!I35","v":38.874200000000002},{"$f":"Anchor!J35","v":38.704300000000003},null,{"$f":"Test!H35","v":39.109400000000001},{"$f":"Test!I35","v":38.955800000000004},{"$f":"Test!J35","v":38.777700000000003}]
[null,null,37,{"$f":"Anchor!B36","v":44020.710400000004},{"$f":"Anchor!C36","v":35.727400000000003},{"$f":"Anchor!D36","v":35.592700000000001},{"$f":"Anchor!E36","v":35.402999999999999},{"$f":"Anchor!F36","v":35767.919999999998},{"$f":"Anchor!G36","v":99.56},9.935533333333332,null,{"$f":"Test!B36","v":44267.792000000001},{"$f":"Test!C36","v":35.861199999999997},{"$f":"Test!D36","v":35.729300000000002},{"$f":"Test!E36","v":35.5229},{"$f":"Test!F36","v":37535.730000000003},{"$f":"Test!G36","v":100.63},10.426591666666667,null,null,null,null,null,null,null,null,{"$f":"Anchor!H36","v":35.677599999999998},{"$f":"Anchor!I36","v":35.568399999999997},{"$f":"Anchor!J36","v":35.356200000000001},null,{"$f":"Test!H36","v":35.8048},{"$f":"Test!I36","v":35.701099999999997},{"$f":"Test!J36","v":35.470999999999997}]
["RGB, mixed content, 1080p","MissionControlClip3_1920x1080_60p_8b444",22,{"$f":"Anchor!B37","v":106610.1488},{"$f":"Anchor!C37","v":46.823500000000003},{"$f":"Anchor!D37","v":46.253700000000002},{"$f":"Anchor!E37","v":46.285299999999999},{"$f":"Anchor!F37","v":66891.92},{"$f":"Anchor!G37","v":148.07},18.581088888888889,null,{"$f":"Test!B37","v":106079.7608},{"$f":"Test!C37","v":46.983699999999999},{"$f":"Test!D37","v":46.406500000000001},{"$f":"Test!E37","v":46.437600000000003},{"$f":"Test!F37","v":69671.92},{"$f":"Test!G37","v":148.4},19.353311111111111,null,{"$f":"bdrate(D39:D42,E39:E42,L39:L42,M39:M42)","v":-2.2140647912419431E-2},{"$f":"bdrate(D39:D42,F39:F42,L39:L42,N39:N42)","v":-2.3453191130468731E-2},{"$f":"bdrate(D39:D42,G39:G42,L39:L42,O39:O42)","v":-2.1085582393020164E-2},{"$f":"bdrateOld(D39:D42,E39:E42,L39:L42,M39:M42)","v":-2.2141551548864435E-2},{"$f":"bdrateOld(D39:D42,F39:F42,L39:L42,N39:N42)","v":-2.3485725359567833E-2},{"$f":"bdrateOld(D39:D42,G39:G42,L39:L42,O39:O42)","v":-2.1094295143471387E-2},null,{"$f":"Anchor!H37","v":46.663499999999999},{"$f":"Anchor!I37","v":46.099899999999998},{"$f":"Anchor!J37","v":46.1327},null,{"$f":"Test!H37","v":46.804699999999997},{"$f":"Test!I37","v":46.235500000000002},{"$f":"Test!J37","v":46.268000000000001}]
[null,null,27,{"$f":"Anchor!B38","v":75410.585600000006},{"$f":"Anchor!C38","v":43.035200000000003},{"$f":"Anchor!D38","v":42.501899999999999},{"$f":"Anchor!E38","v":42.4788},{"$f":"Anchor!F38","v":63626.34},{"$f":"Anchor!G38","v":135.26},17.673983333333332,null,{"$f":"Test!B38","v":75112.148799999995},{"$f":"Test!C38","v":43.234099999999998},{"$f":"Test!D38","v":42.689},{"$f":"Test!E38","v":42.657899999999998},{"$f":"Test!F38","v":64182.720000000001},{"$f":"Test!G38","v":135.79},17.828533333333333,null,null,null,null,null,null,null,null,{"$f":"Anchor!H38","v":42.899099999999997},{"$f":"Anchor!I38","v":42.396999999999998},{"$f":"Anchor!J38","v":42.362299999999998},null,{"$f":"Test!H38","v":43.0749},{"$f":"Test!I38","v":42.566800000000001},{"$f":"Test!J38","v":42.524000000000001}]
[null,null,32,{"$f":"Anchor!B39","v":52771.419199999997},{"$f":"Anchor!C39","v":38.969000000000001},{"$f":"Anchor!D39","v":38.637700000000002},{"$f":"Anchor!E39","v":38.4801},{"$f":"Anchor!F39","v":55697.279999999999},{"$f":"Anchor!G39","v":124.87},15.471466666666666,null,{"$f":"Test!B39","v":52641.946400000001},{"$f":"Test!C39","v":39.205300000000001},{"$f":"Test!D39","v":38.9056},{"$f":"Test!E39","v":38.706800000000001},{"$f":"Test!F39","v":55999.12},{"$f":"Test!G39","v":125.75},15.555311111111111,null,null,null,null,null,null,null,null,{"$f":"Anchor!H39","v":38.860500000000002},{"$f":"Anchor!I39","v":38.5623},{"$f":"Anchor!J39","v":38.389499999999998},null,{"$f":"Test!H39","v":39.078800000000001},{"$f":"Test!I39","v":38.816800000000001},{"$f":"Test!J39","v":38.604100000000003}]
[null,null,37,{"$f":"Anchor!B40","v":35886.1976},{"$f":"Anchor!C40","v":34.863},{"$f":"Anchor!D40","v":34.662399999999998},{"$f":"Anchor!E40","v":34.463200000000001},{"$f":"Anchor!F40","v":49251.57},{"$f":"Anchor!G40","v":114.68},13.680991666666667,null,{"$f":"Test!B40","v":36043.572800000002},{"$f":"Test!C40","v":35.137999999999998},{"$f":"Test!D40","v":34.937800000000003},{"$f":"Test!E40","v":34.718899999999998},{"$f":"Test!F40","v":50364.28},{"$f":"Test!G40","v":115.58},13.990077777777778,null,null,null,null,null,null,null,null,{"$f":"Anchor!H40","v":34.789299999999997},{"$f":"Anchor!I40","v":34.619999999999997},{"$f":"Anchor!J40","v":34.398200000000003},null,{"$f":"Test!H40","v":35.052900000000001},{"$f":"Test!I40","v":34.886499999999998},{"$f":"Test!J40","v":34.647500000000001}]
["RGB, Animation, 720p","sc_robot_1280x720_30_8bit_300",22,{"$f":"Anchor!B41","v":68515.367199999993},{"$f":"Anchor!C41","v":42.353400000000001},{"$f":"Anchor!D41","v":42.317500000000003},{"$f":"Anchor!E41","v":41.883099999999999},{"$f":"Anchor!F41","v":27308.240000000002},{"$f":"Anchor!G41","v":61.48},7.5856222222222227,null,{"$f":"Test!B41","v":68513.020799999998},{"$f":"Test!C41","v":42.355400000000003},{"$f":"Test!D41","v":42.329000000000001},{"$f":"Test!E41","v":41.889400000000002},{"$f":"Test!F41","v":28729.63},{"$f":"Test!G41","v":61.72},7.9804527777777778,null,{"$f":"bdrate(D43:D46,E43:E46,L43:L46,M43:M46)","v":7.7191513191388061E-4},{"$f":"bdrate(D43:D46,F43:F46,L43:L46,N43:N46)","v":-5.798045341839364E-4},{"$f":"bdrate(D43:D46,G43:G46,L43:L46,O43:O46)","v":-4.2614239644345187E-4},{"$f":"bdrateOld(D43:D46,E43:E46,L43:L46,M43:M46)","v":7.7167229490182621E-4},{"$f":"bdrateOld(D43:D46,F43:F46,L43:L46,N43:N46)","v":-6.7146807966567135E-4},{"$f":"bdrateOld(D43:D46,G43:G46,L43:L46,O43:O46)","v":-4.7387354425554307E-4},null,{"$f":"Anchor!H41","v":42.353299999999997},{"$f":"Anchor!I41","v":42.317300000000003},{"$f":"Anchor!J41","v":41.882599999999996},null,{"$f":"Test!H41","v":42.3553},{"$f":"Test!I41","v":42.328800000000001},{"$f":"Test!J41","v":41.889000000000003}]
[null,null,27,{"$f":"Anchor!B42","v":36715.2048},{"$f":"Anchor!C42","v":38.180399999999999},{"$f":"Anchor!D42","v":38.470399999999998},{"$f":"Anchor!E42","v":37.820799999999998},{"$f":"Anchor!F42","v":24568.68},{"$f":"Anchor!G42","v":49.33},6.8246333333333338,null,{"$f":"Test!B42","v":36758.653599999998},{"$f":"Test!C42","v":38.1828},{"$f":"Test!D42","v":38.483800000000002},{"$f":"Test!E42","v":37.8322},{"$f":"Test!F42","v":24588.37},{"$f":"Test!G42","v":49.02},6.8301027777777774,null,null,null,null,null,null,null,null,{"$f":"Anchor!H42","v":38.180100000000003},{"$f":"Anchor!I42","v":38.4694},{"$f":"Anchor!J42","v":37.8202},null,{"$f":"Test!H42","v":38.182499999999997},{"$f":"Test!I42","v":38.482700000000001},{"$f":"Test!J42","v":37.831699999999998}]
[null,null,32,{"$f":"Anchor!B43","v":16854.421600000001},{"$f":"Anchor!C43","v":34.718299999999999},{"$f":"Anchor!D43","v":35.33},{"$f":"Anchor!E43","v":34.459299999999999},{"$f":"Anchor!F43","v":19653.240000000002},{"$f":"Anchor!G43","v":37.11},5.4592333333333336,null,{"$f":"Test!B43","v":16886.286400000001},{"$f":"Test!C43","v":34.720799999999997},{"$f":"Test!D43","v":35.334000000000003},{"$f":"Test!E43","v":34.465499999999999},{"$f":"Test!F43","v":20261.57},{"$f":"Test!G43","v":37.86},5.6282138888888884,null,null,null,null,null,null,null,null,{"$f":"Anchor!H43","v":34.716999999999999},{"$f":"Anchor!I43","v":35.327100000000002},{"$f":"Anchor!J43","v":34.458300000000001},null,{"$f":"Test!H43","v":34.719499999999996},{"$f":"Test!I43","v":35.331200000000003},{"$f":"Test!J43","v":34.464500000000001}]
[null,null,37,{"$f":"Anchor!B44","v":7769.8639999999996},{"$f":"Anchor!C44","v":32.168500000000002},{"$f":"Anchor!D44","v":32.867600000000003},{"$f":"Anchor!E44","v":31.829799999999999},{"$f":"Anchor!F44","v":13800.05},{"$f":"Anchor!G44","v":29.38},3.8333472222222222,null,{"$f":"Test!B44","v":7778.5504000000001},{"$f":"Test!C44","v":32.167999999999999},{"$f":"Test!D44","v":32.8673},{"$f":"Test!E44","v":31.8309},{"$f":"Test!F44","v":14239.54},{"$f":"Test!G44","v":30.29},3.955427777777778,null,null,null,null,null,null,null,null,{"$f":"Anchor!H44","v":32.166699999999999},{"$f":"Anchor!I44","v":32.863700000000001},{"$f":"Anchor!J44","v":31.828499999999998},null,{"$f":"Test!H44","v":32.166200000000003},{"$f":"Test!I44","v":32.863399999999999},{"$f":"Test!J44","v":31.829599999999999}]
["RGB, camera captured, 1080p","EBURainFruits_1920x1080_50_10bit_444",22,{"$f":"Anchor!B45","v":135801.136},{"$f":"Anchor!C45","v":43.508800000000001},{"$f":"Anchor!D45","v":41.628799999999998},{"$f":"Anchor!E45","v":44.013100000000001},{"$f":"Anchor!F45","v":42228.51},{"$f":"Anchor!G45","v":85.98},11.730141666666666,null,{"$f":"Test!B45","v":135813.32320000001},{"$f":"Test!C45","v":43.508099999999999},{"$f":"Test!D45","v":41.628599999999999},{"$f":"Test!E45","v":44.012700000000002},{"$f":"Test!F45","v":43597.87},{"$f":"Test!G45","v":86.01},12.110519444444446,null,{"$f":"bdrate(D47:D50,E47:E50,L47:L50,M47:M50)","v":2.2642608143441656E-4},{"$f":"bdrate(D47:D50,F47:F50,L47:L50,N47:N50)","v":2.2237678054759513E-4},{"$f":"bdrate(D47:D50,G47:G50,L47:L50,O47:O50)","v":1.7710079256993971E-4},{"$f":"bdrateOld(D47:D50,E47:E50,L47:L50,M47:M50)","v":2.2661979704308166E-4},{"$f":"bdrateOld(D47:D50,F47:F50,L47:L50,N47:N50)","v":2.223120690154623E-4},{"$f":"bdrateOld(D47:D50,G47:G50,L47:L50,O47:O50)","v":1.7692462724339109E-4},null,{"$f":"Anchor!H45","v":43.508699999999997},{"$f":"Anchor!I45","v":41.628799999999998},{"$f":"Anchor!J45","v":44.012900000000002},null,{"$f":"Test!H45","v":43.508000000000003},{"$f":"Test!I45","v":41.628599999999999},{"$f":"Test!J45","v":44.012599999999999}]
[null,null,27,{"$f":"Anchor!B46","v":76278.032000000007},{"$f":"Anchor!C46","v":40.532299999999999},{"$f":"Anchor!D46","v":38.866300000000003},{"$f":"Anchor!E46","v":41.030999999999999},{"$f":"Anchor!F46","v":33743.61},{"$f":"Anchor!G46","v":73.84},9.3732249999999997,null,{"$f":"Test!B46","v":76282.401599999997},{"$f":"Test!C46","v":40.531599999999997},{"$f":"Test!D46","v":38.866},{"$f":"Test!E46","v":41.030299999999997},{"$f":"Test!F46","v":34861.01},{"$f":"Test!G46","v":74.23},9.683613888888889,null,null,null,null,null,null,null,null,{"$f":"Anchor!H46","v":40.5319},{"$f":"Anchor!I46","v":38.865900000000003},{"$f":"Anchor!J46","v":41.0306},null,{"$f":"Test!H46","v":40.531199999999998},{"$f":"Test!I46","v":38.865600000000001},{"$f":"Test!J46","v":41.029899999999998}]
[null,null,32,{"$f":"Anchor!B47","v":42635.051200000002},{"$f":"Anchor!C47","v":37.471800000000002},{"$f":"Anchor!D47","v":36.167200000000001},{"$f":"Anchor!E47","v":38.0015},{"$f":"Anchor!F47","v":26594.41},{"$f":"Anchor!G47","v":64.81},7.3873361111111109,null,{"$f":"Test!B47","v":42634.345600000001},{"$f":"Test!C47","v":37.471299999999999},{"$f":"Test!D47","v":36.165999999999997},{"$f":"Test!E47","v":38.001199999999997},{"$f":"Test!F47","v":27946.66},{"$f":"Test!G47","v":65.22},7.7629611111111112,null,null,null,null,null,null,null,null,{"$f":"Anchor!H47","v":37.470500000000001},{"$f":"Anchor!I47","v":36.165700000000001},{"$f":"Anchor!J47","v":38.000799999999998},null,{"$f":"Test!H47","v":37.470100000000002},{"$f":"Test!I47","v":36.164400000000001},{"$f":"Test!J47","v":38.000399999999999}]
[null,null,37,{"$f":"Anchor!B48","v":23373.552},{"$f":"Anchor!C48","v":34.476199999999999},{"$f":"Anchor!D48","v":33.500500000000002},{"$f":"Anchor!E48","v":35.021000000000001},{"$f":"Anchor!F48","v":20438.46},{"$f":"Anchor!G48","v":56.14},5.6773499999999997,null,{"$f":"Test!B48","v":23385.467199999999},{"$f":"Test!C48","v":34.474899999999998},{"$f":"Test!D48","v":33.500300000000003},{"$f":"Test!E48","v":35.020800000000001},{"$f":"Test!F48","v":21084.48},{"$f":"Test!G48","v":56.4},5.8567999999999998,null,null,null,null,null,null,null,null,{"$f":"Anchor!H48","v":34.473700000000001},{"$f":"Anchor!I48","v":33.497},{"$f":"Anchor!J48","v":35.019599999999997},null,{"$f":"Test!H48","v":34.4724},{"$f":"Test!I48","v":33.496899999999997},{"$f":"Test!J48","v":35.019399999999997}]
[null,"Kimono1_1920x1080_24_10bit_444",22,{"$f":"Anchor!B49","v":112021.5312},{"$f":"Anchor!C49","v":41.437199999999997},{"$f":"Anchor!D49","v":40.441699999999997},{"$f":"Anchor!E49","v":40.5505},{"$f":"Anchor!F49","v":21102.85},{"$f":"Anchor!G49","v":43.41},5.861902777777777,null,{"$f":"Test!B49","v":112032.73759999999},{"$f":"Test!C49","v":41.4375},{"$f":"Test!D49","v":40.441699999999997},{"$f":"Test!E49","v":40.550600000000003},{"$f":"Test!F49","v":21610.9},{"$f":"Test!G49","v":43.68},6.0030277777777785,null,{"$f":"bdrate(D51:D54,E51:E54,L51:L54,M51:M54)","v":1.913975665297496E-4},{"$f":"bdrate(D51:D54,F51:F54,L51:L54,N51:N54)","v":6.1167098886816262E-5},{"$f":"bdrate(D51:D54,G51:G54,L51:L54,O51:O54)","v":3.3035738402298342E-4},{"$f":"bdrateOld(D51:D54,E51:E54,L51:L54,M51:M54)","v":2.0410772979428948E-4},{"$f":"bdrateOld(D51:D54,F51:F54,L51:L54,N51:N54)","v":3.4655940104810767E-4},{"$f":"bdrateOld(D51:D54,G51:G54,L51:L54,O51:O54)","v":1.5408615772449785E-4},null,{"$f":"Anchor!H49","v":41.436900000000001},{"$f":"Anchor!I49","v":40.441699999999997},{"$f":"Anchor!J49","v":40.5503},null,{"$f":"Test!H49","v":41.437100000000001},{"$f":"Test!I49","v":40.441600000000001},{"$f":"Test!J49","v":40.550400000000003}]
[null,null,27,{"$f":"Anchor!B50","v":45165.025600000001},{"$f":"Anchor!C50","v":40.176900000000003},{"$f":"Anchor!D50","v":35.450000000000003},{"$f":"Anchor!E50","v":38.834200000000003},{"$f":"Anchor!F50","v":18140.439999999999},{"$f":"Anchor!G50","v":33.549999999999997},5.0390111111111109,null,{"$f":"Test!B50","v":45165.232000000004},{"$f":"Test!C50","v":40.176600000000001},{"$f":"Test!D50","v":35.450099999999999},{"$f":"Test!E50","v":38.833599999999997},{"$f":"Test!F50","v":18356.84},{"$f":"Test!G50","v":33.93},5.0991222222222223,null,null,null,null,null,null,null,null,{"$f":"Anchor!H50","v":40.176499999999997},{"$f":"Anchor!I50","v":35.449800000000003},{"$f":"Anchor!J50","v":38.833799999999997},null,{"$f":"Test!H50","v":40.176099999999998},{"$f":"Test!I50","v":35.4499},{"$f":"Test!J50","v":38.833300000000001}]
[null,null,32,{"$f":"Anchor!B51","v":13732.193600000001},{"$f":"Anchor!C51","v":38.7393},{"$f":"Anchor!D51","v":32.688299999999998},{"$f":"Anchor!E51","v":37.471400000000003},{"$f":"Anchor!F51","v":11428.81},{"$f":"Anchor!G51","v":27.44},3.1746694444444441,null,{"$f":"Test!B51","v":13734.8976},{"$f":"Test!C51","v":38.739100000000001},{"$f":"Test!D51","v":32.688200000000002},{"$f":"Test!E51","v":37.471200000000003},{"$f":"Test!F51","v":11995.93},{"$f":"Test!G51","v":27.75},3.3322027777777778,null,null,null,null,null,null,null,null,{"$f":"Anchor!H51","v":38.738399999999999},{"$f":"Anchor!I51","v":32.6873},{"$f":"Anchor!J51","v":37.470799999999997},null,{"$f":"Test!H51","v":38.738199999999999},{"$f":"Test!I51","v":32.687199999999997},{"$f":"Test!J51","v":37.470700000000001}]
[null,null,37,{"$f":"Anchor!B52","v":7111.7776000000003},{"$f":"Anchor!C52","v":36.760199999999998},{"$f":"Anchor!D52","v":31.927700000000002},{"$f":"Anchor!E52","v":35.546599999999998},{"$f":"Anchor!F52","v":7206.57},{"$f":"Anchor!G52","v":24.71},2.0018249999999997,null,{"$f":"Test!B52","v":7111.2079999999996},{"$f":"Test!C52","v":36.76},{"$f":"Test!D52","v":31.926600000000001},{"$f":"Test!E52","v":35.543199999999999},{"$f":"Test!F52","v":7563.41},{"$f":"Test!G52","v":25.17},2.1009472222222221,null,null,null,null,null,null,null,null,{"$f":"Anchor!H52","v":36.758600000000001},{"$f":"Anchor!I52","v":31.9268},{"$f":"Anchor!J52","v":35.545699999999997},null,{"$f":"Test!H52","v":36.758299999999998},{"$f":"Test!I52","v":31.925699999999999},{"$f":"Test!J52","v":35.542400000000001}]
["YUV, text & graphics with motion, 1080p","sc_flyingGraphics_1920x1080_60_8bit_444",22,{"$f":"Anchor!B53","v":81798.644799999995},{"$f":"Anchor!C53","v":48.488700000000001},{"$f":"Anchor!D53","v":49.102800000000002},{"$f":"Anchor!E53","v":49.225999999999999},{"$f":"Anchor!F53","v":32483.66},{"$f":"Anchor!G53","v":62.51},9.0232388888888888,null,{"$f":"Test!B53","v":79733.846399999995},{"$f":"Test!C53","v":49.3812},{"$f":"Test!D53","v":50.355600000000003},{"$f":"Test!E53","v":50.540700000000001},{"$f":"Test!F53","v":30960.17},{"$f":"Test!G53","v":58.74},8.6000472222222211,null,{"$f":"bdrate(D55:D58,E55:E58,L55:L58,M55:M58)","v":-6.4402218550423385E-2},{"$f":"bdrate(D55:D58,F55:F58,L55:L58,N55:N58)","v":-9.6904346822131893E-2},{"$f":"bdrate(D55:D58,G55:G58,L55:L58,O55:O58)","v":-9.8417222675109328E-2},{"$f":"bdrateOld(D55:D58,E55:E58,L55:L58,M55:M58)","v":-6.435775354753559E-2},{"$f":"bdrateOld(D55:D58,F55:F58,L55:L58,N55:N58)","v":-9.6693717258015011E-2},{"$f":"bdrateOld(D55:D58,G55:G58,L55:L58,O55:O58)","v":-9.8259947868721609E-2},null,{"$f":"Anchor!H53","v":48.482500000000002},{"$f":"Anchor!I53","v":49.0929},{"$f":"Anchor!J53","v":49.216000000000001},null,{"$f":"Test!H53","v":49.369500000000002},{"$f":"Test!I53","v":50.338700000000003},{"$f":"Test!J53","v":50.525100000000002}]
[null,null,27,{"$f":"Anchor!B54","v":62143.926399999997},{"$f":"Anchor!C54","v":43.640300000000003},{"$f":"Anchor!D54","v":44.488399999999999},{"$f":"Anchor!E54","v":44.607500000000002},{"$f":"Anchor!F54","v":33205.300000000003},{"$f":"Anchor!G54","v":58.94},9.2236944444444458,null,{"$f":"Test!B54","v":60978.951999999997},{"$f":"Test!C54","v":44.442599999999999},{"$f":"Test!D54","v":45.6691},{"$f":"Test!E54","v":45.8249},{"$f":"Test!F54","v":30830.400000000001},{"$f":"Test!G54","v":56.31},8.5640000000000001,null,null,null,null,null,null,null,null,{"$f":"Anchor!H54","v":43.633699999999997},{"$f":"Anchor!I54","v":44.475200000000001},{"$f":"Anchor!J54","v":44.594200000000001},null,{"$f":"Test!H54","v":44.432000000000002},{"$f":"Test!I54","v":45.653599999999997},{"$f":"Test!J54","v":45.811300000000003}]
[null,null,32,{"$f":"Anchor!B55","v":45344.041599999997},{"$f":"Anchor!C55","v":38.8065},{"$f":"Anchor!D55","v":40.180199999999999},{"$f":"Anchor!E55","v":40.335099999999997},{"$f":"Anchor!F55","v":31622.560000000001},{"$f":"Anchor!G55","v":56.09},8.7840444444444454,null,{"$f":"Test!B55","v":44813.423999999999},{"$f":"Test!C55","v":39.5809},{"$f":"Test!D55","v":41.399700000000003},{"$f":"Test!E55","v":41.540199999999999},{"$f":"Test!F55","v":28811.040000000001},{"$f":"Test!G55","v":53.93},8.0030666666666672,null,null,null,null,null,null,null,null,{"$f":"Anchor!H55","v":38.801000000000002},{"$f":"Anchor!I55","v":40.163800000000002},{"$f":"Anchor!J55","v":40.323099999999997},null,{"$f":"Test!H55","v":39.572299999999998},{"$f":"Test!I55","v":41.385599999999997},{"$f":"Test!J55","v":41.529600000000002}]
[null,null,37,{"$f":"Anchor!B56","v":31330.168000000001},{"$f":"Anchor!C56","v":34.069699999999997},{"$f":"Anchor!D56","v":36.177300000000002},{"$f":"Anchor!E56","v":36.3279},{"$f":"Anchor!F56","v":28681.91},{"$f":"Anchor!G56","v":53.08},7.9671972222222225,null,{"$f":"Test!B56","v":31285.312000000002},{"$f":"Test!C56","v":34.806399999999996},{"$f":"Test!D56","v":37.250700000000002},{"$f":"Test!E56","v":37.462800000000001},{"$f":"Test!F56","v":25133.18},{"$f":"Test!G56","v":51.4},6.9814388888888885,null,null,null,null,null,null,null,null,{"$f":"Anchor!H56","v":34.065199999999997},{"$f":"Anchor!I56","v":36.158000000000001},{"$f":"Anchor!J56","v":36.314500000000002},null,{"$f":"Test!H56","v":34.8005},{"$f":"Test!I56","v":37.235399999999998},{"$f":"Test!J56","v":37.451300000000003}]
[null,"sc_desktop_1920x1080_60_8bit_444",22,{"$f":"Anchor!B57","v":51728.307999999997},{"$f":"Anchor!C57","v":49.395600000000002},{"$f":"Anchor!D57","v":50.049700000000001},{"$f":"Anchor!E57","v":50.484099999999998},{"$f":"Anchor!F57","v":51495.55},{"$f":"Anchor!G57","v":103.57},14.304319444444445,null,{"$f":"Test!B57","v":47933.800799999997},{"$f":"Test!C57","v":53.405700000000003},{"$f":"Test!D57","v":54.084299999999999},{"$f":"Test!E57","v":54.348100000000002},{"$f":"Test!F57","v":49176.480000000003},{"$f":"Test!G57","v":93.68},13.660133333333334,null,{"$f":"bdrate(D59:D62,E59:E62,L59:L62,M59:M62)","v":-0.12202461947866583},{"$f":"bdrate(D59:D62,F59:F62,L59:L62,N59:N62)","v":-0.12192693496599438},{"$f":"bdrate(D59:D62,G59:G62,L59:L62,O59:O62)","v":-0.12581540094067933},{"$f":"bdrateOld(D59:D62,E59:E62,L59:L62,M59:M62)","v":-0.12157258485683198},{"$f":"bdrateOld(D59:D62,F59:F62,L59:L62,N59:N62)","v":-0.1212183485868894},{"$f":"bdrateOld(D59:D62,G59:G62,L59:L62,O59:O62)","v":-0.12508572151385611},null,{"$f":"Anchor!H57","v":49.384599999999999},{"$f":"Anchor!I57","v":50.021999999999998},{"$f":"Anchor!J57","v":50.457599999999999},null,{"$f":"Test!H57","v":53.403199999999998},{"$f":"Test!I57","v":54.0687},{"$f":"Test!J57","v":54.334899999999998}]
[null,null,27,{"$f":"Anchor!B58","v":43221.653599999998},{"$f":"Anchor!C58","v":44.8596},{"$f":"Anchor!D58","v":45.377299999999998},{"$f":"Anchor!E58","v":45.7087},{"$f":"Anchor!F58","v":52327.46},{"$f":"Anchor!G58","v":101.41},14.535405555555556,null,{"$f":"Test!B58","v":41808.135999999999},{"$f":"Test!C58","v":48.112900000000003},{"$f":"Test!D58","v":48.544600000000003},{"$f":"Test!E58","v":49.138500000000001},{"$f":"Test!F58","v":48246.94},{"$f":"Test!G58","v":94.25},13.401927777777779,null,null,null,null,null,null,null,null,{"$f":"Anchor!H58","v":44.849400000000003},{"$f":"Anchor!I58","v":45.345700000000001},{"$f":"Anchor!J58","v":45.680199999999999},null,{"$f":"Test!H58","v":48.107799999999997},{"$f":"Test!I58","v":48.524999999999999},{"$f":"Test!J58","v":49.123600000000003}]
[null,null,32,{"$f":"Anchor!B59","v":35510.229599999999},{"$f":"Anchor!C59","v":39.825499999999998},{"$f":"Anchor!D59","v":40.835900000000002},{"$f":"Anchor!E59","v":40.987900000000003},{"$f":"Anchor!F59","v":50611.03},{"$f":"Anchor!G59","v":98.87},14.058619444444444,null,{"$f":"Test!B59","v":35232.806400000001},{"$f":"Test!C59","v":42.664200000000001},{"$f":"Test!D59","v":43.324399999999997},{"$f":"Test!E59","v":43.720700000000001},{"$f":"Test!F59","v":46431.77},{"$f":"Test!G59","v":93.9},12.897713888888887,null,null,null,null,null,null,null,null,{"$f":"Anchor!H59","v":39.813400000000001},{"$f":"Anchor!I59","v":40.800699999999999},{"$f":"Anchor!J59","v":40.957799999999999},null,{"$f":"Test!H59","v":42.658999999999999},{"$f":"Test!I59","v":43.3003},{"$f":"Test!J59","v":43.702800000000003}]
[null,null,37,{"$f":"Anchor!B60","v":27705.572},{"$f":"Anchor!C60","v":34.894500000000001},{"$f":"Anchor!D60","v":36.556899999999999},{"$f":"Anchor!E60","v":36.319400000000002},{"$f":"Anchor!F60","v":47601.26},{"$f":"Anchor!G60","v":97},13.222572222222222,null,{"$f":"Test!B60","v":27659.157599999999},{"$f":"Test!C60","v":36.798400000000001},{"$f":"Test!D60","v":38.189300000000003},{"$f":"Test!E60","v":38.202100000000002},{"$f":"Test!F60","v":44942.49},{"$f":"Test!G60","v":93.17},12.484024999999999,null,null,null,null,null,null,null,null,{"$f":"Anchor!H60","v":34.880699999999997},{"$f":"Anchor!I60","v":36.503},{"$f":"Anchor!J60","v":36.276699999999998},null,{"$f":"Test!H60","v":36.789700000000003},{"$f":"Test!I60","v":38.137799999999999},{"$f":"Test!J60","v":38.154000000000003}]
[null,"sc_console_1920x1080_60_8bit_444",22,{"$f":"Anchor!B61","v":43863.767200000002},{"$f":"Anchor!C61","v":51.682200000000002},{"$f":"Anchor!D61","v":53.256},{"$f":"Anchor!E61","v":53.881300000000003},{"$f":"Anchor!F61","v":44396.12},{"$f":"Anchor!G61","v":98.47},12.332255555555557,null,{"$f":"Test!B61","v":40925.807200000003},{"$f":"Test!C61","v":55.9833},{"$f":"Test!D61","v":57.313200000000002},{"$f":"Test!E61","v":56.856099999999998},{"$f":"Test!F61","v":42927.83},{"$f":"Test!G61","v":87.21},11.924397222222222,null,{"$f":"bdrate(D63:D66,E63:E66,L63:L66,M63:M66)","v":-0.15154052229389425},{"$f":"bdrate(D63:D66,F63:F66,L63:L66,N63:N66)","v":-0.16086446744538385},{"$f":"bdrate(D63:D66,G63:G66,L63:L66,O63:O66)","v":-0.12916851408402052},{"$f":"bdrateOld(D63:D66,E63:E66,L63:L66,M63:M66)","v":-0.15045697731866314},{"$f":"bdrateOld(D63:D66,F63:F66,L63:L66,N63:N66)","v":-0.16057866757041028},{"$f":"bdrateOld(D63:D66,G63:G66,L63:L66,O63:O66)","v":-0.12780151304222576},null,{"$f":"Anchor!H61","v":51.666899999999998},{"$f":"Anchor!I61","v":53.248800000000003},{"$f":"Anchor!J61","v":53.872500000000002},null,{"$f":"Test!H61","v":55.9694},{"$f":"Test!I61","v":57.290399999999998},{"$f":"Test!J61","v":56.842399999999998}]
[null,null,27,{"$f":"Anchor!B62","v":35884.454400000002},{"$f":"Anchor!C62","v":46.8125},{"$f":"Anchor!D62","v":48.847099999999998},{"$f":"Anchor!E62","v":48.894100000000002},{"$f":"Anchor!F62","v":44367.99},{"$f":"Anchor!G62","v":96.51},12.324441666666667,null,{"$f":"Test!B62","v":34390.808799999999},{"$f":"Test!C62","v":50.503700000000002},{"$f":"Test!D62","v":52.102400000000003},{"$f":"Test!E62","v":51.685200000000002},{"$f":"Test!F62","v":43106.79},{"$f":"Test!G62","v":87.5},11.974108333333334,null,null,null,null,null,null,null,null,{"$f":"Anchor!H62","v":46.7986},{"$f":"Anchor!I62","v":48.840299999999999},{"$f":"Anchor!J62","v":48.8872},null,{"$f":"Test!H62","v":50.492199999999997},{"$f":"Test!I62","v":52.084099999999999},{"$f":"Test!J62","v":51.6723}]
[null,null,32,{"$f":"Anchor!B63","v":28993.496800000001},{"$f":"Anchor!C63","v":41.624899999999997},{"$f":"Anchor!D63","v":45.132899999999999},{"$f":"Anchor!E63","v":44.148899999999998},{"$f":"Anchor!F63","v":43168.89},{"$f":"Anchor!G63","v":94.79},11.991358333333332,null,{"$f":"Test!B63","v":28440.1584},{"$f":"Test!C63","v":44.810899999999997},{"$f":"Test!D63","v":47.719499999999996},{"$f":"Test!E63","v":46.3172},{"$f":"Test!F63","v":39914.949999999997},{"$f":"Test!G63","v":87.82},11.08748611111111,null,null,null,null,null,null,null,null,{"$f":"Anchor!H63","v":41.6158},{"$f":"Anchor!I63","v":45.1248},{"$f":"Anchor!J63","v":44.137500000000003},null,{"$f":"Test!H63","v":44.796199999999999},{"$f":"Test!I63","v":47.702599999999997},{"$f":"Test!J63","v":46.286499999999997}]
[null,null,37,{"$f":"Anchor!B64","v":21455.163199999999},{"$f":"Anchor!C64","v":35.896299999999997},{"$f":"Anchor!D64","v":40.938699999999997},{"$f":"Anchor!E64","v":39.433500000000002},{"$f":"Anchor!F64","v":40954.160000000003},{"$f":"Anchor!G64","v":92.01},11.376155555555556,null,{"$f":"Test!B64","v":21927.6584},{"$f":"Test!C64","v":38.968699999999998},{"$f":"Test!D64","v":43.188299999999998},{"$f":"Test!E64","v":41.642200000000003},{"$f":"Test!F64","v":38347.199999999997},{"$f":"Test!G64","v":86.52},10.651999999999999,null,null,null,null,null,null,null,null,{"$f":"Anchor!H64","v":35.886299999999999},{"$f":"Anchor!I64","v":40.930599999999998},{"$f":"Anchor!J64","v":39.423099999999998},null,{"$f":"Test!H64","v":38.957700000000003},{"$f":"Test!I64","v":43.173499999999997},{"$f":"Test!J64","v":41.618699999999997}]
["YUV, text & graphics with motion,720p","sc_web_browsing_1280x720_30_8bit_300_444_r1",22,{"$f":"Anchor!B65","v":9065.1111999999994},{"$f":"Anchor!C65","v":49.370600000000003},{"$f":"Anchor!D65","v":50.751199999999997},{"$f":"Anchor!E65","v":51.499099999999999},{"$f":"Anchor!F65","v":10093.200000000001},{"$f":"Anchor!G65","v":21.93},2.803666666666667,null,{"$f":"Test!B65","v":8846.0272000000004},{"$f":"Test!C65","v":52.975200000000001},{"$f":"Test!D65","v":54.767000000000003},{"$f":"Test!E65","v":55.023499999999999},{"$f":"Test!F65","v":9553.9500000000007},{"$f":"Test!G65","v":20.81},2.6538750000000002,null,{"$f":"bdrate(D67:D70,E67:E70,L67:L70,M67:M70)","v":-0.1196623964177006},{"$f":"bdrate(D67:D70,F67:F70,L67:L70,N67:N70)","v":-0.12417561305527713},{"$f":"bdrate(D67:D70,G67:G70,L67:L70,O67:O70)","v":-0.13746727903996003},{"$f":"bdrateOld(D67:D70,E67:E70,L67:L70,M67:M70)","v":-0.1185461487862961},{"$f":"bdrateOld(D67:D70,F67:F70,L67:L70,N67:N70)","v":-0.12305193534459213},{"$f":"bdrateOld(D67:D70,G67:G70,L67:L70,O67:O70)","v":-0.13687118971523193},null,{"$f":"Anchor!H65","v":49.320700000000002},{"$f":"Anchor!I65","v":50.7271},{"$f":"Anchor!J65","v":51.470599999999997},null,{"$f":"Test!H65","v":52.6252},{"$f":"Test!I65","v":54.643700000000003},{"$f":"Test!J65","v":54.919899999999998}]
[null,null,27,{"$f":"Anchor!B66","v":6981.76},{"$f":"Anchor!C66","v":45.265300000000003},{"$f":"Anchor!D66","v":46.161700000000003},{"$f":"Anchor!E66","v":46.594900000000003},{"$f":"Anchor!F66","v":10136.39},{"$f":"Anchor!G66","v":20.67},2.8156638888888885,null,{"$f":"Test!B66","v":7039.4672},{"$f":"Test!C66","v":48.322899999999997},{"$f":"Test!D66","v":49.518099999999997},{"$f":"Test!E66","v":49.962800000000001},{"$f":"Test!F66","v":9320.81},{"$f":"Test!G66","v":20.350000000000001},2.5891138888888889,null,null,null,null,null,null,null,null,{"$f":"Anchor!H66","v":45.21},{"$f":"Anchor!I66","v":46.1355},{"$f":"Anchor!J66","v":46.561599999999999},null,{"$f":"Test!H66","v":48.041899999999998},{"$f":"Test!I66","v":49.473599999999998},{"$f":"Test!J66","v":49.904400000000003}]
[null,null,32,{"$f":"Anchor!B67","v":5151.4040000000005},{"$f":"Anchor!C67","v":40.839199999999998},{"$f":"Anchor!D67","v":41.793900000000001},{"$f":"Anchor!E67","v":42.106699999999996},{"$f":"Anchor!F67","v":9465.2900000000009},{"$f":"Anchor!G67","v":20.2},{"$f":"secToHours(H69)","v":2.6292472222222223},null,{"$f":"Test!B67","v":5215.8624},{"$f":"Test!C67","v":42.592100000000002},{"$f":"Test!D67","v":43.531599999999997},{"$f":"Test!E67","v":44.228099999999998},{"$f":"Test!F67","v":8791.5300000000007},{"$f":"Test!G67","v":20.010000000000002},{"$f":"secToHours(P69)","v":2.4420916666666668},null,null,null,null,null,null,null,null,{"$f":"Anchor!H67","v":40.798900000000003},{"$f":"Anchor!I67","v":41.770800000000001},{"$f":"Anchor!J67","v":42.077800000000003},null,{"$f":"Test!H67","v":42.4467},{"$f":"Test!I67","v":43.482799999999997},{"$f":"Test!J67","v":44.170400000000001}]
[null,null,37,{"$f":"Anchor!B68","v":3480.2608},{"$f":"Anchor!C68","v":35.997399999999999},{"$f":"Anchor!D68","v":36.503700000000002},{"$f":"Anchor!E68","v":36.778700000000001},{"$f":"Anchor!F68","v":8415.6299999999992},{"$f":"Anchor!G68","v":19.02},2.3376749999999999,null,{"$f":"Test!B68","v":3551.0455999999999},{"$f":"Test!C68","v":37.103700000000003},{"$f":"Test!D68","v":38.027299999999997},{"$f":"Test!E68","v":38.702199999999998},{"$f":"Test!F68","v":8381.9599999999991},{"$f":"Test!G68","v":19.18},2.328322222222222,null,null,null,null,null,null,null,null,{"$f":"Anchor!H68","v":35.970399999999998},{"$f":"Anchor!I68","v":36.4726},{"$f":"Anchor!J68","v":36.7333},null,{"$f":"Test!H68","v":37.052500000000002},{"$f":"Test!I68","v":37.977400000000003},{"$f":"Test!J68","v":38.6357}]
[null,"sc_map_1280x720_60_8bit_444",22,{"$f":"Anchor!B69","v":44440.426399999997},{"$f":"Anchor!C69","v":46.968000000000004},{"$f":"Anchor!D69","v":49.461300000000001},{"$f":"Anchor!E69","v":50.758899999999997},{"$f":"Anchor!F69","v":26920.42},{"$f":"Anchor!G69","v":64.239999999999995},7.477894444444444,null,{"$f":"Test!B69","v":44616.025600000001},{"$f":"Test!C69","v":47.578800000000001},{"$f":"Test!D69","v":50.830199999999998},{"$f":"Test!E69","v":52.377200000000002},{"$f":"Test!F69","v":27517.79},{"$f":"Test!G69","v":60.5},7.6438305555555557,null,{"$f":"bdrate(D71:D74,E71:E74,L71:L74,M71:M74)","v":-3.531834890269836E-2},{"$f":"bdrate(D71:D74,F71:F74,L71:L74,N71:N74)","v":-9.691634010492356E-2},{"$f":"bdrate(D71:D74,G71:G74,L71:L74,O71:O74)","v":-0.14827479766487384},{"$f":"bdrateOld(D71:D74,E71:E74,L71:L74,M71:M74)","v":-3.5143368008881182E-2},{"$f":"bdrateOld(D71:D74,F71:F74,L71:L74,N71:N74)","v":-9.6990886562861589E-2},{"$f":"bdrateOld(D71:D74,G71:G74,L71:L74,O71:O74)","v":-0.14900044019714331},null,{"$f":"Anchor!H69","v":46.572699999999998},{"$f":"Anchor!I69","v":48.982999999999997},{"$f":"Anchor!J69","v":50.293799999999997},null,{"$f":"Test!H69","v":47.1188},{"$f":"Test!I69","v":50.198599999999999},{"$f":"Test!J69","v":51.793300000000002}]
[null,null,27,{"$f":"Anchor!B70","v":29738.553599999999},{"$f":"Anchor!C70","v":42.494999999999997},{"$f":"Anchor!D70","v":46.124299999999998},{"$f":"Anchor!E70","v":47.820599999999999},{"$f":"Anchor!F70","v":25053.21},{"$f":"Anchor!G70","v":57.89},6.959225,null,{"$f":"Test!B70","v":29769.520799999998},{"$f":"Test!C70","v":42.853299999999997},{"$f":"Test!D70","v":46.955100000000002},{"$f":"Test!E70","v":48.931800000000003},{"$f":"Test!F70","v":25655.43},{"$f":"Test!G70","v":57.41},7.1265083333333337,null,null,null,null,null,null,null,null,{"$f":"Anchor!H70","v":42.035699999999999},{"$f":"Anchor!I70","v":45.582799999999999},{"$f":"Anchor!J70","v":47.426600000000001},null,{"$f":"Test!H70","v":42.311399999999999},{"$f":"Test!I70","v":46.233699999999999},{"$f":"Test!J70","v":48.338900000000002}]
[null,null,32,{"$f":"Anchor!B71","v":18890.026399999999},{"$f":"Anchor!C71","v":38.061},{"$f":"Anchor!D71","v":42.589799999999997},{"$f":"Anchor!E71","v":44.888100000000001},{"$f":"Anchor!F71","v":21311.119999999999},{"$f":"Anchor!G71","v":51.6},5.9197555555555557,null,{"$f":"Test!B71","v":18847.7048},{"$f":"Test!C71","v":38.378399999999999},{"$f":"Test!D71","v":43.319099999999999},{"$f":"Test!E71","v":45.927},{"$f":"Test!F71","v":21262.41},{"$f":"Test!G71","v":52.17},5.9062250000000001,null,null,null,null,null,null,null,null,{"$f":"Anchor!H71","v":37.549700000000001},{"$f":"Anchor!I71","v":42.116599999999998},{"$f":"Anchor!J71","v":44.632899999999999},null,{"$f":"Test!H71","v":37.770299999999999},{"$f":"Test!I71","v":42.653100000000002},{"$f":"Test!J71","v":45.482199999999999}]
[null,null,37,{"$f":"Anchor!B72","v":11754.3056},{"$f":"Anchor!C72","v":34.300400000000003},{"$f":"Anchor!D72","v":38.926400000000001},{"$f":"Anchor!E72","v":41.4923},{"$f":"Anchor!F72","v":17255.05},{"$f":"Anchor!G72","v":45.2},4.7930694444444439,null,{"$f":"Test!B72","v":11848.400799999999},{"$f":"Test!C72","v":34.582700000000003},{"$f":"Test!D72","v":39.776200000000003},{"$f":"Test!E72","v":42.745899999999999},{"$f":"Test!F72","v":17394.240000000002},{"$f":"Test!G72","v":46.07},4.8317333333333341,null,null,null,null,null,null,null,null,{"$f":"Anchor!H72","v":33.862699999999997},{"$f":"Anchor!I72","v":38.553400000000003},{"$f":"Anchor!J72","v":41.3703},null,{"$f":"Test!H72","v":34.06},{"$f":"Test!I72","v":39.169600000000003},{"$f":"Test!J72","v":42.456000000000003}]
[null,"sc_programming_1280x720_60_8bit_444",22,{"$f":"Anchor!B73","v":43134.401599999997},{"$f":"Anchor!C73","v":48.0075},{"$f":"Anchor!D73","v":47.850499999999997},{"$f":"Anchor!E73","v":48.3123},{"$f":"Anchor!F73","v":24802.48},{"$f":"Anchor!G73","v":60.59},6.8895777777777774,null,{"$f":"Test!B73","v":42959.039199999999},{"$f":"Test!C73","v":48.334000000000003},{"$f":"Test!D73","v":48.102499999999999},{"$f":"Test!E73","v":48.63},{"$f":"Test!F73","v":25093.040000000001},{"$f":"Test!G73","v":61.3},6.9702888888888888,null,{"$f":"bdrate(D75:D78,E75:E78,L75:L78,M75:M78)","v":-3.2737689350135768E-2},{"$f":"bdrate(D75:D78,F75:F78,L75:L78,N75:N78)","v":-2.9009041737683483E-2},{"$f":"bdrate(D75:D78,G75:G78,L75:L78,O75:O78)","v":-3.8420923924063821E-2},{"$f":"bdrateOld(D75:D78,E75:E78,L75:L78,M75:M78)","v":-3.2857685298375516E-2},{"$f":"bdrateOld(D75:D78,F75:F78,L75:L78,N75:N78)","v":-2.8770333416588967E-2},{"$f":"bdrateOld(D75:D78,G75:G78,L75:L78,O75:O78)","v":-3.8075492880436879E-2},null,{"$f":"Anchor!H73","v":47.977400000000003},{"$f":"Anchor!I73","v":47.832000000000001},{"$f":"Anchor!J73","v":48.296999999999997},null,{"$f":"Test!H73","v":48.299100000000003},{"$f":"Test!I73","v":48.0794},{"$f":"Test!J73","v":48.610100000000003}]
[null,null,27,{"$f":"Anchor!B74","v":29511.300800000001},{"$f":"Anchor!C74","v":43.796100000000003},{"$f":"Anchor!D74","v":43.628700000000002},{"$f":"Anchor!E74","v":44.227899999999998},{"$f":"Anchor!F74","v":23593.17},{"$f":"Anchor!G74","v":55.83},6.5536583333333329,null,{"$f":"Test!B74","v":29618.842400000001},{"$f":"Test!C74","v":44.150199999999998},{"$f":"Test!D74","v":43.9221},{"$f":"Test!E74","v":44.5625},{"$f":"Test!F74","v":23995.3},{"$f":"Test!G74","v":56.56},6.6653611111111113,null,null,null,null,null,null,null,null,{"$f":"Anchor!H74","v":43.764699999999998},{"$f":"Anchor!I74","v":43.611400000000003},{"$f":"Anchor!J74","v":44.213999999999999},null,{"$f":"Test!H74","v":44.113300000000002},{"$f":"Test!I74","v":43.901200000000003},{"$f":"Test!J74","v":44.546100000000003}]
[null,null,32,{"$f":"Anchor!B75","v":19448.412799999998},{"$f":"Anchor!C75","v":39.270499999999998},{"$f":"Anchor!D75","v":39.639299999999999},{"$f":"Anchor!E75","v":40.467199999999998},{"$f":"Anchor!F75","v":21445.93},{"$f":"Anchor!G75","v":50.45},5.9572027777777778,null,{"$f":"Test!B75","v":19659.826400000002},{"$f":"Test!C75","v":39.8078},{"$f":"Test!D75","v":40.033200000000001},{"$f":"Test!E75","v":40.951599999999999},{"$f":"Test!F75","v":21512.959999999999},{"$f":"Test!G75","v":51.97},5.9758222222222219,null,null,null,null,null,null,null,null,{"$f":"Anchor!H75","v":39.246899999999997},{"$f":"Anchor!I75","v":39.616199999999999},{"$f":"Anchor!J75","v":40.443199999999997},null,{"$f":"Test!H75","v":39.777700000000003},{"$f":"Test!I75","v":40.006500000000003},{"$f":"Test!J75","v":40.9285}]
[null,null,37,{"$f":"Anchor!B76","v":12819.74},{"$f":"Anchor!C76","v":34.915199999999999},{"$f":"Anchor!D76","v":36.437399999999997},{"$f":"Anchor!E76","v":37.401699999999998},{"$f":"Anchor!F76","v":18503.47},{"$f":"Anchor!G76","v":46.01},5.1398527777777785,null,{"$f":"Test!B76","v":12910.6096},{"$f":"Test!C76","v":35.275300000000001},{"$f":"Test!D76","v":36.743699999999997},{"$f":"Test!E76","v":37.828800000000001},{"$f":"Test!F76","v":18784.05},{"$f":"Test!G76","v":47.7},5.2177916666666668,null,null,null,null,null,null,null,null,{"$f":"Anchor!H76","v":34.894599999999997},{"$f":"Anchor!I76","v":36.392800000000001},{"$f":"Anchor!J76","v":37.346499999999999},null,{"$f":"Test!H76","v":35.245699999999999},{"$f":"Test!I76","v":36.694899999999997},{"$f":"Test!J76","v":37.779899999999998}]
[null,"sc_SlideShow_1280x720_20_8bit_500_444",22,{"$f":"Anchor!B77","v":4661.9337999999998},{"$f":"Anchor!C77","v":51.013199999999998},{"$f":"Anchor!D77","v":55.555500000000002},{"$f":"Anchor!E77","v":56.712499999999999},{"$f":"Anchor!F77","v":11832.48},{"$f":"Anchor!G77","v":34.159999999999997},3.2867999999999999,null,{"$f":"Test!B77","v":4657.6701000000003},{"$f":"Test!C77","v":51.125},{"$f":"Test!D77","v":55.774799999999999},{"$f":"Test!E77","v":56.955199999999998},{"$f":"Test!F77","v":12311.42},{"$f":"Test!G77","v":34.92},3.4198388888888891,null,{"$f":"bdrate(D79:D82,E79:E82,L79:L82,M79:M82)","v":-1.6910626883929747E-2},{"$f":"bdrate(D79:D82,F79:F82,L79:L82,N79:N82)","v":-4.5179689901409747E-2},{"$f":"bdrate(D79:D82,G79:G82,L79:L82,O79:O82)","v":-5.7039836949354661E-2},{"$f":"bdrateOld(D79:D82,E79:E82,L79:L82,M79:M82)","v":-1.694183979694408E-2},{"$f":"bdrateOld(D79:D82,F79:F82,L79:L82,N79:N82)","v":-4.5156555526821185E-2},{"$f":"bdrateOld(D79:D82,G79:G82,L79:L82,O79:O82)","v":-5.7040355735554105E-2},null,{"$f":"Anchor!H77","v":49.919699999999999},{"$f":"Anchor!I77","v":54.191299999999998},{"$f":"Anchor!J77","v":55.178100000000001},null,{"$f":"Test!H77","v":49.982100000000003},{"$f":"Test!I77","v":54.3508},{"$f":"Test!J77","v":55.334099999999999}]
[null,null,27,{"$f":"Anchor!B78","v":2964.2166000000002},{"$f":"Anchor!C78","v":47.482199999999999},{"$f":"Anchor!D78","v":52.533999999999999},{"$f":"Anchor!E78","v":53.859499999999997},{"$f":"Anchor!F78","v":10575.1},{"$f":"Anchor!G78","v":30.86},2.937527777777778,null,{"$f":"Test!B78","v":2961.6435000000001},{"$f":"Test!C78","v":47.6004},{"$f":"Test!D78","v":52.7971},{"$f":"Test!E78","v":54.148600000000002},{"$f":"Test!F78","v":11375.51},{"$f":"Test!G78","v":32.24},3.1598638888888888,null,null,null,null,null,null,null,null,{"$f":"Anchor!H78","v":46.448799999999999},{"$f":"Anchor!I78","v":51.0411},{"$f":"Anchor!J78","v":52.218600000000002},null,{"$f":"Test!H78","v":46.521500000000003},{"$f":"Test!I78","v":51.242199999999997},{"$f":"Test!J78","v":52.421599999999998}]
[null,null,32,{"$f":"Anchor!B79","v":1904.7302},{"$f":"Anchor!C79","v":43.774999999999999},{"$f":"Anchor!D79","v":49.576599999999999},{"$f":"Anchor!E79","v":51.186900000000001},{"$f":"Anchor!F79","v":9555.25},{"$f":"Anchor!G79","v":29.32},2.654236111111111,null,{"$f":"Test!B79","v":1906.375},{"$f":"Test!C79","v":43.939900000000002},{"$f":"Test!D79","v":49.943199999999997},{"$f":"Test!E79","v":51.591900000000003},{"$f":"Test!F79","v":10262.31},{"$f":"Test!G79","v":30.03},2.8506416666666667,null,null,null,null,null,null,null,null,{"$f":"Anchor!H79","v":42.867100000000001},{"$f":"Anchor!I79","v":47.985100000000003},{"$f":"Anchor!J79","v":49.490099999999998},null,{"$f":"Test!H79","v":42.990400000000001},{"$f":"Test!I79","v":48.257599999999996},{"$f":"Test!J79","v":49.782499999999999}]
[null,null,37,{"$f":"Anchor!B80","v":1211.6022},{"$f":"Anchor!C80","v":39.822200000000002},{"$f":"Anchor!D80","v":46.631},{"$f":"Anchor!E80","v":48.372599999999998},{"$f":"Anchor!F80","v":8822.65},{"$f":"Anchor!G80","v":27.29},2.450736111111111,null,{"$f":"Test!B80","v":1218.2915},{"$f":"Test!C80","v":40.034999999999997},{"$f":"Test!D80","v":46.987099999999998},{"$f":"Test!E80","v":48.970100000000002},{"$f":"Test!F80","v":9334.64},{"$f":"Test!G80","v":27.86},2.5929555555555552,null,null,null,null,null,null,null,null,{"$f":"Anchor!H80","v":39.032800000000002},{"$f":"Anchor!I80","v":45.075899999999997},{"$f":"Anchor!J80","v":46.800899999999999},null,{"$f":"Test!H80","v":39.2455},{"$f":"Test!I80","v":45.328000000000003},{"$f":"Test!J80","v":47.168399999999998}]
["YUV, mixed content, 1440p","Basketball_Screen_2560x1440_60p_8b444",22,{"$f":"Anchor!B81","v":135472.77439999999},{"$f":"Anchor!C81","v":46.22},{"$f":"Anchor!D81","v":49.808599999999998},{"$f":"Anchor!E81","v":49.802100000000003},{"$f":"Anchor!F81","v":43046.5},{"$f":"Anchor!G81","v":123.6},11.957361111111112,null,{"$f":"Test!B81","v":135112.448},{"$f":"Test!C81","v":46.306199999999997},{"$f":"Test!D81","v":49.949800000000003},{"$f":"Test!E81","v":49.960599999999999},{"$f":"Test!F81","v":42521.36},{"$f":"Test!G81","v":120.36},11.811488888888888,null,{"$f":"bdrate(D83:D86,E83:E86,L83:L86,M83:M86)","v":-1.1337259583686476E-2},{"$f":"bdrate(D83:D86,F83:F86,L83:L86,N83:N86)","v":-2.9503614958727886E-2},{"$f":"bdrate(D83:D86,G83:G86,L83:L86,O83:O86)","v":-2.9434621164610042E-2},{"$f":"bdrateOld(D83:D86,E83:E86,L83:L86,M83:M86)","v":-1.1347652290459087E-2},{"$f":"bdrateOld(D83:D86,F83:F86,L83:L86,N83:N86)","v":-2.956301749568413E-2},{"$f":"bdrateOld(D83:D86,G83:G86,L83:L86,O83:O86)","v":-2.9438072551880357E-2},null,{"$f":"Anchor!H81","v":46.22},{"$f":"Anchor!I81","v":49.808399999999999},{"$f":"Anchor!J81","v":49.801900000000003},null,{"$f":"Test!H81","v":46.306199999999997},{"$f":"Test!I81","v":49.949599999999997},{"$f":"Test!J81","v":49.960500000000003}]
[null,null,27,{"$f":"Anchor!B82","v":92226.595199999996},{"$f":"Anchor!C82","v":42.525100000000002},{"$f":"Anchor!D82","v":46.1417},{"$f":"Anchor!E82","v":46.146700000000003},{"$f":"Anchor!F82","v":40814.43},{"$f":"Anchor!G82","v":111.19},11.337341666666667,null,{"$f":"Test!B82","v":92186.12},{"$f":"Test!C82","v":42.64},{"$f":"Test!D82","v":46.370699999999999},{"$f":"Test!E82","v":46.396900000000002},{"$f":"Test!F82","v":40063.65},{"$f":"Test!G82","v":109.97},11.128791666666666,null,null,null,null,null,null,null,null,{"$f":"Anchor!H82","v":42.524999999999999},{"$f":"Anchor!I82","v":46.141399999999997},{"$f":"Anchor!J82","v":46.146500000000003},null,{"$f":"Test!H82","v":42.639899999999997},{"$f":"Test!I82","v":46.3705},{"$f":"Test!J82","v":46.396599999999999}]
[null,null,32,{"$f":"Anchor!B83","v":62061.617599999998},{"$f":"Anchor!C83","v":38.658299999999997},{"$f":"Anchor!D83","v":42.323500000000003},{"$f":"Anchor!E83","v":42.335900000000002},{"$f":"Anchor!F83","v":36793.26},{"$f":"Anchor!G83","v":100.83},10.22035,null,{"$f":"Test!B83","v":62549.782399999996},{"$f":"Test!C83","v":38.868600000000001},{"$f":"Test!D83","v":42.792900000000003},{"$f":"Test!E83","v":42.772500000000001},{"$f":"Test!F83","v":36157.61},{"$f":"Test!G83","v":101.57},10.043780555555555,null,null,null,null,null,null,null,null,{"$f":"Anchor!H83","v":38.658200000000001},{"$f":"Anchor!I83","v":42.3232},{"$f":"Anchor!J83","v":42.335700000000003},null,{"$f":"Test!H83","v":38.868499999999997},{"$f":"Test!I83","v":42.7926},{"$f":"Test!J83","v":42.772100000000002}]
[null,null,37,{"$f":"Anchor!B84","v":40752.601600000002},{"$f":"Anchor!C84","v":34.762},{"$f":"Anchor!D84","v":38.630099999999999},{"$f":"Anchor!E84","v":38.624600000000001},{"$f":"Anchor!F84","v":31649.5},{"$f":"Anchor!G84","v":93.75},8.7915277777777785,null,{"$f":"Test!B84","v":41049.323199999999},{"$f":"Test!C84","v":34.834200000000003},{"$f":"Test!D84","v":38.846499999999999},{"$f":"Test!E84","v":38.8596},{"$f":"Test!F84","v":32357.55},{"$f":"Test!G84","v":94.13},8.9882083333333327,null,null,null,null,null,null,null,null,{"$f":"Anchor!H84","v":34.761899999999997},{"$f":"Anchor!I84","v":38.6297},{"$f":"Anchor!J84","v":38.624400000000001},null,{"$f":"Test!H84","v":34.834099999999999},{"$f":"Test!I84","v":38.846200000000003},{"$f":"Test!J84","v":38.859200000000001}]
[null,"MissionControlClip2_2560x1440_60p_8b444",22,{"$f":"Anchor!B85","v":107239.7936},{"$f":"Anchor!C85","v":46.171799999999998},{"$f":"Anchor!D85","v":50.765000000000001},{"$f":"Anchor!E85","v":51.711599999999997},{"$f":"Anchor!F85","v":34842.400000000001},{"$f":"Anchor!G85","v":116.6},9.6784444444444446,null,{"$f":"Test!B85","v":107208.4688},{"$f":"Test!C85","v":46.211199999999998},{"$f":"Test!D85","v":50.857199999999999},{"$f":"Test!E85","v":51.804099999999998},{"$f":"Test!F85","v":35518.269999999997},{"$f":"Test!G85","v":117.94},9.8661861111111104,null,{"$f":"bdrate(D87:D90,E87:E90,L87:L90,M87:M90)","v":-8.1527495402409222E-3},{"$f":"bdrate(D87:D90,F87:F90,L87:L90,N87:N90)","v":-2.2965299395185768E-2},{"$f":"bdrate(D87:D90,G87:G90,L87:L90,O87:O90)","v":-1.9975492822661534E-2},{"$f":"bdrateOld(D87:D90,E87:E90,L87:L90,M87:M90)","v":-8.1895654856238842E-3},{"$f":"bdrateOld(D87:D90,F87:F90,L87:L90,N87:N90)","v":-2.2943905666841791E-2},{"$f":"bdrateOld(D87:D90,G87:G90,L87:L90,O87:O90)","v":-1.9903390379978125E-2},null,{"$f":"Anchor!H85","v":46.0901},{"$f":"Anchor!I85","v":50.699599999999997},{"$f":"Anchor!J85","v":51.627299999999998},null,{"$f":"Test!H85","v":46.118299999999998},{"$f":"Test!I85","v":50.790399999999998},{"$f":"Test!J85","v":51.728499999999997}]
[null,null,27,{"$f":"Anchor!B86","v":69919.988800000006},{"$f":"Anchor!C86","v":42.690300000000001},{"$f":"Anchor!D86","v":47.768799999999999},{"$f":"Anchor!E86","v":48.478900000000003},{"$f":"Anchor!F86","v":31593.439999999999},{"$f":"Anchor!G86","v":106.22},8.7759555555555551,null,{"$f":"Test!B86","v":69930.792000000001},{"$f":"Test!C86","v":42.754100000000001},{"$f":"Test!D86","v":47.932699999999997},{"$f":"Test!E86","v":48.619799999999998},{"$f":"Test!F86","v":31698.04},{"$f":"Test!G86","v":107.2},8.8050111111111118,null,null,null,null,null,null,null,null,{"$f":"Anchor!H86","v":42.622399999999999},{"$f":"Anchor!I86","v":47.632300000000001},{"$f":"Anchor!J86","v":48.3078},null,{"$f":"Test!H86","v":42.672800000000002},{"$f":"Test!I86","v":47.813800000000001},{"$f":"Test!J86","v":48.462699999999998}]
[null,null,32,{"$f":"Anchor!B87","v":42911.252800000002},{"$f":"Anchor!C87","v":39.19},{"$f":"Anchor!D87","v":44.5443},{"$f":"Anchor!E87","v":45.195300000000003},{"$f":"Anchor!F87","v":28216.71},{"$f":"Anchor!G87","v":95.87},7.8379750000000001,null,{"$f":"Test!B87","v":42968.846400000002},{"$f":"Test!C87","v":39.2712},{"$f":"Test!D87","v":44.720500000000001},{"$f":"Test!E87","v":45.356900000000003},{"$f":"Test!F87","v":28162.85},{"$f":"Test!G87","v":97.27},7.8230138888888883,null,null,null,null,null,null,null,null,{"$f":"Anchor!H87","v":39.142699999999998},{"$f":"Anchor!I87","v":44.304099999999998},{"$f":"Anchor!J87","v":44.880299999999998},null,{"$f":"Test!H87","v":39.215400000000002},{"$f":"Test!I87","v":44.533299999999997},{"$f":"Test!J87","v":45.118200000000002}]
[null,null,37,{"$f":"Anchor!B88","v":26026.779200000001},{"$f":"Anchor!C88","v":35.636299999999999},{"$f":"Anchor!D88","v":41.512},{"$f":"Anchor!E88","v":42.343600000000002},{"$f":"Anchor!F88","v":25592.58},{"$f":"Anchor!G88","v":86.55},7.1090500000000008,null,{"$f":"Test!B88","v":26109.513599999998},{"$f":"Test!C88","v":35.697400000000002},{"$f":"Test!D88","v":41.648699999999998},{"$f":"Test!E88","v":42.4497},{"$f":"Test!F88","v":25788.41},{"$f":"Test!G88","v":87.78},7.1634472222222225,null,null,null,null,null,null,null,null,{"$f":"Anchor!H88","v":35.582500000000003},{"$f":"Anchor!I88","v":41.103900000000003},{"$f":"Anchor!J88","v":41.854500000000002},null,{"$f":"Test!H88","v":35.648000000000003},{"$f":"Test!I88","v":41.340200000000003},{"$f":"Test!J88","v":42.063400000000001}]
["YUV, mixed content, 1080p","MissionControlClip3_1920x1080_60p_8b444",22,{"$f":"Anchor!B89","v":74375.718399999998},{"$f":"Anchor!C89","v":46.838900000000002},{"$f":"Anchor!D89","v":49.700400000000002},{"$f":"Anchor!E89","v":50.018500000000003},{"$f":"Anchor!F89","v":39616.76},{"$f":"Anchor!G89","v":131.76},11.004655555555557,null,{"$f":"Test!B89","v":74194.411200000002},{"$f":"Test!C89","v":46.990699999999997},{"$f":"Test!D89","v":49.921599999999998},{"$f":"Test!E89","v":50.284500000000001},{"$f":"Test!F89","v":40443.74},{"$f":"Test!G89","v":132.38},11.234372222222222,null,{"$f":"bdrate(D91:D94,E91:E94,L91:L94,M91:M94)","v":-2.4226269093183372E-2},{"$f":"bdrate(D91:D94,F91:F94,L91:L94,N91:N94)","v":-3.5379956468680529E-2},{"$f":"bdrate(D91:D94,G91:G94,L91:L94,O91:O94)","v":-3.3549919855643706E-2},{"$f":"bdrateOld(D91:D94,E91:E94,L91:L94,M91:M94)","v":-2.4320103392933667E-2},{"$f":"bdrateOld(D91:D94,F91:F94,L91:L94,N91:N94)","v":-3.5199991033143418E-2},{"$f":"bdrateOld(D91:D94,G91:G94,L91:L94,O91:O94)","v":-3.3478411147326192E-2},null,{"$f":"Anchor!H89","v":46.696199999999997},{"$f":"Anchor!I89","v":49.628100000000003},{"$f":"Anchor!J89","v":49.946199999999997},null,{"$f":"Test!H89","v":46.831099999999999},{"$f":"Test!I89","v":49.855600000000003},{"$f":"Test!J89","v":50.226700000000001}]
[null,null,27,{"$f":"Anchor!B90","v":51725.803200000002},{"$f":"Anchor!C90","v":42.900300000000001},{"$f":"Anchor!D90","v":45.918300000000002},{"$f":"Anchor!E90","v":46.211100000000002},{"$f":"Anchor!F90","v":37548.639999999999},{"$f":"Anchor!G90","v":121.12},10.430177777777777,null,{"$f":"Test!B90","v":51645.872000000003},{"$f":"Test!C90","v":43.1205},{"$f":"Test!D90","v":46.159199999999998},{"$f":"Test!E90","v":46.4544},{"$f":"Test!F90","v":37509.760000000002},{"$f":"Test!G90","v":121.61},10.419377777777779,null,null,null,null,null,null,null,null,{"$f":"Anchor!H90","v":42.778500000000001},{"$f":"Anchor!I90","v":45.841099999999997},{"$f":"Anchor!J90","v":46.106900000000003},null,{"$f":"Test!H90","v":42.978700000000003},{"$f":"Test!I90","v":46.091799999999999},{"$f":"Test!J90","v":46.365499999999997}]
[null,null,32,{"$f":"Anchor!B91","v":34844.843200000003},{"$f":"Anchor!C91","v":38.717799999999997},{"$f":"Anchor!D91","v":41.923200000000001},{"$f":"Anchor!E91","v":42.514099999999999},{"$f":"Anchor!F91","v":34784.82},{"$f":"Anchor!G91","v":112.01},9.6624499999999998,null,{"$f":"Test!B91","v":34903.617599999998},{"$f":"Test!C91","v":39.071300000000001},{"$f":"Test!D91","v":42.418399999999998},{"$f":"Test!E91","v":42.948399999999999},{"$f":"Test!F91","v":34783.65},{"$f":"Test!G91","v":112.24},9.6621249999999996,null,null,null,null,null,null,null,null,{"$f":"Anchor!H91","v":38.630299999999998},{"$f":"Anchor!I91","v":41.802799999999998},{"$f":"Anchor!J91","v":42.348599999999998},null,{"$f":"Test!H91","v":38.959000000000003},{"$f":"Test!I91","v":42.331400000000002},{"$f":"Test!J91","v":42.819800000000001}]
[null,null,37,{"$f":"Anchor!B92","v":22731.869600000002},{"$f":"Anchor!C92","v":34.566800000000001},{"$f":"Anchor!D92","v":38.402799999999999},{"$f":"Anchor!E92","v":38.939700000000002},{"$f":"Anchor!F92","v":31072.09},{"$f":"Anchor!G92","v":101.97},8.6311361111111111,null,{"$f":"Test!B92","v":22871.8976},{"$f":"Test!C92","v":34.746299999999998},{"$f":"Test!D92","v":38.709699999999998},{"$f":"Test!E92","v":39.203499999999998},{"$f":"Test!F92","v":31370.97},{"$f":"Test!G92","v":102.92},8.7141583333333337,null,null,null,null,null,null,null,null,{"$f":"Anchor!H92","v":34.497700000000002},{"$f":"Anchor!I92","v":38.201099999999997},{"$f":"Anchor!J92","v":38.613900000000001},null,{"$f":"Test!H92","v":34.67},{"$f":"Test!I92","v":38.525799999999997},{"$f":"Test!J92","v":38.9056}]
["YUV, Animation, 720p","sc_robot_1280x720_30_8bit_300_444",22,{"$f":"Anchor!B93","v":37505.267999999996},{"$f":"Anchor!C93","v":42.479599999999998},{"$f":"Anchor!D93","v":45.199300000000001},{"$f":"Anchor!E93","v":44.796799999999998},{"$f":"Anchor!F93","v":20994.14},{"$f":"Anchor!G93","v":46.55},5.8317055555555557,null,{"$f":"Test!B93","v":37563.652800000003},{"$f":"Test!C93","v":42.480699999999999},{"$f":"Test!D93","v":45.220199999999998},{"$f":"Test!E93","v":44.819800000000001},{"$f":"Test!F93","v":20241.57},{"$f":"Test!G93","v":47.16},5.6226583333333329,null,{"$f":"bdrate(D95:D98,E95:E98,L95:L98,M95:M98)","v":1.2384779605221219E-3},{"$f":"bdrate(D95:D98,F95:F98,L95:L98,N95:N98)","v":-7.5025267938899631E-4},{"$f":"bdrate(D95:D98,G95:G98,L95:L98,O95:O98)","v":-5.4307662309327487E-4},{"$f":"bdrateOld(D95:D98,E95:E98,L95:L98,M95:M98)","v":1.2734566025036642E-3},{"$f":"bdrateOld(D95:D98,F95:F98,L95:L98,N95:N98)","v":-6.9401317616635261E-4},{"$f":"bdrateOld(D95:D98,G95:G98,L95:L98,O95:O98)","v":-4.7835329693257655E-4},null,{"$f":"Anchor!H93","v":42.479500000000002},{"$f":"Anchor!I93","v":45.197800000000001},{"$f":"Anchor!J93","v":44.795400000000001},null,{"$f":"Test!H93","v":42.480600000000003},{"$f":"Test!I93","v":45.218699999999998},{"$f":"Test!J93","v":44.818399999999997}]
[null,null,27,{"$f":"Anchor!B94","v":17515.839199999999},{"$f":"Anchor!C94","v":38.6205},{"$f":"Anchor!D94","v":42.427900000000001},{"$f":"Anchor!E94","v":41.804499999999997},{"$f":"Anchor!F94","v":17189.439999999999},{"$f":"Anchor!G94","v":35.89},4.7748444444444438,null,{"$f":"Test!B94","v":17543.5344},{"$f":"Test!C94","v":38.621400000000001},{"$f":"Test!D94","v":42.435699999999997},{"$f":"Test!E94","v":41.811900000000001},{"$f":"Test!F94","v":17890.04},{"$f":"Test!G94","v":36.61},4.9694555555555562,null,null,null,null,null,null,null,null,{"$f":"Anchor!H94","v":38.619999999999997},{"$f":"Anchor!I94","v":42.424900000000001},{"$f":"Anchor!J94","v":41.801200000000001},null,{"$f":"Test!H94","v":38.620800000000003},{"$f":"Test!I94","v":42.432699999999997},{"$f":"Test!J94","v":41.808599999999998}]
[null,null,32,{"$f":"Anchor!B95","v":7948.1487999999999},{"$f":"Anchor!C95","v":35.627400000000002},{"$f":"Anchor!D95","v":40.339399999999998},{"$f":"Anchor!E95","v":39.7834},{"$f":"Anchor!F95","v":11982.96},{"$f":"Anchor!G95","v":28.36},3.3285999999999998,null,{"$f":"Test!B95","v":7955.3504000000003},{"$f":"Test!C95","v":35.627400000000002},{"$f":"Test!D95","v":40.340800000000002},{"$f":"Test!E95","v":39.783999999999999},{"$f":"Test!F95","v":12311.14},{"$f":"Test!G95","v":29.22},3.4197611111111108,null,null,null,null,null,null,null,null,{"$f":"Anchor!H95","v":35.626199999999997},{"$f":"Anchor!I95","v":40.335999999999999},{"$f":"Anchor!J95","v":39.777500000000003},null,{"$f":"Test!H95","v":35.626100000000001},{"$f":"Test!I95","v":40.337400000000002},{"$f":"Test!J95","v":39.778100000000002}]
[null,null,37,{"$f":"Anchor!B96","v":3748.0216},{"$f":"Anchor!C96","v":33.154600000000002},{"$f":"Anchor!D96","v":38.4116},{"$f":"Anchor!E96","v":38.1188},{"$f":"Anchor!F96","v":7734.83},{"$f":"Anchor!G96","v":23.15},2.1485638888888889,null,{"$f":"Test!B96","v":3753.1912000000002},{"$f":"Test!C96","v":33.154400000000003},{"$f":"Test!D96","v":38.413499999999999},{"$f":"Test!E96","v":38.117800000000003},{"$f":"Test!F96","v":8138.05},{"$f":"Test!G96","v":23.9},2.2605694444444446,null,null,null,null,null,null,null,null,{"$f":"Anchor!H96","v":33.153199999999998},{"$f":"Anchor!I96","v":38.407899999999998},{"$f":"Anchor!J96","v":38.1111},null,{"$f":"Test!H96","v":33.152999999999999},{"$f":"Test!I96","v":38.409799999999997},{"$f":"Test!J96","v":38.110300000000002}]
["YUV, camera captured, 1080p","EBURainFruits_1920x1080_50_10bit_444",22,{"$f":"Anchor!B97","v":87791.689599999998},{"$f":"Anchor!C97","v":43.670999999999999},{"$f":"Anchor!D97","v":47.006100000000004},{"$f":"Anchor!E97","v":48.407600000000002},{"$f":"Anchor!F97","v":26013.34},{"$f":"Anchor!G97","v":72.22},7.2259277777777777,null,{"$f":"Test!B97","v":87814.398400000005},{"$f":"Test!C97","v":43.671399999999998},{"$f":"Test!D97","v":47.005600000000001},{"$f":"Test!E97","v":48.408200000000001},{"$f":"Test!F97","v":25459.38},{"$f":"Test!G97","v":73.569999999999993},7.0720499999999999,null,{"$f":"bdrate(D99:D102,E99:E102,L99:L102,M99:M102)","v":5.3308988505840205E-4},{"$f":"bdrate(D99:D102,F99:F102,L99:L102,N99:N102)","v":2.1650233143732933E-4},{"$f":"bdrate(D99:D102,G99:G102,L99:L102,O99:O102)","v":5.8171510122884129E-4},{"$f":"bdrateOld(D99:D102,E99:E102,L99:L102,M99:M102)","v":5.3300579503701151E-4},{"$f":"bdrateOld(D99:D102,F99:F102,L99:L102,N99:N102)","v":2.1618405905110549E-4},{"$f":"bdrateOld(D99:D102,G99:G102,L99:L102,O99:O102)","v":5.8176761248640574E-4},null,{"$f":"Anchor!H97","v":43.670900000000003},{"$f":"Anchor!I97","v":47.005200000000002},{"$f":"Anchor!J97","v":48.406700000000001},null,{"$f":"Test!H97","v":43.671300000000002},{"$f":"Test!I97","v":47.0047},{"$f":"Test!J97","v":48.407299999999999}]
[null,null,27,{"$f":"Anchor!B98","v":51904.572800000002},{"$f":"Anchor!C98","v":40.563400000000001},{"$f":"Anchor!D98","v":45.310099999999998},{"$f":"Anchor!E98","v":46.553800000000003},{"$f":"Anchor!F98","v":21862.46},{"$f":"Anchor!G98","v":62.53},6.0729055555555549,null,{"$f":"Test!B98","v":51920.865599999997},{"$f":"Test!C98","v":40.563099999999999},{"$f":"Test!D98","v":45.310200000000002},{"$f":"Test!E98","v":46.553899999999999},{"$f":"Test!F98","v":21007.71},{"$f":"Test!G98","v":63.94},5.8354749999999997,null,null,null,null,null,null,null,null,{"$f":"Anchor!H98","v":40.562899999999999},{"$f":"Anchor!I98","v":45.308399999999999},{"$f":"Anchor!J98","v":46.552900000000001},null,{"$f":"Test!H98","v":40.5627},{"$f":"Test!I98","v":45.308500000000002},{"$f":"Test!J98","v":46.552900000000001}]
[null,null,32,{"$f":"Anchor!B99","v":29548.32},{"$f":"Anchor!C99","v":37.369999999999997},{"$f":"Anchor!D99","v":43.503399999999999},{"$f":"Anchor!E99","v":44.509799999999998},{"$f":"Anchor!F99","v":17626.25},{"$f":"Anchor!G99","v":54.91},4.8961805555555555,null,{"$f":"Test!B99","v":29563.441599999998},{"$f":"Test!C99","v":37.369199999999999},{"$f":"Test!D99","v":43.504600000000003},{"$f":"Test!E99","v":44.509099999999997},{"$f":"Test!F99","v":17236.099999999999},{"$f":"Test!G99","v":55.44},4.787805555555555,null,null,null,null,null,null,null,null,{"$f":"Anchor!H99","v":37.3688},{"$f":"Anchor!I99","v":43.500999999999998},{"$f":"Anchor!J99","v":44.508899999999997},null,{"$f":"Test!H99","v":37.368000000000002},{"$f":"Test!I99","v":43.502200000000002},{"$f":"Test!J99","v":44.508299999999998}]
[null,null,37,{"$f":"Anchor!B100","v":16239.6224},{"$f":"Anchor!C100","v":34.249099999999999},{"$f":"Anchor!D100","v":41.746400000000001},{"$f":"Anchor!E100","v":42.23},{"$f":"Anchor!F100","v":14071.52},{"$f":"Anchor!G100","v":46.82},3.9087555555555555,null,{"$f":"Test!B100","v":16251.945599999999},{"$f":"Test!C100","v":34.247900000000001},{"$f":"Test!D100","v":41.748199999999997},{"$f":"Test!E100","v":42.227699999999999},{"$f":"Test!F100","v":14281.26},{"$f":"Test!G100","v":47.82},3.9670166666666669,null,null,null,null,null,null,null,null,{"$f":"Anchor!H100","v":34.246400000000001},{"$f":"Anchor!I100","v":41.742600000000003},{"$f":"Anchor!J100","v":42.2286},null,{"$f":"Test!H100","v":34.245199999999997},{"$f":"Test!I100","v":41.744500000000002},{"$f":"Test!J100","v":42.226399999999998}]
[null,"Kimono1_1920x1080_24_10bit_444",22,{"$f":"Anchor!B101","v":45860.150399999999},{"$f":"Anchor!C101","v":42.999000000000002},{"$f":"Anchor!D101","v":40.520200000000003},{"$f":"Anchor!E101","v":42.923999999999999},{"$f":"Anchor!F101","v":15099.59},{"$f":"Anchor!G101","v":33.21},4.1943305555555552,null,{"$f":"Test!B101","v":45859.619200000001},{"$f":"Test!C101","v":42.999099999999999},{"$f":"Test!D101","v":40.520000000000003},{"$f":"Test!E101","v":42.923699999999997},{"$f":"Test!F101","v":14745.38},{"$f":"Test!G101","v":33.770000000000003},4.095938888888889,null,{"$f":"bdrate(D103:D106,E103:E106,L103:L106,M103:M106)","v":1.1946999514833578E-4},{"$f":"bdrate(D103:D106,F103:F106,L103:L106,N103:N106)","v":3.5619565656164198E-4},{"$f":"bdrate(D103:D106,G103:G106,L103:L106,O103:O106)","v":3.7346751223088503E-4},{"$f":"bdrateOld(D103:D106,E103:E106,L103:L106,M103:M106)","v":1.4299628963465594E-4},{"$f":"bdrateOld(D103:D106,F103:F106,L103:L106,N103:N106)","v":2.7394599055556856E-3},{"$f":"bdrateOld(D103:D106,G103:G106,L103:L106,O103:O106)","v":4.3605017875547603E-4},null,{"$f":"Anchor!H101","v":42.998600000000003},{"$f":"Anchor!I101","v":40.520000000000003},{"$f":"Anchor!J101","v":42.923699999999997},null,{"$f":"Test!H101","v":42.998699999999999},{"$f":"Test!I101","v":40.519799999999996},{"$f":"Test!J101","v":42.923400000000001}]
[null,null,27,{"$f":"Anchor!B102","v":14113.343999999999},{"$f":"Anchor!C102","v":41.651400000000002},{"$f":"Anchor!D102","v":37.882100000000001},{"$f":"Anchor!E102","v":42.045499999999997},{"$f":"Anchor!F102","v":10187.450000000001},{"$f":"Anchor!G102","v":26.43},2.8298472222222224,null,{"$f":"Test!B102","v":14114.968000000001},{"$f":"Test!C102","v":41.651000000000003},{"$f":"Test!D102","v":37.881500000000003},{"$f":"Test!E102","v":42.045299999999997},{"$f":"Test!F102","v":11201.65},{"$f":"Test!G102","v":26.79},3.1115694444444442,null,null,null,null,null,null,null,null,{"$f":"Anchor!H102","v":41.650700000000001},{"$f":"Anchor!I102","v":37.8812},{"$f":"Anchor!J102","v":42.045200000000001},null,{"$f":"Test!H102","v":41.650300000000001},{"$f":"Test!I102","v":37.880600000000001},{"$f":"Test!J102","v":42.045000000000002}]
[null,null,32,{"$f":"Anchor!B103","v":7471.1504000000004},{"$f":"Anchor!C103","v":39.815800000000003},{"$f":"Anchor!D103","v":37.35},{"$f":"Anchor!E103","v":40.947000000000003},{"$f":"Anchor!F103","v":6521.14},{"$f":"Anchor!G103","v":23.34},1.8114277777777779,null,{"$f":"Test!B103","v":7471.1152000000002},{"$f":"Test!C103","v":39.816000000000003},{"$f":"Test!D103","v":37.350099999999998},{"$f":"Test!E103","v":40.9467},{"$f":"Test!F103","v":7324.03},{"$f":"Test!G103","v":23.9},2.0344527777777777,null,null,null,null,null,null,null,null,{"$f":"Anchor!H103","v":39.814399999999999},{"$f":"Anchor!I103","v":37.3491},{"$f":"Anchor!J103","v":40.9465},null,{"$f":"Test!H103","v":39.814500000000002},{"$f":"Test!I103","v":37.349299999999999},{"$f":"Test!J103","v":40.946199999999997}]
[null,null,37,{"$f":"Anchor!B104","v":4008.5695999999998},{"$f":"Anchor!C104","v":37.420400000000001},{"$f":"Anchor!D104","v":36.768900000000002},{"$f":"Anchor!E104","v":39.767200000000003},{"$f":"Anchor!F104","v":5082.67},{"$f":"Anchor!G104","v":20.25},1.4118527777777778,null,{"$f":"Test!B104","v":4008.8144000000002},{"$f":"Test!C104","v":37.418900000000001},{"$f":"Test!D104","v":36.767499999999998},{"$f":"Test!E104","v":39.765099999999997},{"$f":"Test!F104","v":5118.82},{"$f":"Test!G104","v":20.61},1.4218944444444443,null,null,null,null,null,null,null,null,{"$f":"Anchor!H104","v":37.418399999999998},{"$f":"Anchor!I104","v":36.768099999999997},{"$f":"Anchor!J104","v":39.766300000000001},null,{"$f":"Test!H104","v":37.416800000000002},{"$f":"Test!I104","v":36.7667},{"$f":"Test!J104","v":39.764099999999999}]
[null,{"$f":"$A3","v":"RGB, text & graphics with motion, 1080p"},null,null,null,null,null,null,{"$f":"geometricMean(I3:I14)","v":85.080602740341334},{"$f":"geometricMean(J3:J14)","v":12.482517478879693},null,null,null,null,null,null,{"$f":"geometricMean(Q3:Q14)","v":78.826707566534068},{"$f":"geometricMean(R3:R14)","v":11.655518177120364},null,{"$f":"AVERAGE(T3:T14)","v":-0.11588303169891245},-0.11561727757280749,-0.11507969504432509,-0.11649111849364806,-0.11754927200404071,-0.11681503230045924]
[null,{"$f":"$A15","v":"RGB, text & graphics with motion,720p"},null,null,null,null,null,null,{"$f":"geometricMean(I15:I30)","v":40.101965386038366},{"$f":"geometricMean(J15:J30)","v":4.932150172926411},null,null,null,null,null,null,{"$f":"geometricMean(Q15:Q30)","v":39.265238321815673},{"$f":"geometricMean(R15:R30)","v":4.9225471940085157},null,{"$f":"AVERAGE(T15:T30)","v":-6.5565476171328352E-2},-5.8694325655214125E-2,-6.2224222313974314E-2,-6.5536493150281677E-2,-5.8564443037852576E-2,-6.2138435752245313E-2]
[null,{"$f":"$A31","v":"RGB, mixed content, 1440p"},null,null,null,null,null,null,{"$f":"geometricMean(I31:I38)","v":116.52554025105837},{"$f":"geometricMean(J31:J38)","v":14.375584781661907},null,null,null,null,null,null,{"$f":"geometricMean(Q31:Q38)","v":117.13824558945799},{"$f":"geometricMean(R31:R38)","v":14.882319969437077},null,{"$f":"AVERAGE(T31:T38)","v":-1.2475831949466942E-2},-1.1334293681364849E-2,-1.0697302277092702E-2,-1.2484344464844643E-2,-1.1339836761783517E-2,-1.0702366629769311E-2]
[null,{"$f":"$A39","v":"RGB, mixed content, 1080p"},null,null,null,null,null,null,{"$f":"geometricMean(I39:I42)","v":130.13543372591369},{"$f":"geometricMean(J39:J42)","v":16.237294459992455},null,null,null,null,null,null,{"$f":"geometricMean(Q39:Q42)","v":130.81968325838449},{"$f":"geometricMean(R39:R42)","v":16.553599038070743},null,{"$f":"AVERAGE(T39:T42)","v":-2.2140647912419431E-2},-2.3453191130468731E-2,-2.1085582393020164E-2,-2.2141551548864435E-2,-2.3485725359567833E-2,-2.1094295143471387E-2]
[null,{"$f":"$A43","v":"RGB, Animation, 720p"},null,null,null,null,null,null,{"$f":"geometricMean(I43:I46)","v":42.642919450778876},{"$f":"geometricMean(J43:J46)","v":5.7371352376347087},null,null,null,null,null,null,{"$f":"geometricMean(Q43:Q46)","v":43.158841329844059},{"$f":"geometricMean(R43:R46)","v":5.9020747550297354},null,{"$f":"AVERAGE(T43:T46)","v":7.7191513191388061E-4},-5.798045341839364E-4,-4.2614239644345187E-4,7.7167229490182621E-4,-6.7146807966567135E-4,-4.7387354425554307E-4]
[null,{"$f":"$A47","v":"RGB, camera captured, 1080p"},null,null,null,null,null,null,{"$f":"geometricMean(I47:I54)","v":46.748517197350026},{"$f":"geometricMean(J44:J47)","v":6.3976886233027059},null,null,null,null,null,null,{"$f":"geometricMean(Q47:Q54)","v":47.12215298191574},{"$f":"geometricMean(R44:R47)","v":6.5507121431530084},null,{"$f":"AVERAGE(T47:T54)","v":2.0891182398208308E-4},1.417719397172057E-4,2.5372908829646157E-4,2.1536376341868557E-4,2.8443573503178499E-4,1.6550539248394447E-4]
[null,{"$f":"$A55","v":"YUV, text & graphics with motion, 1080p"},null,null,null,null,null,null,{"$f":"geometricMean(I55:I66)","v":81.937630670107069},{"$f":"geometricMean(J55:J66)","v":11.369931338324855},null,null,null,null,null,null,{"$f":"geometricMean(Q55:Q66)","v":76.640018642752665},{"$f":"geometricMean(R55:R66)","v":10.614536290182151},null,{"$f":"AVERAGE(T55:T66)","v":-0.11265578677432782},-0.12656524974450337,-0.11780037923326973,-0.11212910524101023,-0.1261635778051049,-0.11704906080826782]
[null,{"$f":"$A67","v":"YUV, text & graphics with motion,720p"},null,null,null,null,null,null,{"$f":"geometricMean(I67:I82)","v":36.518471564795824},{"$f":"geometricMean(J67:J82)","v":4.0936912056198622},null,null,null,null,null,null,{"$f":"geometricMean(Q67:Q82)","v":36.732251775593177},{"$f":"geometricMean(R67:R82)","v":4.1250147216056581},null,{"$f":"AVERAGE(T67:T82)","v":-5.1157265388616119E-2},-7.3820171199823481E-2,-9.5300709394563088E-2,-5.087226047262422E-2,-7.3492427712715969E-2,-9.5246869632091558E-2]
[null,{"$f":"$A83","v":"YUV, mixed content, 1440p"},null,null,null,null,null,null,{"$f":"geometricMean(I83:I90)","v":103.67820903139514},{"$f":"geometricMean(J83:J90)","v":9.3346709829738259},null,null,null,null,null,null,{"$f":"geometricMean(Q83:Q90)","v":103.97646293742297},{"$f":"geometricMean(R83:R90)","v":9.3371061849827761},null,{"$f":"AVERAGE(T83:T90)","v":-9.7450045619636994E-3},-2.6234457176956827E-2,-2.4705056993635788E-2,-9.7686088880414856E-3,-2.625346158126296E-2,-2.4670731465929241E-2]
[null,{"$f":"$A91","v":"YUV, mixed content, 1080p"},null,null,null,null,null,null,{"$f":"geometricMean(I91:I94)","v":116.19358893735331},{"$f":"geometricMean(J91:J94)","v":9.8913563313426049},null,null,null,null,null,null,{"$f":"geometricMean(Q91:Q94)","v":116.77766178038148},{"$f":"geometricMean(R91:R94)","v":9.963735107281833},null,{"$f":"AVERAGE(T91:T94)","v":-2.4226269093183372E-2},-3.5379956468680529E-2,-3.3549919855643706E-2,-2.4320103392933667E-2,-3.5199991033143418E-2,-3.3478411147326192E-2]
[null,{"$f":"$A95","v":"YUV, Animation, 720p"},null,null,null,null,null,null,{"$f":"geometricMean(I95:I98)","v":32.362166755086726},{"$f":"geometricMean(J95:J98)","v":3.7565673041091721},null,null,null,null,null,null,{"$f":"geometricMean(Q95:Q98)","v":33.136978764485697},{"$f":"geometricMean(R95:R98)","v":3.8336815235802524},null,{"$f":"AVERAGE(T95:T98)","v":1.2384779605221219E-3},-7.5025267938899631E-4,-5.4307662309327487E-4,1.2734566025036642E-3,-6.9401317616635261E-4,-4.7835329693257655E-4]
[null,{"$f":"$A99","v":"YUV, camera captured, 1080p"},null,null,null,null,null,null,{"$f":"geometricMean(I99:I106)","v":38.489306449322143},{"$f":"geometricMean(J96:J99)","v":3.9633797061478644},null,null,null,null,null,null,{"$f":"geometricMean(Q99:Q106)","v":39.184177134625997},{"$f":"geometricMean(R96:R99)","v":4.0599149795475711},null,{"$f":"AVERAGE(T99:T106)","v":3.2627994010336892E-4},2.8634899399948566E-4,4.7759130672986316E-4,3.3800104233583372E-4,1.4778219823033956E-3,5.0890889562094088E-4]
[null,"All",null,null,null,null,null,null,null,null,null,null,null,null,null,null,null,null,null,{"$f":"AVERAGE(T3:T106)","v":-4.77013551948983E-2},-5.3501924385923674E-2,-5.5911028795636128E-2,-4.7665822647471316E-2,-5.3503050435756809E-2,-5.6002146215796217E-2]
[null,"Time geomean",null,null,null,null,null,null,{"$f":"geometricMean(I3:I106)","v":59.759337904854647},{"$f":"geometricMean(J3:J106)","v":7.0528179630978913},null,null,null,null,null,null,{"$f":"geometricMean(Q3:Q106)","v":58.899829114440855},{"$f":"geometricMean(R3:R106)","v":7.0140269652022846}]
[null,"Time sum (hours)",null,null,null,null,null,null,{"$f":"secToHours(macroSum(I3:I106))","v":2.0061861111111114},{"$f":"SUM(J3:J106)","v":871.48764166666706},null,null,null,null,null,null,{"$f":"secToHours(macroSum(Q3:Q106))","v":1.9672027777777767},{"$f":"SUM(R3:R106)","v":861.96529999999973}]
[]
[]
[null,null,"Time Ratio"]
[null,null,"Decoding","Encoding"]
[null,"RGB, text & graphics with motion, 1080p",{"$f":"Q107/I107","v":0.92649446557291548},{"$f":"R107/J107","v":0.93374739485375413}]
[null,"RGB, text & graphics with motion,720p",0.97913501106072964,0.99805298326668801]
[null,"RGB, mixed content, 1440p",1.0052581205551978,1.0352497095228836]
[null,"RGB, mixed content, 1080p",1.0052579801894075,1.0194801282231865]
[null,"RGB, Animation, 720p",1.0120986528528069,1.0287494560548354]
[null,"RGB, camera captured, 1080p",1.0079924627980905,1.023918563228122]
[null,"YUV, text & graphics with motion, 1080p",0.93534579918861249,0.9335620395880071]
[null,"YUV, text & graphics with motion,720p",1.0058540295263463,1.0076516557826332]
[null,"YUV, mixed content, 1440p",1.0028767270269638,1.0002608771121544]
[null,"YUV, mixed content, 1080p",1.0050267217698481,1.0073173762540413]
[null,"YUV, Animation, 720p",1.0239419076992793,1.0205278418376074]
[null,"YUV, camera captured, 1080p",1.0180536036994787,1.0243568067046325]
[null,"All",{"$f":"Q120/I120","v":0.98561716343339933},{"$f":"R120/J120","v":0.99449992923416275}]

{"sheet":"RA-SCC","index":2,"n_rows":138,"n_cols":33,"rows_kept":138,"cut":false,"hidden":false,"merged":[[0,30,0,32],[123,2,123,3],[0,3,0,9],[0,11,0,17],[0,19,0,21],[0,22,0,24],[0,26,0,28]]}
[null,null,null,{"$f":"Summary!H2","v":"Anchor (SCM-1.0)"},null,null,null,null,null,null,null,{"$f":"Summary!H3","v":"Tested (Rnnnn)"},null,null,null,null,null,null,null,"BD-rate (piecewise cubic)",null,null,"BD-rate (cubic)",null,null,null,"MSE PSNR (anchor)",null,null,null,"MSE PSNR (tested)"]
[null,null,"QPISlice","kbps","G/Y psnr","B/U psnr","R/V psnr","Enc T [s]","Dec T [s]","Enc T [h]",null,"kbps","G/Y psnr","B/U psnr","R/V psnr","Enc T [s]","Dec T [s]","Enc T [h]",null,"G/Y","B/U","R/V","G/Y","B/U","R/V",null,"G/Y","B/U","R/V",null,"G/Y","B/U","R/V"]
["RGB, text & graphics with motion, 1080p","sc_flyingGraphics_1920x1080_60_8bit_rgb",22,{"$f":"Anchor!B105","v":49177.459199999998},{"$f":"Anchor!C105","v":44.735100000000003},{"$f":"Anchor!D105","v":44.519599999999997},{"$f":"Anchor!E105","v":44.272500000000001},{"$f":"Anchor!F105","v":144976.21},{"$f":"Anchor!G105","v":54.64},{"$f":"secToHours(H3)","v":40.271169444444439},null,{"$f":"Test!B105","v":48453.604800000001},{"$f":"Test!C105","v":45.152299999999997},{"$f":"Test!D105","v":44.995699999999999},{"$f":"Test!E105","v":44.728900000000003},{"$f":"Test!F105","v":144781.35999999999},{"$f":"Test!G105","v":53.56},{"$f":"secToHours(P3)","v":40.21704444444444},null,{"$f":"bdrate(D3:D6,E3:E6,L3:L6,M3:M6)","v":-4.5114077694298316E-2},{"$f":"bdrate(D3:D6,F3:F6,L3:L6,N3:N6)","v":-5.0890914353817429E-2},{"$f":"bdrate(D3:D6,G3:G6,L3:L6,O3:O6)","v":-5.0267154565350691E-2},{"$f":"bdrateOld(D3:D6,E3:E6,L3:L6,M3:M6)","v":-4.5190866174814159E-2},{"$f":"bdrateOld(D3:D6,F3:F6,L3:L6,N3:N6)","v":-5.0935650398779342E-2},{"$f":"bdrateOld(D3:D6,G3:G6,L3:L6,O3:O6)","v":-5.0195691851327107E-2},null,{"$f":"Anchor!H105","v":44.377800000000001},{"$f":"Anchor!I105","v":44.162599999999998},{"$f":"Anchor!J105","v":43.919199999999996},null,{"$f":"Test!H105","v":44.712400000000002},{"$f":"Test!I105","v":44.554400000000001},{"$f":"Test!J105","v":44.297699999999999}]
[null,null,27,{"$f":"Anchor!B106","v":30768.459200000001},{"$f":"Anchor!C106","v":39.473300000000002},{"$f":"Anchor!D106","v":39.307400000000001},{"$f":"Anchor!E106","v":39.200499999999998},{"$f":"Anchor!F106","v":129851.46},{"$f":"Anchor!G106","v":49.14},{"$f":"secToHours(H4)","v":36.069850000000002},null,{"$f":"Test!B106","v":30360.975999999999},{"$f":"Test!C106","v":39.797499999999999},{"$f":"Test!D106","v":39.703200000000002},{"$f":"Test!E106","v":39.566000000000003},{"$f":"Test!F106","v":131215.21},{"$f":"Test!G106","v":48.8},{"$f":"secToHours(P4)","v":36.448669444444441},null,null,null,null,null,null,null,null,{"$f":"Anchor!H106","v":39.1175},{"$f":"Anchor!I106","v":38.933799999999998},{"$f":"Anchor!J106","v":38.8523},null,{"$f":"Test!H106","v":39.380000000000003},{"$f":"Test!I106","v":39.257100000000001},{"$f":"Test!J106","v":39.1569}]
[null,null,32,{"$f":"Anchor!B107","v":18603.831999999999},{"$f":"Anchor!C107","v":34.994399999999999},{"$f":"Anchor!D107","v":34.628900000000002},{"$f":"Anchor!E107","v":34.695399999999999},{"$f":"Anchor!F107","v":115003.4},{"$f":"Anchor!G107","v":43.5},{"$f":"secToHours(H5)","v":31.945388888888886},null,{"$f":"Test!B107","v":18423.657599999999},{"$f":"Test!C107","v":35.288499999999999},{"$f":"Test!D107","v":34.996099999999998},{"$f":"Test!E107","v":35.055300000000003},{"$f":"Test!F107","v":115524.5},{"$f":"Test!G107","v":43.73},{"$f":"secToHours(P5)","v":32.090138888888887},null,null,null,null,null,null,null,null,{"$f":"Anchor!H107","v":34.711399999999998},{"$f":"Anchor!I107","v":34.290399999999998},{"$f":"Anchor!J107","v":34.404400000000003},null,{"$f":"Test!H107","v":34.950800000000001},{"$f":"Test!I107","v":34.595300000000002},{"$f":"Test!J107","v":34.709200000000003}]
[null,null,37,{"$f":"Anchor!B108","v":11577.752},{"$f":"Anchor!C108","v":31.274999999999999},{"$f":"Anchor!D108","v":30.610399999999998},{"$f":"Anchor!E108","v":30.898199999999999},{"$f":"Anchor!F108","v":96348.17},{"$f":"Anchor!G108","v":39.119999999999997},26.763380555555557,null,{"$f":"Test!B108","v":11532.945599999999},{"$f":"Test!C108","v":31.6142},{"$f":"Test!D108","v":31.0182},{"$f":"Test!E108","v":31.268999999999998},{"$f":"Test!F108","v":97732.37},{"$f":"Test!G108","v":39.58},27.147880555555556,null,null,null,null,null,null,null,null,{"$f":"Anchor!H108","v":31.064},{"$f":"Anchor!I108","v":30.332000000000001},{"$f":"Anchor!J108","v":30.668700000000001},null,{"$f":"Test!H108","v":31.351299999999998},{"$f":"Test!I108","v":30.678799999999999},{"$f":"Test!J108","v":30.989899999999999}]
[null,"sc_desktop_1920x1080_60_8bit_rgb",22,{"$f":"Anchor!B109","v":2139.1183999999998},{"$f":"Anchor!C109","v":53.609499999999997},{"$f":"Anchor!D109","v":53.124400000000001},{"$f":"Anchor!E109","v":52.636200000000002},{"$f":"Anchor!F109","v":33986.82},{"$f":"Anchor!G109","v":43.74},9.440783333333334,null,{"$f":"Test!B109","v":1990.76},{"$f":"Test!C109","v":55.717700000000001},{"$f":"Test!D109","v":54.905000000000001},{"$f":"Test!E109","v":54.264400000000002},{"$f":"Test!F109","v":34228.949999999997},{"$f":"Test!G109","v":45.77},9.5080416666666654,null,{"$f":"bdrate(D7:D10,E7:E10,L7:L10,M7:M10)","v":-8.0007631971248272E-2},{"$f":"bdrate(D7:D10,F7:F10,L7:L10,N7:N10)","v":-7.7316465254248956E-2},{"$f":"bdrate(D7:D10,G7:G10,L7:L10,O7:O10)","v":-7.8660031290184396E-2},{"$f":"bdrateOld(D7:D10,E7:E10,L7:L10,M7:M10)","v":-7.9807338203598421E-2},{"$f":"bdrateOld(D7:D10,F7:F10,L7:L10,N7:N10)","v":-7.7427504316484819E-2},{"$f":"bdrateOld(D7:D10,G7:G10,L7:L10,O7:O10)","v":-7.8861068089591924E-2},null,{"$f":"Anchor!H109","v":53.579900000000002},{"$f":"Anchor!I109","v":53.098999999999997},{"$f":"Anchor!J109","v":52.613100000000003},null,{"$f":"Test!H109","v":55.692999999999998},{"$f":"Test!I109","v":54.8874},{"$f":"Test!J109","v":54.249400000000001}]
[null,null,27,{"$f":"Anchor!B110","v":1944.652},{"$f":"Anchor!C110","v":48.707799999999999},{"$f":"Anchor!D110","v":47.915999999999997},{"$f":"Anchor!E110","v":47.313299999999998},{"$f":"Anchor!F110","v":33139.89},{"$f":"Anchor!G110","v":44.19},9.2055249999999997,null,{"$f":"Test!B110","v":1840.7303999999999},{"$f":"Test!C110","v":50.904400000000003},{"$f":"Test!D110","v":49.754800000000003},{"$f":"Test!E110","v":49.323799999999999},{"$f":"Test!F110","v":33263.35},{"$f":"Test!G110","v":45.96},9.2398194444444446,null,null,null,null,null,null,null,null,{"$f":"Anchor!H110","v":48.657200000000003},{"$f":"Anchor!I110","v":47.868299999999998},{"$f":"Anchor!J110","v":47.2789},null,{"$f":"Test!H110","v":50.86},{"$f":"Test!I110","v":49.725999999999999},{"$f":"Test!J110","v":49.298400000000001}]
[null,null,32,{"$f":"Anchor!B111","v":1735.348},{"$f":"Anchor!C111","v":44.032299999999999},{"$f":"Anchor!D111","v":43.164099999999998},{"$f":"Anchor!E111","v":42.763599999999997},{"$f":"Anchor!F111","v":31663.95},{"$f":"Anchor!G111","v":44.39},8.7955416666666668,null,{"$f":"Test!B111","v":1679.0103999999999},{"$f":"Test!C111","v":45.851999999999997},{"$f":"Test!D111","v":44.8874},{"$f":"Test!E111","v":44.473199999999999},{"$f":"Test!F111","v":31931.93},{"$f":"Test!G111","v":46.1},8.8699805555555553,null,null,null,null,null,null,null,null,{"$f":"Anchor!H111","v":43.9482},{"$f":"Anchor!I111","v":43.100900000000003},{"$f":"Anchor!J111","v":42.705500000000001},null,{"$f":"Test!H111","v":45.7669},{"$f":"Test!I111","v":44.825099999999999},{"$f":"Test!J111","v":44.415900000000001}]
[null,null,37,{"$f":"Anchor!B112","v":1512.9015999999999},{"$f":"Anchor!C112","v":37.418599999999998},{"$f":"Anchor!D112","v":37.206499999999998},{"$f":"Anchor!E112","v":36.937399999999997},{"$f":"Anchor!F112","v":29920.75},{"$f":"Anchor!G112","v":44.35},8.3113194444444449,null,{"$f":"Test!B112","v":1499.1384},{"$f":"Test!C112","v":40.187800000000003},{"$f":"Test!D112","v":39.590299999999999},{"$f":"Test!E112","v":39.215499999999999},{"$f":"Test!F112","v":30195.38},{"$f":"Test!G112","v":46.1},8.387605555555556,null,null,null,null,null,null,null,null,{"$f":"Anchor!H112","v":37.372399999999999},{"$f":"Anchor!I112","v":37.154899999999998},{"$f":"Anchor!J112","v":36.884},null,{"$f":"Test!H112","v":40.0931},{"$f":"Test!I112","v":39.515799999999999},{"$f":"Test!J112","v":39.139800000000001}]
[null,"sc_console_1920x1080_60_8bit_rgb",22,{"$f":"Anchor!B113","v":6970.9679999999998},{"$f":"Anchor!C113","v":54.6096},{"$f":"Anchor!D113","v":54.988900000000001},{"$f":"Anchor!E113","v":53.755099999999999},{"$f":"Anchor!F113","v":83995.23},{"$f":"Anchor!G113","v":47.19},23.332008333333331,null,{"$f":"Test!B113","v":6784.4672},{"$f":"Test!C113","v":56.1235},{"$f":"Test!D113","v":56.134099999999997},{"$f":"Test!E113","v":55.325299999999999},{"$f":"Test!F113","v":85353.35},{"$f":"Test!G113","v":48.38},23.709263888888891,null,{"$f":"bdrate(D11:D14,E11:E14,L11:L14,M11:M14)","v":-7.4810547990229681E-2},{"$f":"bdrate(D11:D14,F11:F14,L11:L14,N11:N14)","v":-7.8637811076126996E-2},{"$f":"bdrate(D11:D14,G11:G14,L11:L14,O11:O14)","v":-8.166114288608417E-2},{"$f":"bdrateOld(D11:D14,E11:E14,L11:L14,M11:M14)","v":-7.518115992537977E-2},{"$f":"bdrateOld(D11:D14,F11:F14,L11:L14,N11:N14)","v":-7.9682143250506487E-2},{"$f":"bdrateOld(D11:D14,G11:G14,L11:L14,O11:O14)","v":-8.2416179466076045E-2},null,{"$f":"Anchor!H113","v":54.5289},{"$f":"Anchor!I113","v":54.920200000000001},{"$f":"Anchor!J113","v":53.694400000000002},null,{"$f":"Test!H113","v":55.971800000000002},{"$f":"Test!I113","v":56.022500000000001},{"$f":"Test!J113","v":55.222900000000003}]
[null,null,27,{"$f":"Anchor!B114","v":5885.6664000000001},{"$f":"Anchor!C114","v":48.9803},{"$f":"Anchor!D114","v":48.767800000000001},{"$f":"Anchor!E114","v":47.960599999999999},{"$f":"Anchor!F114","v":80716.37},{"$f":"Anchor!G114","v":47.23},22.421213888888886,null,{"$f":"Test!B114","v":5730.6144000000004},{"$f":"Test!C114","v":50.687100000000001},{"$f":"Test!D114","v":50.532200000000003},{"$f":"Test!E114","v":49.893099999999997},{"$f":"Test!F114","v":80894.5},{"$f":"Test!G114","v":48.21},22.470694444444444,null,null,null,null,null,null,null,null,{"$f":"Anchor!H114","v":48.865699999999997},{"$f":"Anchor!I114","v":48.678800000000003},{"$f":"Anchor!J114","v":47.871899999999997},null,{"$f":"Test!H114","v":50.460299999999997},{"$f":"Test!I114","v":50.369199999999999},{"$f":"Test!J114","v":49.732300000000002}]
[null,null,32,{"$f":"Anchor!B115","v":4798.3872000000001},{"$f":"Anchor!C115","v":43.9816},{"$f":"Anchor!D115","v":43.924199999999999},{"$f":"Anchor!E115","v":43.163899999999998},{"$f":"Anchor!F115","v":74345.320000000007},{"$f":"Anchor!G115","v":46.82},20.651477777777778,null,{"$f":"Test!B115","v":4704.1440000000002},{"$f":"Test!C115","v":45.310699999999997},{"$f":"Test!D115","v":45.433},{"$f":"Test!E115","v":44.693300000000001},{"$f":"Test!F115","v":74440.41},{"$f":"Test!G115","v":47.77},20.677891666666667,null,null,null,null,null,null,null,null,{"$f":"Anchor!H115","v":43.779299999999999},{"$f":"Anchor!I115","v":43.772599999999997},{"$f":"Anchor!J115","v":42.997599999999998},null,{"$f":"Test!H115","v":44.978000000000002},{"$f":"Test!I115","v":45.177500000000002},{"$f":"Test!J115","v":44.4176}]
[null,null,37,{"$f":"Anchor!B116","v":3851.7584000000002},{"$f":"Anchor!C116","v":38.653100000000002},{"$f":"Anchor!D116","v":38.875900000000001},{"$f":"Anchor!E116","v":37.869399999999999},{"$f":"Anchor!F116","v":67185.279999999999},{"$f":"Anchor!G116","v":46.2},18.662577777777777,null,{"$f":"Test!B116","v":3820.9623999999999},{"$f":"Test!C116","v":40.148299999999999},{"$f":"Test!D116","v":40.555199999999999},{"$f":"Test!E116","v":39.4358},{"$f":"Test!F116","v":67235.67},{"$f":"Test!G116","v":47.35},18.676575,null,null,null,null,null,null,null,null,{"$f":"Anchor!H116","v":38.503700000000002},{"$f":"Anchor!I116","v":38.758000000000003},{"$f":"Anchor!J116","v":37.6783},null,{"$f":"Test!H116","v":39.873399999999997},{"$f":"Test!I116","v":40.322800000000001},{"$f":"Test!J116","v":39.128799999999998}]
["RGB, text & graphics with motion,720p","sc_web_browsing_1280x720_30_8bit_300_rgb",22,{"$f":"Anchor!B117","v":549.23919999999998},{"$f":"Anchor!C117","v":53.410899999999998},{"$f":"Anchor!D117","v":52.215200000000003},{"$f":"Anchor!E117","v":52.076999999999998},{"$f":"Anchor!F117","v":3988.69},{"$f":"Anchor!G117","v":9.7100000000000009},1.1079694444444446,null,{"$f":"Test!B117","v":516.10080000000005},{"$f":"Test!C117","v":54.612900000000003},{"$f":"Test!D117","v":53.3108},{"$f":"Test!E117","v":53.203000000000003},{"$f":"Test!F117","v":4006.32},{"$f":"Test!G117","v":10.33},1.1128666666666667,null,{"$f":"bdrate(D15:D18,E15:E18,L15:L18,M15:M18)","v":-0.10895942430988603},{"$f":"bdrate(D15:D18,F15:F18,L15:L18,N15:N18)","v":-0.10177721538793094},{"$f":"bdrate(D15:D18,G15:G18,L15:L18,O15:O18)","v":-0.10828955328149836},{"$f":"bdrateOld(D15:D18,E15:E18,L15:L18,M15:M18)","v":-0.10844517572785561},{"$f":"bdrateOld(D15:D18,F15:F18,L15:L18,N15:N18)","v":-0.10142767928099172},{"$f":"bdrateOld(D15:D18,G15:G18,L15:L18,O15:O18)","v":-0.10814417445501345},null,{"$f":"Anchor!H117","v":52.867699999999999},{"$f":"Anchor!I117","v":51.8279},{"$f":"Anchor!J117","v":51.733199999999997},null,{"$f":"Test!H117","v":53.849200000000003},{"$f":"Test!I117","v":52.741199999999999},{"$f":"Test!J117","v":52.661299999999997}]
[null,null,27,{"$f":"Anchor!B118","v":434.34399999999999},{"$f":"Anchor!C118","v":48.516199999999998},{"$f":"Anchor!D118","v":47.500900000000001},{"$f":"Anchor!E118","v":47.3001},{"$f":"Anchor!F118","v":3913.36},{"$f":"Anchor!G118","v":9.85},1.0870444444444445,null,{"$f":"Test!B118","v":415.87520000000001},{"$f":"Test!C118","v":50.249899999999997},{"$f":"Test!D118","v":48.994700000000002},{"$f":"Test!E118","v":48.990900000000003},{"$f":"Test!F118","v":4084.18},{"$f":"Test!G118","v":10.35},1.1344944444444445,null,null,null,null,null,null,null,null,{"$f":"Anchor!H118","v":48.148499999999999},{"$f":"Anchor!I118","v":47.182299999999998},{"$f":"Anchor!J118","v":47.039700000000003},null,{"$f":"Test!H118","v":49.599400000000003},{"$f":"Test!I118","v":48.495100000000001},{"$f":"Test!J118","v":48.5182}]
[null,null,32,{"$f":"Anchor!B119","v":345.67599999999999},{"$f":"Anchor!C119","v":44.553100000000001},{"$f":"Anchor!D119","v":43.4801},{"$f":"Anchor!E119","v":43.2089},{"$f":"Anchor!F119","v":3932.32},{"$f":"Anchor!G119","v":9.82},1.0923111111111112,null,{"$f":"Test!B119","v":341.00799999999998},{"$f":"Test!C119","v":46.444600000000001},{"$f":"Test!D119","v":45.139000000000003},{"$f":"Test!E119","v":45.067700000000002},{"$f":"Test!F119","v":3841.46},{"$f":"Test!G119","v":10.4},1.0670722222222222,null,null,null,null,null,null,null,null,{"$f":"Anchor!H119","v":44.2545},{"$f":"Anchor!I119","v":43.198500000000003},{"$f":"Anchor!J119","v":42.967199999999998},null,{"$f":"Test!H119","v":45.762500000000003},{"$f":"Test!I119","v":44.626800000000003},{"$f":"Test!J119","v":44.606299999999997}]
[null,null,37,{"$f":"Anchor!B120","v":263.60000000000002},{"$f":"Anchor!C120","v":37.392400000000002},{"$f":"Anchor!D120","v":37.051200000000001},{"$f":"Anchor!E120","v":36.932899999999997},{"$f":"Anchor!F120","v":3723.91},{"$f":"Anchor!G120","v":9.83},1.0344194444444443,null,{"$f":"Test!B120","v":264.88319999999999},{"$f":"Test!C120","v":40.406399999999998},{"$f":"Test!D120","v":39.6218},{"$f":"Test!E120","v":39.424799999999998},{"$f":"Test!F120","v":3825.29},{"$f":"Test!G120","v":10.34},1.0625805555555556,null,null,null,null,null,null,null,null,{"$f":"Anchor!H120","v":37.316800000000001},{"$f":"Anchor!I120","v":36.955599999999997},{"$f":"Anchor!J120","v":36.845100000000002},null,{"$f":"Test!H120","v":40.164400000000001},{"$f":"Test!I120","v":39.383899999999997},{"$f":"Test!J120","v":39.232399999999998}]
[null,"sc_map_1280x720_60_8bit",22,{"$f":"Anchor!B121","v":3321.1255999999998},{"$f":"Anchor!C121","v":47.768999999999998},{"$f":"Anchor!D121","v":47.015999999999998},{"$f":"Anchor!E121","v":47.270800000000001},{"$f":"Anchor!F121","v":18255.18},{"$f":"Anchor!G121","v":21.5},5.0708833333333336,null,{"$f":"Test!B121","v":3228.6848},{"$f":"Test!C121","v":48.896700000000003},{"$f":"Test!D121","v":48.141300000000001},{"$f":"Test!E121","v":48.4255},{"$f":"Test!F121","v":18513.03},{"$f":"Test!G121","v":22.37},5.1425083333333328,null,{"$f":"bdrate(D19:D22,E19:E22,L19:L22,M19:M22)","v":-6.8774491720622777E-2},{"$f":"bdrate(D19:D22,F19:F22,L19:L22,N19:N22)","v":-6.8215428968793734E-2},{"$f":"bdrate(D19:D22,G19:G22,L19:L22,O19:O22)","v":-7.2151099096405602E-2},{"$f":"bdrateOld(D19:D22,E19:E22,L19:L22,M19:M22)","v":-6.8769549399146146E-2},{"$f":"bdrateOld(D19:D22,F19:F22,L19:L22,N19:N22)","v":-6.8136143219805989E-2},{"$f":"bdrateOld(D19:D22,G19:G22,L19:L22,O19:O22)","v":-7.212050327111863E-2},null,{"$f":"Anchor!H121","v":47.183},{"$f":"Anchor!I121","v":46.429499999999997},{"$f":"Anchor!J121","v":46.745899999999999},null,{"$f":"Test!H121","v":48.226100000000002},{"$f":"Test!I121","v":47.425699999999999},{"$f":"Test!J121","v":47.840400000000002}]
[null,null,27,{"$f":"Anchor!B122","v":2119.66},{"$f":"Anchor!C122","v":43.401800000000001},{"$f":"Anchor!D122","v":42.692},{"$f":"Anchor!E122","v":43.135899999999999},{"$f":"Anchor!F122","v":16519.919999999998},{"$f":"Anchor!G122","v":20.99},4.5888666666666662,null,{"$f":"Test!B122","v":2116.4104000000002},{"$f":"Test!C122","v":44.192599999999999},{"$f":"Test!D122","v":43.440399999999997},{"$f":"Test!E122","v":43.920400000000001},{"$f":"Test!F122","v":17200.46},{"$f":"Test!G122","v":21.98},4.777905555555555,null,null,null,null,null,null,null,null,{"$f":"Anchor!H122","v":42.7727},{"$f":"Anchor!I122","v":42.040100000000002},{"$f":"Anchor!J122","v":42.570799999999998},null,{"$f":"Test!H122","v":43.536499999999997},{"$f":"Test!I122","v":42.742899999999999},{"$f":"Test!J122","v":43.3476}]
[null,null,32,{"$f":"Anchor!B123","v":1330.2280000000001},{"$f":"Anchor!C123","v":39.079300000000003},{"$f":"Anchor!D123","v":38.3872},{"$f":"Anchor!E123","v":39.081000000000003},{"$f":"Anchor!F123","v":15044.18},{"$f":"Anchor!G123","v":20.58},4.1789388888888892,null,{"$f":"Test!B123","v":1351.412},{"$f":"Test!C123","v":39.682499999999997},{"$f":"Test!D123","v":39.012900000000002},{"$f":"Test!E123","v":39.683900000000001},{"$f":"Test!F123","v":15310.25},{"$f":"Test!G123","v":21.6},4.252847222222222,null,null,null,null,null,null,null,null,{"$f":"Anchor!H123","v":38.439},{"$f":"Anchor!I123","v":37.7239},{"$f":"Anchor!J123","v":38.508099999999999},null,{"$f":"Test!H123","v":38.990400000000001},{"$f":"Test!I123","v":38.285600000000002},{"$f":"Test!J123","v":39.081400000000002}]
[null,null,37,{"$f":"Anchor!B124","v":813.18719999999996},{"$f":"Anchor!C124","v":34.941600000000001},{"$f":"Anchor!D124","v":34.345199999999998},{"$f":"Anchor!E124","v":35.193199999999997},{"$f":"Anchor!F124","v":13377.63},{"$f":"Anchor!G124","v":20.149999999999999},3.7160083333333329,null,{"$f":"Test!B124","v":837.70159999999998},{"$f":"Test!C124","v":35.591200000000001},{"$f":"Test!D124","v":34.946399999999997},{"$f":"Test!E124","v":35.791499999999999},{"$f":"Test!F124","v":13595.15},{"$f":"Test!G124","v":21.29},3.7764305555555553,null,null,null,null,null,null,null,null,{"$f":"Anchor!H124","v":34.357500000000002},{"$f":"Anchor!I124","v":33.7059},{"$f":"Anchor!J124","v":34.664499999999997},null,{"$f":"Test!H124","v":34.889400000000002},{"$f":"Test!I124","v":34.197099999999999},{"$f":"Test!J124","v":35.179200000000002}]
[null,"sc_programming_1280x720_60_8bit",22,{"$f":"Anchor!B125","v":9838.1880000000001},{"$f":"Anchor!C125","v":46.981099999999998},{"$f":"Anchor!D125","v":46.482900000000001},{"$f":"Anchor!E125","v":46.1663},{"$f":"Anchor!F125","v":44842.42},{"$f":"Anchor!G125","v":27.85},12.456227777777777,null,{"$f":"Test!B125","v":9742.6584000000003},{"$f":"Test!C125","v":47.275599999999997},{"$f":"Test!D125","v":46.681600000000003},{"$f":"Test!E125","v":46.382300000000001},{"$f":"Test!F125","v":45379.94},{"$f":"Test!G125","v":28.55},12.605538888888889,null,{"$f":"bdrate(D23:D26,E23:E26,L23:L26,M23:M26)","v":-4.4848606868893692E-2},{"$f":"bdrate(D23:D26,F23:F26,L23:L26,N23:N26)","v":-1.9806755516741381E-2},{"$f":"bdrate(D23:D26,G23:G26,L23:L26,O23:O26)","v":-2.4736079721087489E-2},{"$f":"bdrateOld(D23:D26,E23:E26,L23:L26,M23:M26)","v":-4.4737398528929662E-2},{"$f":"bdrateOld(D23:D26,F23:F26,L23:L26,N23:N26)","v":-1.9746888521114725E-2},{"$f":"bdrateOld(D23:D26,G23:G26,L23:L26,O23:O26)","v":-2.4728454900099672E-2},null,{"$f":"Anchor!H125","v":46.832000000000001},{"$f":"Anchor!I125","v":46.2928},{"$f":"Anchor!J125","v":45.995100000000001},null,{"$f":"Test!H125","v":47.1113},{"$f":"Test!I125","v":46.480600000000003},{"$f":"Test!J125","v":46.205199999999998}]
[null,null,27,{"$f":"Anchor!B126","v":5930.4111999999996},{"$f":"Anchor!C126","v":42.666200000000003},{"$f":"Anchor!D126","v":41.581200000000003},{"$f":"Anchor!E126","v":41.703499999999998},{"$f":"Anchor!F126","v":37566.17},{"$f":"Anchor!G126","v":25.23},10.435047222222222,null,{"$f":"Test!B126","v":5947.3023999999996},{"$f":"Test!C126","v":42.966900000000003},{"$f":"Test!D126","v":41.759300000000003},{"$f":"Test!E126","v":41.902700000000003},{"$f":"Test!F126","v":38619.980000000003},{"$f":"Test!G126","v":26.21},10.727772222222223,null,null,null,null,null,null,null,null,{"$f":"Anchor!H126","v":42.465800000000002},{"$f":"Anchor!I126","v":41.315399999999997},{"$f":"Anchor!J126","v":41.477499999999999},null,{"$f":"Test!H126","v":42.734400000000001},{"$f":"Test!I126","v":41.472799999999999},{"$f":"Test!J126","v":41.653500000000001}]
[null,null,32,{"$f":"Anchor!B127","v":3238.0216},{"$f":"Anchor!C127","v":38.446899999999999},{"$f":"Anchor!D127","v":36.814599999999999},{"$f":"Anchor!E127","v":37.334299999999999},{"$f":"Anchor!F127","v":31826.51},{"$f":"Anchor!G127","v":23.43},8.8406972222222215,null,{"$f":"Test!B127","v":3264.6},{"$f":"Test!C127","v":38.835099999999997},{"$f":"Test!D127","v":37.002899999999997},{"$f":"Test!E127","v":37.539900000000003},{"$f":"Test!F127","v":32264.720000000001},{"$f":"Test!G127","v":24.46},8.962422222222223,null,null,null,null,null,null,null,null,{"$f":"Anchor!H127","v":38.265999999999998},{"$f":"Anchor!I127","v":36.537100000000002},{"$f":"Anchor!J127","v":37.122599999999998},null,{"$f":"Test!H127","v":38.6145},{"$f":"Test!I127","v":36.697499999999998},{"$f":"Test!J127","v":37.3035}]
[null,null,37,{"$f":"Anchor!B128","v":1676.3407999999999},{"$f":"Anchor!C128","v":34.5824},{"$f":"Anchor!D128","v":32.818199999999997},{"$f":"Anchor!E128","v":33.508400000000002},{"$f":"Anchor!F128","v":26344.04},{"$f":"Anchor!G128","v":21.95},7.3177888888888889,null,{"$f":"Test!B128","v":1699.2056},{"$f":"Test!C128","v":35.011499999999998},{"$f":"Test!D128","v":33.023200000000003},{"$f":"Test!E128","v":33.761600000000001},{"$f":"Test!F128","v":26784.799999999999},{"$f":"Test!G128","v":23.06},7.4402222222222223,null,null,null,null,null,null,null,null,{"$f":"Anchor!H128","v":34.457900000000002},{"$f":"Anchor!I128","v":32.626600000000003},{"$f":"Anchor!J128","v":33.368299999999998},null,{"$f":"Test!H128","v":34.860999999999997},{"$f":"Test!I128","v":32.808399999999999},{"$f":"Test!J128","v":33.603000000000002}]
[null,"sc_SlideShow_1280x720_20_8bit_500",22,{"$f":"Anchor!B129","v":1206.5202999999999},{"$f":"Anchor!C129","v":50.726599999999998},{"$f":"Anchor!D129","v":50.246400000000001},{"$f":"Anchor!E129","v":50.403500000000001},{"$f":"Anchor!F129","v":25585.73},{"$f":"Anchor!G129","v":20.81},7.1071472222222223,null,{"$f":"Test!B129","v":1205.5974000000001},{"$f":"Test!C129","v":50.878599999999999},{"$f":"Test!D129","v":50.3902},{"$f":"Test!E129","v":50.560200000000002},{"$f":"Test!F129","v":25931.14},{"$f":"Test!G129","v":21.63},7.203094444444444,null,{"$f":"bdrate(D27:D30,E27:E30,L27:L30,M27:M30)","v":-2.7951058536031193E-2},{"$f":"bdrate(D27:D30,F27:F30,L27:L30,N27:N30)","v":-2.2702050817654085E-2},{"$f":"bdrate(D27:D30,G27:G30,L27:L30,O27:O30)","v":-2.5108910521360217E-2},{"$f":"bdrateOld(D27:D30,E27:E30,L27:L30,M27:M30)","v":-2.7952902177786232E-2},{"$f":"bdrateOld(D27:D30,F27:F30,L27:L30,N27:N30)","v":-2.268345633596025E-2},{"$f":"bdrateOld(D27:D30,G27:G30,L27:L30,O27:O30)","v":-2.5050731090547007E-2},null,{"$f":"Anchor!H129","v":49.567799999999998},{"$f":"Anchor!I129","v":49.072499999999998},{"$f":"Anchor!J129","v":49.274500000000003},null,{"$f":"Test!H129","v":49.6845},{"$f":"Test!I129","v":49.185899999999997},{"$f":"Test!J129","v":49.392499999999998}]
[null,null,27,{"$f":"Anchor!B130","v":722.31550000000004},{"$f":"Anchor!C130","v":47.047899999999998},{"$f":"Anchor!D130","v":46.432299999999998},{"$f":"Anchor!E130","v":46.658200000000001},{"$f":"Anchor!F130","v":22222.86},{"$f":"Anchor!G130","v":19.75},6.1730166666666673,null,{"$f":"Test!B130","v":721.92700000000002},{"$f":"Test!C130","v":47.2361},{"$f":"Test!D130","v":46.587000000000003},{"$f":"Test!E130","v":46.826300000000003},{"$f":"Test!F130","v":22792.77},{"$f":"Test!G130","v":20.57},6.3313250000000005,null,null,null,null,null,null,null,null,{"$f":"Anchor!H130","v":45.840200000000003},{"$f":"Anchor!I130","v":45.151499999999999},{"$f":"Anchor!J130","v":45.451500000000003},null,{"$f":"Test!H130","v":45.989899999999999},{"$f":"Test!I130","v":45.277700000000003},{"$f":"Test!J130","v":45.5931}]
[null,null,32,{"$f":"Anchor!B131","v":438.20420000000001},{"$f":"Anchor!C131","v":43.604999999999997},{"$f":"Anchor!D131","v":42.930500000000002},{"$f":"Anchor!E131","v":43.198500000000003},{"$f":"Anchor!F131","v":19476.009999999998},{"$f":"Anchor!G131","v":18.899999999999999},5.4100027777777777,null,{"$f":"Test!B131","v":441.76029999999997},{"$f":"Test!C131","v":43.871299999999998},{"$f":"Test!D131","v":43.157800000000002},{"$f":"Test!E131","v":43.451099999999997},{"$f":"Test!F131","v":19778.8},{"$f":"Test!G131","v":19.690000000000001},5.4941111111111107,null,null,null,null,null,null,null,null,{"$f":"Anchor!H131","v":42.398600000000002},{"$f":"Anchor!I131","v":41.606299999999997},{"$f":"Anchor!J131","v":41.972700000000003},null,{"$f":"Test!H131","v":42.602600000000002},{"$f":"Test!I131","v":41.768300000000004},{"$f":"Test!J131","v":42.156399999999998}]
[null,null,37,{"$f":"Anchor!B132","v":279.01819999999998},{"$f":"Anchor!C132","v":40.191000000000003},{"$f":"Anchor!D132","v":39.567700000000002},{"$f":"Anchor!E132","v":39.806100000000001},{"$f":"Anchor!F132","v":17491.14},{"$f":"Anchor!G132","v":18.29},4.8586499999999999,null,{"$f":"Test!B132","v":284.93729999999999},{"$f":"Test!C132","v":40.6372},{"$f":"Test!D132","v":39.9407},{"$f":"Test!E132","v":40.183999999999997},{"$f":"Test!F132","v":17681.8},{"$f":"Test!G132","v":19.09},4.9116111111111111,null,null,null,null,null,null,null,null,{"$f":"Anchor!H132","v":39.083199999999998},{"$f":"Anchor!I132","v":38.335700000000003},{"$f":"Anchor!J132","v":38.7119},null,{"$f":"Test!H132","v":39.418100000000003},{"$f":"Test!I132","v":38.603499999999997},{"$f":"Test!J132","v":38.991300000000003}]
["RGB, mixed content, 1440p","Basketball_Screen_2560x1440_60p_8b444",22,{"$f":"Anchor!B133","v":13726.988799999999},{"$f":"Anchor!C133","v":46.1616},{"$f":"Anchor!D133","v":45.327399999999997},{"$f":"Anchor!E133","v":45.477400000000003},{"$f":"Anchor!F133","v":40097.42},{"$f":"Anchor!G133","v":43.23},11.138172222222222,null,{"$f":"Test!B133","v":13701.9872},{"$f":"Test!C133","v":46.221899999999998},{"$f":"Test!D133","v":45.371899999999997},{"$f":"Test!E133","v":45.508000000000003},{"$f":"Test!F133","v":40809.360000000001},{"$f":"Test!G133","v":45.73},11.335933333333333,null,{"$f":"bdrate(D31:D34,E31:E34,L31:L34,M31:M34)","v":-2.0477677978297693E-2},{"$f":"bdrate(D31:D34,F31:F34,L31:L34,N31:N34)","v":-1.3886556132934769E-2},{"$f":"bdrate(D31:D34,G31:G34,L31:L34,O31:O34)","v":-1.485286322066981E-2},{"$f":"bdrateOld(D31:D34,E31:E34,L31:L34,M31:M34)","v":-2.0528838179591058E-2},{"$f":"bdrateOld(D31:D34,F31:F34,L31:L34,N31:N34)","v":-1.3888610393472889E-2},{"$f":"bdrateOld(D31:D34,G31:G34,L31:L34,O31:O34)","v":-1.4852421000520755E-2},null,{"$f":"Anchor!H133","v":46.150300000000001},{"$f":"Anchor!I133","v":45.303100000000001},{"$f":"Anchor!J133","v":45.459899999999998},null,{"$f":"Test!H133","v":46.210599999999999},{"$f":"Test!I133","v":45.347200000000001},{"$f":"Test!J133","v":45.490400000000001}]
[null,null,27,{"$f":"Anchor!B134","v":6562.5136000000002},{"$f":"Anchor!C134","v":42.820099999999996},{"$f":"Anchor!D134","v":41.962899999999998},{"$f":"Anchor!E134","v":42.035699999999999},{"$f":"Anchor!F134","v":32623.34},{"$f":"Anchor!G134","v":40.94},9.062038888888889,null,{"$f":"Test!B134","v":6545.0591999999997},{"$f":"Test!C134","v":42.891399999999997},{"$f":"Test!D134","v":42.011099999999999},{"$f":"Test!E134","v":42.098100000000002},{"$f":"Test!F134","v":33301.5},{"$f":"Test!G134","v":42.66},9.2504166666666663,null,null,null,null,null,null,null,null,{"$f":"Anchor!H134","v":42.810600000000001},{"$f":"Anchor!I134","v":41.948999999999998},{"$f":"Anchor!J134","v":42.022100000000002},null,{"$f":"Test!H134","v":42.882300000000001},{"$f":"Test!I134","v":41.997300000000003},{"$f":"Test!J134","v":42.084600000000002}]
[null,null,32,{"$f":"Anchor!B135","v":3621.8128000000002},{"$f":"Anchor!C135","v":39.328299999999999},{"$f":"Anchor!D135","v":38.682099999999998},{"$f":"Anchor!E135","v":38.676600000000001},{"$f":"Anchor!F135","v":27481.17},{"$f":"Anchor!G135","v":39.4},7.633658333333333,null,{"$f":"Test!B135","v":3614.48},{"$f":"Test!C135","v":39.477699999999999},{"$f":"Test!D135","v":38.759599999999999},{"$f":"Test!E135","v":38.764499999999998},{"$f":"Test!F135","v":27910.66},{"$f":"Test!G135","v":41.61},7.7529611111111114,null,null,null,null,null,null,null,null,{"$f":"Anchor!H135","v":39.319400000000002},{"$f":"Anchor!I135","v":38.6723},{"$f":"Anchor!J135","v":38.665399999999998},null,{"$f":"Test!H135","v":39.469000000000001},{"$f":"Test!I135","v":38.750100000000003},{"$f":"Test!J135","v":38.753700000000002}]
[null,null,37,{"$f":"Anchor!B136","v":2176.6095999999998},{"$f":"Anchor!C136","v":35.790700000000001},{"$f":"Anchor!D136","v":35.194400000000002},{"$f":"Anchor!E136","v":35.146000000000001},{"$f":"Anchor!F136","v":23747.48},{"$f":"Anchor!G136","v":38.71},6.5965222222222222,null,{"$f":"Test!B136","v":2185.2208000000001},{"$f":"Test!C136","v":35.988500000000002},{"$f":"Test!D136","v":35.3643},{"$f":"Test!E136","v":35.312199999999997},{"$f":"Test!F136","v":24180.92},{"$f":"Test!G136","v":40.880000000000003},6.7169222222222214,null,null,null,null,null,null,null,null,{"$f":"Anchor!H136","v":35.781199999999998},{"$f":"Anchor!I136","v":35.185499999999998},{"$f":"Anchor!J136","v":35.136200000000002},null,{"$f":"Test!H136","v":35.9801},{"$f":"Test!I136","v":35.356400000000001},{"$f":"Test!J136","v":35.303600000000003}]
[null,"MissionControlClip2_2560x1440_60p_8b444",22,{"$f":"Anchor!B137","v":12981.096},{"$f":"Anchor!C137","v":45.853099999999998},{"$f":"Anchor!D137","v":45.408200000000001},{"$f":"Anchor!E137","v":45.456899999999997},{"$f":"Anchor!F137","v":55851.32},{"$f":"Anchor!G137","v":46.49},15.514255555555556,null,{"$f":"Test!B137","v":12979.9136},{"$f":"Test!C137","v":45.888100000000001},{"$f":"Test!D137","v":45.430799999999998},{"$f":"Test!E137","v":45.476500000000001},{"$f":"Test!F137","v":55511.57},{"$f":"Test!G137","v":48.51},15.419880555555556,null,{"$f":"bdrate(D35:D38,E35:E38,L35:L38,M35:M38)","v":-7.7811167251711222E-3},{"$f":"bdrate(D35:D38,F35:F38,L35:L38,N35:N38)","v":-8.4985159767978491E-3},{"$f":"bdrate(D35:D38,G35:G38,L35:L38,O35:O38)","v":-6.3388792879532918E-3},{"$f":"bdrateOld(D35:D38,E35:E38,L35:L38,M35:M38)","v":-7.7926531186793824E-3},{"$f":"bdrateOld(D35:D38,F35:F38,L35:L38,N35:N38)","v":-8.5013551159557332E-3},{"$f":"bdrateOld(D35:D38,G35:G38,L35:L38,O35:O38)","v":-6.3440456845705873E-3},null,{"$f":"Anchor!H137","v":45.7241},{"$f":"Anchor!I137","v":45.288600000000002},{"$f":"Anchor!J137","v":45.321899999999999},null,{"$f":"Test!H137","v":45.7468},{"$f":"Test!I137","v":45.304299999999998},{"$f":"Test!J137","v":45.334600000000002}]
[null,null,27,{"$f":"Anchor!B138","v":7419.5631999999996},{"$f":"Anchor!C138","v":42.585000000000001},{"$f":"Anchor!D138","v":42.234299999999998},{"$f":"Anchor!E138","v":42.206499999999998},{"$f":"Anchor!F138","v":46458.720000000001},{"$f":"Anchor!G138","v":44.59},12.905200000000001,null,{"$f":"Test!B138","v":7412.6688000000004},{"$f":"Test!C138","v":42.619500000000002},{"$f":"Test!D138","v":42.279299999999999},{"$f":"Test!E138","v":42.230600000000003},{"$f":"Test!F138","v":47331.02},{"$f":"Test!G138","v":46.6},13.147505555555554,null,null,null,null,null,null,null,null,{"$f":"Anchor!H138","v":42.404899999999998},{"$f":"Anchor!I138","v":42.099800000000002},{"$f":"Anchor!J138","v":42.038699999999999},null,{"$f":"Test!H138","v":42.4285},{"$f":"Test!I138","v":42.132800000000003},{"$f":"Test!J138","v":42.056600000000003}]
[null,null,32,{"$f":"Anchor!B139","v":4198.0191999999997},{"$f":"Anchor!C139","v":39.162500000000001},{"$f":"Anchor!D139","v":39.002200000000002},{"$f":"Anchor!E139","v":38.845500000000001},{"$f":"Anchor!F139","v":39531.85},{"$f":"Anchor!G139","v":42.96},10.981069444444444,null,{"$f":"Test!B139","v":4209.6368000000002},{"$f":"Test!C139","v":39.229900000000001},{"$f":"Test!D139","v":39.071599999999997},{"$f":"Test!E139","v":38.906100000000002},{"$f":"Test!F139","v":40134.639999999999},{"$f":"Test!G139","v":44.95},11.148511111111111,null,null,null,null,null,null,null,null,{"$f":"Anchor!H139","v":38.966999999999999},{"$f":"Anchor!I139","v":38.856099999999998},{"$f":"Anchor!J139","v":38.666800000000002},null,{"$f":"Test!H139","v":39.020400000000002},{"$f":"Test!I139","v":38.914200000000001},{"$f":"Test!J139","v":38.7179}]
[null,null,37,{"$f":"Anchor!B140","v":2433.7728000000002},{"$f":"Anchor!C140","v":35.971699999999998},{"$f":"Anchor!D140","v":35.886499999999998},{"$f":"Anchor!E140","v":35.672800000000002},{"$f":"Anchor!F140","v":33679.1},{"$f":"Anchor!G140","v":41.65},9.3553055555555549,null,{"$f":"Test!B140","v":2453.8560000000002},{"$f":"Test!C140","v":36.080500000000001},{"$f":"Test!D140","v":35.986699999999999},{"$f":"Test!E140","v":35.777000000000001},{"$f":"Test!F140","v":34207.31},{"$f":"Test!G140","v":43.72},9.5020305555555549,null,null,null,null,null,null,null,null,{"$f":"Anchor!H140","v":35.805799999999998},{"$f":"Anchor!I140","v":35.768000000000001},{"$f":"Anchor!J140","v":35.523499999999999},null,{"$f":"Test!H140","v":35.902299999999997},{"$f":"Test!I140","v":35.859900000000003},{"$f":"Test!J140","v":35.618699999999997}]
["RGB, mixed content, 1080p","MissionControlClip3_1920x1080_60p_8b444",22,{"$f":"Anchor!B141","v":5155.5528000000004},{"$f":"Anchor!C141","v":47.2042},{"$f":"Anchor!D141","v":46.634099999999997},{"$f":"Anchor!E141","v":46.688299999999998},{"$f":"Anchor!F141","v":43996.89},{"$f":"Anchor!G141","v":49.17},12.221358333333333,null,{"$f":"Test!B141","v":5139.0072},{"$f":"Test!C141","v":47.302},{"$f":"Test!D141","v":46.733400000000003},{"$f":"Test!E141","v":46.781500000000001},{"$f":"Test!F141","v":44774.23},{"$f":"Test!G141","v":51.27},12.437286111111112,null,{"$f":"bdrate(D39:D42,E39:E42,L39:L42,M39:M42)","v":-2.1077482573351625E-2},{"$f":"bdrate(D39:D42,F39:F42,L39:L42,N39:N42)","v":-2.2538090719557147E-2},{"$f":"bdrate(D39:D42,G39:G42,L39:L42,O39:O42)","v":-1.9869967075580197E-2},{"$f":"bdrateOld(D39:D42,E39:E42,L39:L42,M39:M42)","v":-2.1149312074129178E-2},{"$f":"bdrateOld(D39:D42,F39:F42,L39:L42,N39:N42)","v":-2.2603553964297141E-2},{"$f":"bdrateOld(D39:D42,G39:G42,L39:L42,O39:O42)","v":-1.9904764669772534E-2},null,{"$f":"Anchor!H141","v":46.979100000000003},{"$f":"Anchor!I141","v":46.450099999999999},{"$f":"Anchor!J141","v":46.488300000000002},null,{"$f":"Test!H141","v":47.063800000000001},{"$f":"Test!I141","v":46.536999999999999},{"$f":"Test!J141","v":46.568300000000001}]
[null,null,27,{"$f":"Anchor!B142","v":3036.2864},{"$f":"Anchor!C142","v":43.6524},{"$f":"Anchor!D142","v":43.113799999999998},{"$f":"Anchor!E142","v":43.106299999999997},{"$f":"Anchor!F142","v":36767.39},{"$f":"Anchor!G142","v":47.41},10.213163888888889,null,{"$f":"Test!B142","v":3027.4544000000001},{"$f":"Test!C142","v":43.755899999999997},{"$f":"Test!D142","v":43.219200000000001},{"$f":"Test!E142","v":43.21},{"$f":"Test!F142","v":37493.269999999997},{"$f":"Test!G142","v":49.55},10.414797222222221,null,null,null,null,null,null,null,null,{"$f":"Anchor!H142","v":43.407400000000003},{"$f":"Anchor!I142","v":42.9375},{"$f":"Anchor!J142","v":42.905999999999999},null,{"$f":"Test!H142","v":43.494},{"$f":"Test!I142","v":43.030999999999999},{"$f":"Test!J142","v":42.997700000000002}]
[null,null,32,{"$f":"Anchor!B143","v":1871.7072000000001},{"$f":"Anchor!C143","v":39.792200000000001},{"$f":"Anchor!D143","v":39.458300000000001},{"$f":"Anchor!E143","v":39.3414},{"$f":"Anchor!F143","v":31926.23},{"$f":"Anchor!G143","v":46.26},8.8683972222222227,null,{"$f":"Test!B143","v":1863.6135999999999},{"$f":"Test!C143","v":39.9587},{"$f":"Test!D143","v":39.645000000000003},{"$f":"Test!E143","v":39.488599999999998},{"$f":"Test!F143","v":32559.94},{"$f":"Test!G143","v":48.4},9.0444277777777771,null,null,null,null,null,null,null,null,{"$f":"Anchor!H143","v":39.563600000000001},{"$f":"Anchor!I143","v":39.2971},{"$f":"Anchor!J143","v":39.148600000000002},null,{"$f":"Test!H143","v":39.714199999999998},{"$f":"Test!I143","v":39.470199999999998},{"$f":"Test!J143","v":39.286099999999998}]
[null,null,37,{"$f":"Anchor!B144","v":1193.7672},{"$f":"Anchor!C144","v":35.831899999999997},{"$f":"Anchor!D144","v":35.680399999999999},{"$f":"Anchor!E144","v":35.4876},{"$f":"Anchor!F144","v":28663.45},{"$f":"Anchor!G144","v":45.19},7.9620694444444444,null,{"$f":"Test!B144","v":1194.4431999999999},{"$f":"Test!C144","v":36.081200000000003},{"$f":"Test!D144","v":35.907899999999998},{"$f":"Test!E144","v":35.7012},{"$f":"Test!F144","v":28952.6},{"$f":"Test!G144","v":47.51},8.0423888888888886,null,null,null,null,null,null,null,null,{"$f":"Anchor!H144","v":35.671999999999997},{"$f":"Anchor!I144","v":35.572800000000001},{"$f":"Anchor!J144","v":35.347799999999999},null,{"$f":"Test!H144","v":35.914900000000003},{"$f":"Test!I144","v":35.794899999999998},{"$f":"Test!J144","v":35.5565}]
["RGB, Animation, 720p","sc_robot_1280x720_30_8bit_300",22,{"$f":"Anchor!B145","v":10838.1104},{"$f":"Anchor!C145","v":40.414400000000001},{"$f":"Anchor!D145","v":40.9634},{"$f":"Anchor!E145","v":40.2254},{"$f":"Anchor!F145","v":40044.49},{"$f":"Anchor!G145","v":24.28},11.123469444444444,null,{"$f":"Test!B145","v":10832.968000000001},{"$f":"Test!C145","v":40.417299999999997},{"$f":"Test!D145","v":40.966700000000003},{"$f":"Test!E145","v":40.225299999999997},{"$f":"Test!F145","v":41231.58},{"$f":"Test!G145","v":24.8},11.453216666666668,null,{"$f":"bdrate(D43:D46,E43:E46,L43:L46,M43:M46)","v":-1.5649641773551881E-4},{"$f":"bdrate(D43:D46,F43:F46,L43:L46,N43:N46)","v":-1.2335437442213548E-3},{"$f":"bdrate(D43:D46,G43:G46,L43:L46,O43:O46)","v":-1.5804337517033584E-4},{"$f":"bdrateOld(D43:D46,E43:E46,L43:L46,M43:M46)","v":-2.3108882174971423E-4},{"$f":"bdrateOld(D43:D46,F43:F46,L43:L46,N43:N46)","v":-1.2456686679200857E-3},{"$f":"bdrateOld(D43:D46,G43:G46,L43:L46,O43:O46)","v":-2.9214861017490268E-4},null,{"$f":"Anchor!H145","v":40.318199999999997},{"$f":"Anchor!I145","v":40.894100000000002},{"$f":"Anchor!J145","v":40.122300000000003},null,{"$f":"Test!H145","v":40.321100000000001},{"$f":"Test!I145","v":40.897199999999998},{"$f":"Test!J145","v":40.122199999999999}]
[null,null,27,{"$f":"Anchor!B146","v":4408.4423999999999},{"$f":"Anchor!C146","v":37.0047},{"$f":"Anchor!D146","v":37.659700000000001},{"$f":"Anchor!E146","v":36.687800000000003},{"$f":"Anchor!F146","v":27566.2},{"$f":"Anchor!G146","v":18.52},7.6572777777777778,null,{"$f":"Test!B146","v":4410.9224000000004},{"$f":"Test!C146","v":37.009399999999999},{"$f":"Test!D146","v":37.665999999999997},{"$f":"Test!E146","v":36.691499999999998},{"$f":"Test!F146","v":28273.25},{"$f":"Test!G146","v":19.14},7.853680555555556,null,null,null,null,null,null,null,null,{"$f":"Anchor!H146","v":36.957299999999996},{"$f":"Anchor!I146","v":37.621099999999998},{"$f":"Anchor!J146","v":36.633600000000001},null,{"$f":"Test!H146","v":36.961799999999997},{"$f":"Test!I146","v":37.627099999999999},{"$f":"Test!J146","v":36.637099999999997}]
[null,null,32,{"$f":"Anchor!B147","v":1678.4503999999999},{"$f":"Anchor!C147","v":34.2029},{"$f":"Anchor!D147","v":34.962200000000003},{"$f":"Anchor!E147","v":33.8568},{"$f":"Anchor!F147","v":19883.169999999998},{"$f":"Anchor!G147","v":14.93},5.523102777777777,null,{"$f":"Test!B147","v":1681.1271999999999},{"$f":"Test!C147","v":34.2044},{"$f":"Test!D147","v":34.969200000000001},{"$f":"Test!E147","v":33.858600000000003},{"$f":"Test!F147","v":20279.54},{"$f":"Test!G147","v":15.51},5.6332055555555556,null,null,null,null,null,null,null,null,{"$f":"Anchor!H147","v":34.181899999999999},{"$f":"Anchor!I147","v":34.941800000000001},{"$f":"Anchor!J147","v":33.833500000000001},null,{"$f":"Test!H147","v":34.183500000000002},{"$f":"Test!I147","v":34.948799999999999},{"$f":"Test!J147","v":33.8352}]
[null,null,37,{"$f":"Anchor!B148","v":701.81679999999994},{"$f":"Anchor!C148","v":32.042900000000003},{"$f":"Anchor!D148","v":32.839199999999998},{"$f":"Anchor!E148","v":31.658799999999999},{"$f":"Anchor!F148","v":15686.67},{"$f":"Anchor!G148","v":13},4.3574083333333338,null,{"$f":"Test!B148","v":702.42319999999995},{"$f":"Test!C148","v":32.042499999999997},{"$f":"Test!D148","v":32.842599999999997},{"$f":"Test!E148","v":31.663900000000002},{"$f":"Test!F148","v":15858.69},{"$f":"Test!G148","v":13.58},4.4051916666666671,null,null,null,null,null,null,null,null,{"$f":"Anchor!H148","v":32.031599999999997},{"$f":"Anchor!I148","v":32.8262},{"$f":"Anchor!J148","v":31.647500000000001},null,{"$f":"Test!H148","v":32.031199999999998},{"$f":"Test!I148","v":32.829799999999999},{"$f":"Test!J148","v":31.652799999999999}]
["RGB, camera captured, 1080p","EBURainFruits_1920x1080_50_10bit_444",22,{"$f":"Anchor!B149","v":21330.495999999999},{"$f":"Anchor!C149","v":42.344900000000003},{"$f":"Anchor!D149","v":39.952199999999998},{"$f":"Anchor!E149","v":42.870399999999997},{"$f":"Anchor!F149","v":58624},{"$f":"Anchor!G149","v":43.8},16.284444444444443,null,{"$f":"Test!B149","v":21343.168000000001},{"$f":"Test!C149","v":42.346400000000003},{"$f":"Test!D149","v":39.952300000000001},{"$f":"Test!E149","v":42.872100000000003},{"$f":"Test!F149","v":60180.76},{"$f":"Test!G149","v":45.05},16.716877777777778,null,{"$f":"bdrate(D47:D50,E47:E50,L47:L50,M47:M50)","v":2.9906984893779409E-4},{"$f":"bdrate(D47:D50,F47:F50,L47:L50,N47:N50)","v":4.4661107250476562E-4},{"$f":"bdrate(D47:D50,G47:G50,L47:L50,O47:O50)","v":5.6838346782250859E-4},{"$f":"bdrateOld(D47:D50,E47:E50,L47:L50,M47:M50)","v":2.9984796307025441E-4},{"$f":"bdrateOld(D47:D50,F47:F50,L47:L50,N47:N50)","v":4.455741298616811E-4},{"$f":"bdrateOld(D47:D50,G47:G50,L47:L50,O47:O50)","v":5.6851141756331103E-4},null,{"$f":"Anchor!H149","v":42.317599999999999},{"$f":"Anchor!I149","v":39.883400000000002},{"$f":"Anchor!J149","v":42.832299999999996},null,{"$f":"Test!H149","v":42.319099999999999},{"$f":"Test!I149","v":39.883499999999998},{"$f":"Test!J149","v":42.834000000000003}]
[null,null,27,{"$f":"Anchor!B150","v":8687.3328000000001},{"$f":"Anchor!C150","v":39.833500000000001},{"$f":"Anchor!D150","v":37.814700000000002},{"$f":"Anchor!E150","v":40.217500000000001},{"$f":"Anchor!F150","v":37776.129999999997},{"$f":"Anchor!G150","v":32.29},10.493369444444443,null,{"$f":"Test!B150","v":8685.8431999999993},{"$f":"Test!C150","v":39.834099999999999},{"$f":"Test!D150","v":37.814900000000002},{"$f":"Test!E150","v":40.215899999999998},{"$f":"Test!F150","v":38227.32},{"$f":"Test!G150","v":33.36},10.6187,null,null,null,null,null,null,null,null,{"$f":"Anchor!H150","v":39.820599999999999},{"$f":"Anchor!I150","v":37.783200000000001},{"$f":"Anchor!J150","v":40.197000000000003},null,{"$f":"Test!H150","v":39.821300000000001},{"$f":"Test!I150","v":37.783499999999997},{"$f":"Test!J150","v":40.195500000000003}]
[null,null,32,{"$f":"Anchor!B151","v":4090.6768000000002},{"$f":"Anchor!C151","v":37.237200000000001},{"$f":"Anchor!D151","v":35.663899999999998},{"$f":"Anchor!E151","v":37.618299999999998},{"$f":"Anchor!F151","v":27867.360000000001},{"$f":"Anchor!G151","v":27.84},7.7409333333333334,null,{"$f":"Test!B151","v":4091.3024},{"$f":"Test!C151","v":37.235700000000001},{"$f":"Test!D151","v":35.661799999999999},{"$f":"Test!E151","v":37.616999999999997},{"$f":"Test!F151","v":28552.1},{"$f":"Test!G151","v":28.84},7.9311388888888885,null,null,null,null,null,null,null,null,{"$f":"Anchor!H151","v":37.230400000000003},{"$f":"Anchor!I151","v":35.6494},{"$f":"Anchor!J151","v":37.608499999999999},null,{"$f":"Test!H151","v":37.228999999999999},{"$f":"Test!I151","v":35.647399999999998},{"$f":"Test!J151","v":37.607199999999999}]
[null,null,37,{"$f":"Anchor!B152","v":2060.8463999999999},{"$f":"Anchor!C152","v":34.596699999999998},{"$f":"Anchor!D152","v":33.475900000000003},{"$f":"Anchor!E152","v":35.016300000000001},{"$f":"Anchor!F152","v":23458.91},{"$f":"Anchor!G152","v":25.42},6.5163638888888888,null,{"$f":"Test!B152","v":2063.4784},{"$f":"Test!C152","v":34.594999999999999},{"$f":"Test!D152","v":33.476199999999999},{"$f":"Test!E152","v":35.013100000000001},{"$f":"Test!F152","v":23947.8},{"$f":"Test!G152","v":26.47},6.6521666666666661,null,null,null,null,null,null,null,null,{"$f":"Anchor!H152","v":34.591700000000003},{"$f":"Anchor!I152","v":33.468600000000002},{"$f":"Anchor!J152","v":35.0107},null,{"$f":"Test!H152","v":34.5901},{"$f":"Test!I152","v":33.468800000000002},{"$f":"Test!J152","v":35.007300000000001}]
[null,"Kimono1_1920x1080_24_10bit_444",22,{"$f":"Anchor!B153","v":45194.001600000003},{"$f":"Anchor!C153","v":40.301699999999997},{"$f":"Anchor!D153","v":35.779600000000002},{"$f":"Anchor!E153","v":38.9377},{"$f":"Anchor!F153","v":82155.179999999993},{"$f":"Anchor!G153","v":34.32},22.820883333333331,null,{"$f":"Test!B153","v":45198.64},{"$f":"Test!C153","v":40.302199999999999},{"$f":"Test!D153","v":35.7806},{"$f":"Test!E153","v":38.9377},{"$f":"Test!F153","v":83083.12},{"$f":"Test!G153","v":34.880000000000003},23.078644444444443,null,{"$f":"bdrate(D51:D54,E51:E54,L51:L54,M51:M54)","v":5.030413767901365E-4},{"$f":"bdrate(D51:D54,F51:F54,L51:L54,N51:N54)","v":-1.9280827047185589E-4},{"$f":"bdrate(D51:D54,G51:G54,L51:L54,O51:O54)","v":4.359291800022369E-4},{"$f":"bdrateOld(D51:D54,E51:E54,L51:L54,M51:M54)","v":5.2365751041016928E-4},{"$f":"bdrateOld(D51:D54,F51:F54,L51:L54,N51:N54)","v":-1.269064584227042E-3},{"$f":"bdrateOld(D51:D54,G51:G54,L51:L54,O51:O54)","v":4.4755602431600927E-4},null,{"$f":"Anchor!H153","v":40.263199999999998},{"$f":"Anchor!I153","v":35.162100000000002},{"$f":"Anchor!J153","v":38.872999999999998},null,{"$f":"Test!H153","v":40.263800000000003},{"$f":"Test!I153","v":35.163899999999998},{"$f":"Test!J153","v":38.872999999999998}]
[null,null,27,{"$f":"Anchor!B154","v":10043.208000000001},{"$f":"Anchor!C154","v":38.915599999999998},{"$f":"Anchor!D154","v":32.776400000000002},{"$f":"Anchor!E154","v":37.438800000000001},{"$f":"Anchor!F154","v":45547.83},{"$f":"Anchor!G154","v":22.71},12.652175,null,{"$f":"Test!B154","v":10049.1792},{"$f":"Test!C154","v":38.916600000000003},{"$f":"Test!D154","v":32.777500000000003},{"$f":"Test!E154","v":37.439599999999999},{"$f":"Test!F154","v":46275.77},{"$f":"Test!G154","v":23.24},12.854380555555554,null,null,null,null,null,null,null,null,{"$f":"Anchor!H154","v":38.877200000000002},{"$f":"Anchor!I154","v":32.662999999999997},{"$f":"Anchor!J154","v":37.390099999999997},null,{"$f":"Test!H154","v":38.8782},{"$f":"Test!I154","v":32.664200000000001},{"$f":"Test!J154","v":37.390900000000002}]
[null,null,32,{"$f":"Anchor!B155","v":2942.7264},{"$f":"Anchor!C155","v":37.177399999999999},{"$f":"Anchor!D155","v":31.898800000000001},{"$f":"Anchor!E155","v":35.677100000000003},{"$f":"Anchor!F155","v":28183.68},{"$f":"Anchor!G155","v":17.11},7.8288000000000002,null,{"$f":"Test!B155","v":2942.6864},{"$f":"Test!C155","v":37.1751},{"$f":"Test!D155","v":31.898499999999999},{"$f":"Test!E155","v":35.675600000000003},{"$f":"Test!F155","v":29253.37},{"$f":"Test!G155","v":17.690000000000001},8.1259361111111108,null,null,null,null,null,null,null,null,{"$f":"Anchor!H155","v":37.123399999999997},{"$f":"Anchor!I155","v":31.884699999999999},{"$f":"Anchor!J155","v":35.6145},null,{"$f":"Test!H155","v":37.120899999999999},{"$f":"Test!I155","v":31.884399999999999},{"$f":"Test!J155","v":35.612699999999997}]
[null,null,37,{"$f":"Anchor!B156","v":1325.7344000000001},{"$f":"Anchor!C156","v":35.172800000000002},{"$f":"Anchor!D156","v":31.163900000000002},{"$f":"Anchor!E156","v":33.792000000000002},{"$f":"Anchor!F156","v":20714.060000000001},{"$f":"Anchor!G156","v":14.47},5.7539055555555558,null,{"$f":"Test!B156","v":1327.9631999999999},{"$f":"Test!C156","v":35.176299999999998},{"$f":"Test!D156","v":31.165600000000001},{"$f":"Test!E156","v":33.794800000000002},{"$f":"Test!F156","v":21189.8},{"$f":"Test!G156","v":14.91},5.8860555555555552,null,null,null,null,null,null,null,null,{"$f":"Anchor!H156","v":35.118699999999997},{"$f":"Anchor!I156","v":31.151399999999999},{"$f":"Anchor!J156","v":33.730899999999998},null,{"$f":"Test!H156","v":35.122700000000002},{"$f":"Test!I156","v":31.153099999999998},{"$f":"Test!J156","v":33.733899999999998}]
["YUV, text & graphics with motion, 1080p","sc_flyingGraphics_1920x1080_60_8bit_444",22,{"$f":"Anchor!B157","v":34083.371200000001},{"$f":"Anchor!C157","v":44.377800000000001},{"$f":"Anchor!D157","v":46.604799999999997},{"$f":"Anchor!E157","v":46.659399999999998},{"$f":"Anchor!F157","v":118526.63},{"$f":"Anchor!G157","v":50.99},32.924063888888888,null,{"$f":"Test!B157","v":33677.1584},{"$f":"Test!C157","v":44.682899999999997},{"$f":"Test!D157","v":47.219099999999997},{"$f":"Test!E157","v":47.287300000000002},{"$f":"Test!F157","v":119099.01},{"$f":"Test!G157","v":50.3},33.083058333333334,null,{"$f":"bdrate(D55:D58,E55:E58,L55:L58,M55:M58)","v":-3.4135087797709573E-2},{"$f":"bdrate(D55:D58,F55:F58,L55:L58,N55:N58)","v":-7.9545297389099989E-2},{"$f":"bdrate(D55:D58,G55:G58,L55:L58,O55:O58)","v":-8.3406643248754131E-2},{"$f":"bdrateOld(D55:D58,E55:E58,L55:L58,M55:M58)","v":-3.405742584591076E-2},{"$f":"bdrateOld(D55:D58,F55:F58,L55:L58,N55:N58)","v":-7.9299364184843291E-2},{"$f":"bdrateOld(D55:D58,G55:G58,L55:L58,O55:O58)","v":-8.3343730261399962E-2},null,{"$f":"Anchor!H157","v":44.004600000000003},{"$f":"Anchor!I157","v":46.418500000000002},{"$f":"Anchor!J157","v":46.473799999999997},null,{"$f":"Test!H157","v":44.247399999999999},{"$f":"Test!I157","v":46.982100000000003},{"$f":"Test!J157","v":47.046900000000001}]
[null,null,27,{"$f":"Anchor!B158","v":20366.518400000001},{"$f":"Anchor!C158","v":39.308700000000002},{"$f":"Anchor!D158","v":42.078400000000002},{"$f":"Anchor!E158","v":42.253399999999999},{"$f":"Anchor!F158","v":102118.56},{"$f":"Anchor!G158","v":45.13},28.366266666666665,null,{"$f":"Test!B158","v":20151.088},{"$f":"Test!C158","v":39.5411},{"$f":"Test!D158","v":42.642299999999999},{"$f":"Test!E158","v":42.830800000000004},{"$f":"Test!F158","v":102794.71},{"$f":"Test!G158","v":44.97},28.554086111111111,null,null,null,null,null,null,null,null,{"$f":"Anchor!H158","v":38.978999999999999},{"$f":"Anchor!I158","v":41.893500000000003},{"$f":"Anchor!J158","v":42.089399999999998},null,{"$f":"Test!H158","v":39.164999999999999},{"$f":"Test!I158","v":42.406399999999998},{"$f":"Test!J158","v":42.614199999999997}]
[null,null,32,{"$f":"Anchor!B159","v":11813.1744},{"$f":"Anchor!C159","v":34.922499999999999},{"$f":"Anchor!D159","v":37.783700000000003},{"$f":"Anchor!E159","v":38.188699999999997},{"$f":"Anchor!F159","v":88773.27},{"$f":"Anchor!G159","v":39.57},24.659241666666667,null,{"$f":"Test!B159","v":11773.417600000001},{"$f":"Test!C159","v":35.145899999999997},{"$f":"Test!D159","v":38.406199999999998},{"$f":"Test!E159","v":38.805300000000003},{"$f":"Test!F159","v":89753.66},{"$f":"Test!G159","v":40.020000000000003},24.931572222222222,null,null,null,null,null,null,null,null,{"$f":"Anchor!H159","v":34.648800000000001},{"$f":"Anchor!I159","v":37.586599999999997},{"$f":"Anchor!J159","v":38.027299999999997},null,{"$f":"Test!H159","v":34.829700000000003},{"$f":"Test!I159","v":38.155000000000001},{"$f":"Test!J159","v":38.594200000000001}]
[null,null,37,{"$f":"Anchor!B160","v":6852.6463999999996},{"$f":"Anchor!C160","v":31.1523},{"$f":"Anchor!D160","v":34.18},{"$f":"Anchor!E160","v":34.620800000000003},{"$f":"Anchor!F160","v":76215.94},{"$f":"Anchor!G160","v":35.4},21.171094444444446,null,{"$f":"Test!B160","v":6915.7120000000004},{"$f":"Test!C160","v":31.372499999999999},{"$f":"Test!D160","v":34.792700000000004},{"$f":"Test!E160","v":35.298699999999997},{"$f":"Test!F160","v":76910.33},{"$f":"Test!G160","v":36.020000000000003},21.363980555555557,null,null,null,null,null,null,null,null,{"$f":"Anchor!H160","v":30.936499999999999},{"$f":"Anchor!I160","v":34.0244},{"$f":"Anchor!J160","v":34.500700000000002},null,{"$f":"Test!H160","v":31.1219},{"$f":"Test!I160","v":34.5974},{"$f":"Test!J160","v":35.142099999999999}]
[null,"sc_desktop_1920x1080_60_8bit_444",22,{"$f":"Anchor!B161","v":1977.2728},{"$f":"Anchor!C161","v":51.125599999999999},{"$f":"Anchor!D161","v":51.52},{"$f":"Anchor!E161","v":51.767699999999998},{"$f":"Anchor!F161","v":31177.77},{"$f":"Anchor!G161","v":43.7},8.6604916666666671,null,{"$f":"Test!B161","v":1857.5856000000001},{"$f":"Test!C161","v":54.395899999999997},{"$f":"Test!D161","v":54.948700000000002},{"$f":"Test!E161","v":55.182400000000001},{"$f":"Test!F161","v":31321.91},{"$f":"Test!G161","v":45.37},8.7005305555555559,null,{"$f":"bdrate(D59:D62,E59:E62,L59:L62,M59:M62)","v":-8.8641784766660847E-2},{"$f":"bdrate(D59:D62,F59:F62,L59:L62,N59:N62)","v":-9.207395086675485E-2},{"$f":"bdrate(D59:D62,G59:G62,L59:L62,O59:O62)","v":-9.6693597991002522E-2},{"$f":"bdrateOld(D59:D62,E59:E62,L59:L62,M59:M62)","v":-8.8547517204893733E-2},{"$f":"bdrateOld(D59:D62,F59:F62,L59:L62,N59:N62)","v":-9.1665983995099398E-2},{"$f":"bdrateOld(D59:D62,G59:G62,L59:L62,O59:O62)","v":-9.6303060385521833E-2},null,{"$f":"Anchor!H161","v":51.096899999999998},{"$f":"Anchor!I161","v":51.481499999999997},{"$f":"Anchor!J161","v":51.732199999999999},null,{"$f":"Test!H161","v":54.374000000000002},{"$f":"Test!I161","v":54.926299999999998},{"$f":"Test!J161","v":55.160699999999999}]
[null,null,27,{"$f":"Anchor!B162","v":1734.9176},{"$f":"Anchor!C162","v":46.447699999999998},{"$f":"Anchor!D162","v":46.899000000000001},{"$f":"Anchor!E162","v":47.174199999999999},{"$f":"Anchor!F162","v":30091.88},{"$f":"Anchor!G162","v":43.77},8.3588555555555555,null,{"$f":"Test!B162","v":1674.4896000000001},{"$f":"Test!C162","v":49.285200000000003},{"$f":"Test!D162","v":49.616300000000003},{"$f":"Test!E162","v":50.183100000000003},{"$f":"Test!F162","v":30106.28},{"$f":"Test!G162","v":45.48},8.362855555555555,null,null,null,null,null,null,null,null,{"$f":"Anchor!H162","v":46.408200000000001},{"$f":"Anchor!I162","v":46.850700000000003},{"$f":"Anchor!J162","v":47.121600000000001},null,{"$f":"Test!H162","v":49.238999999999997},{"$f":"Test!I162","v":49.575800000000001},{"$f":"Test!J162","v":50.1372}]
[null,null,32,{"$f":"Anchor!B163","v":1508.9456},{"$f":"Anchor!C163","v":41.494700000000002},{"$f":"Anchor!D163","v":42.289400000000001},{"$f":"Anchor!E163","v":42.543900000000001},{"$f":"Anchor!F163","v":29302.69},{"$f":"Anchor!G163","v":43.92},8.1396361111111108,null,{"$f":"Test!B163","v":1481.32},{"$f":"Test!C163","v":43.946199999999997},{"$f":"Test!D163","v":44.631},{"$f":"Test!E163","v":45.079599999999999},{"$f":"Test!F163","v":28681.06},{"$f":"Test!G163","v":45.64},7.9669611111111118,null,null,null,null,null,null,null,null,{"$f":"Anchor!H163","v":41.439100000000003},{"$f":"Anchor!I163","v":42.227699999999999},{"$f":"Anchor!J163","v":42.486499999999999},null,{"$f":"Test!H163","v":43.866300000000003},{"$f":"Test!I163","v":44.576900000000002},{"$f":"Test!J163","v":45.019599999999997}]
[null,null,37,{"$f":"Anchor!B164","v":1266.5447999999999},{"$f":"Anchor!C164","v":36.335299999999997},{"$f":"Anchor!D164","v":38.189799999999998},{"$f":"Anchor!E164","v":38.1038},{"$f":"Anchor!F164","v":27237.29},{"$f":"Anchor!G164","v":43.78},7.5659138888888888,null,{"$f":"Test!B164","v":1257.8976},{"$f":"Test!C164","v":37.8735},{"$f":"Test!D164","v":39.452399999999997},{"$f":"Test!E164","v":39.671999999999997},{"$f":"Test!F164","v":27393.74},{"$f":"Test!G164","v":45.64},7.6093722222222224,null,null,null,null,null,null,null,null,{"$f":"Anchor!H164","v":36.280700000000003},{"$f":"Anchor!I164","v":38.125999999999998},{"$f":"Anchor!J164","v":38.051200000000001},null,{"$f":"Test!H164","v":37.806100000000001},{"$f":"Test!I164","v":39.399900000000002},{"$f":"Test!J164","v":39.619100000000003}]
[null,"sc_console_1920x1080_60_8bit_444",22,{"$f":"Anchor!B165","v":5778.3576000000003},{"$f":"Anchor!C165","v":52.696399999999997},{"$f":"Anchor!D165","v":53.93},{"$f":"Anchor!E165","v":53.738999999999997},{"$f":"Anchor!F165","v":74917.210000000006},{"$f":"Anchor!G165","v":47.37},20.810336111111113,null,{"$f":"Test!B165","v":5673.7232000000004},{"$f":"Test!C165","v":54.787500000000001},{"$f":"Test!D165","v":56.0745},{"$f":"Test!E165","v":55.400599999999997},{"$f":"Test!F165","v":76362.78},{"$f":"Test!G165","v":48.22},21.211883333333333,null,{"$f":"bdrate(D63:D66,E63:E66,L63:L66,M63:M66)","v":-7.9103263157589754E-2},{"$f":"bdrate(D63:D66,F63:F66,L63:L66,N63:N66)","v":-9.1386311328986669E-2},{"$f":"bdrate(D63:D66,G63:G66,L63:L66,O63:O66)","v":-7.0300468705405184E-2},{"$f":"bdrateOld(D63:D66,E63:E66,L63:L66,M63:M66)","v":-7.8925776175438833E-2},{"$f":"bdrateOld(D63:D66,F63:F66,L63:L66,N63:N66)","v":-9.1425168690361103E-2},{"$f":"bdrateOld(D63:D66,G63:G66,L63:L66,O63:O66)","v":-7.0145530963429126E-2},null,{"$f":"Anchor!H165","v":52.652299999999997},{"$f":"Anchor!I165","v":53.879899999999999},{"$f":"Anchor!J165","v":53.6678},null,{"$f":"Test!H165","v":54.669199999999996},{"$f":"Test!I165","v":55.932600000000001},{"$f":"Test!J165","v":55.248899999999999}]
[null,null,27,{"$f":"Anchor!B166","v":4563.9495999999999},{"$f":"Anchor!C166","v":47.656700000000001},{"$f":"Anchor!D166","v":49.239100000000001},{"$f":"Anchor!E166","v":48.712000000000003},{"$f":"Anchor!F166","v":72258.720000000001},{"$f":"Anchor!G166","v":46.4},20.071866666666669,null,{"$f":"Test!B166","v":4506.1336000000001},{"$f":"Test!C166","v":49.359000000000002},{"$f":"Test!D166","v":51.002699999999997},{"$f":"Test!E166","v":50.136000000000003},{"$f":"Test!F166","v":72742.44},{"$f":"Test!G166","v":47.77},20.206233333333333,null,null,null,null,null,null,null,null,{"$f":"Anchor!H166","v":47.5685},{"$f":"Anchor!I166","v":49.168799999999997},{"$f":"Anchor!J166","v":48.602699999999999},null,{"$f":"Test!H166","v":49.174500000000002},{"$f":"Test!I166","v":50.840800000000002},{"$f":"Test!J166","v":49.929499999999997}]
[null,null,32,{"$f":"Anchor!B167","v":3549.3584000000001},{"$f":"Anchor!C167","v":42.134700000000002},{"$f":"Anchor!D167","v":45.119700000000002},{"$f":"Anchor!E167","v":43.888800000000003},{"$f":"Anchor!F167","v":67483.89},{"$f":"Anchor!G167","v":45.53},18.745525000000001,null,{"$f":"Test!B167","v":3531.2264},{"$f":"Test!C167","v":43.665100000000002},{"$f":"Test!D167","v":46.451099999999997},{"$f":"Test!E167","v":44.979900000000001},{"$f":"Test!F167","v":67041.06},{"$f":"Test!G167","v":47.22},18.622516666666666,null,null,null,null,null,null,null,null,{"$f":"Anchor!H167","v":42.002800000000001},{"$f":"Anchor!I167","v":45.0092},{"$f":"Anchor!J167","v":43.750700000000002},null,{"$f":"Test!H167","v":43.408099999999997},{"$f":"Test!I167","v":46.246200000000002},{"$f":"Test!J167","v":44.755400000000002}]
[null,null,37,{"$f":"Anchor!B168","v":2663.0079999999998},{"$f":"Anchor!C168","v":36.638100000000001},{"$f":"Anchor!D168","v":41.0197},{"$f":"Anchor!E168","v":39.288699999999999},{"$f":"Anchor!F168","v":59577.62},{"$f":"Anchor!G168","v":44.79},16.54933888888889,null,{"$f":"Test!B168","v":2679.9384},{"$f":"Test!C168","v":37.965699999999998},{"$f":"Test!D168","v":42.116199999999999},{"$f":"Test!E168","v":40.276800000000001},{"$f":"Test!F168","v":61162.2},{"$f":"Test!G168","v":46.55},16.9895,null,null,null,null,null,null,null,null,{"$f":"Anchor!H168","v":36.532800000000002},{"$f":"Anchor!I168","v":40.904600000000002},{"$f":"Anchor!J168","v":39.122999999999998},null,{"$f":"Test!H168","v":37.7806},{"$f":"Test!I168","v":41.913800000000002},{"$f":"Test!J168","v":40.017000000000003}]
["YUV, text & graphics with motion,720p","sc_web_browsing_1280x720_30_8bit_300_444_r1",22,{"$f":"Anchor!B169","v":437.74880000000002},{"$f":"Anchor!C169","v":50.486199999999997},{"$f":"Anchor!D169","v":51.643700000000003},{"$f":"Anchor!E169","v":52.402000000000001},{"$f":"Anchor!F169","v":3864.84},{"$f":"Anchor!G169","v":9.77},1.0735666666666668,null,{"$f":"Test!B169","v":418.58479999999997},{"$f":"Test!C169","v":53.817900000000002},{"$f":"Test!D169","v":55.608499999999999},{"$f":"Test!E169","v":55.854900000000001},{"$f":"Test!F169","v":3889.55},{"$f":"Test!G169","v":10.33},1.0804305555555556,null,{"$f":"bdrate(D67:D70,E67:E70,L67:L70,M67:M70)","v":-0.1290278363396814},{"$f":"bdrate(D67:D70,F67:F70,L67:L70,N67:N70)","v":-0.12576226386563172},{"$f":"bdrate(D67:D70,G67:G70,L67:L70,O67:O70)","v":-0.11871819844416676},{"$f":"bdrateOld(D67:D70,E67:E70,L67:L70,M67:M70)","v":-0.12835579158847998},{"$f":"bdrateOld(D67:D70,F67:F70,L67:L70,N67:N70)","v":-0.1242092403206585},{"$f":"bdrateOld(D67:D70,G67:G70,L67:L70,O67:O70)","v":-0.11744314905732178},null,{"$f":"Anchor!H169","v":50.344299999999997},{"$f":"Anchor!I169","v":51.589700000000001},{"$f":"Anchor!J169","v":52.348300000000002},null,{"$f":"Test!H169","v":53.302199999999999},{"$f":"Test!I169","v":55.396099999999997},{"$f":"Test!J169","v":55.666899999999998}]
[null,null,27,{"$f":"Anchor!B170","v":339.22399999999999},{"$f":"Anchor!C170","v":46.1935},{"$f":"Anchor!D170","v":47.5075},{"$f":"Anchor!E170","v":48.363300000000002},{"$f":"Anchor!F170","v":3718.22},{"$f":"Anchor!G170","v":9.7799999999999994},1.0328388888888889,null,{"$f":"Test!B170","v":336.06319999999999},{"$f":"Test!C170","v":49.304400000000001},{"$f":"Test!D170","v":50.676499999999997},{"$f":"Test!E170","v":51.088500000000003},{"$f":"Test!F170","v":3830.56},{"$f":"Test!G170","v":10.34},1.0640444444444443,null,null,null,null,null,null,null,null,{"$f":"Anchor!H170","v":46.072299999999998},{"$f":"Anchor!I170","v":47.439599999999999},{"$f":"Anchor!J170","v":48.293399999999998},null,{"$f":"Test!H170","v":48.862299999999998},{"$f":"Test!I170","v":50.565199999999997},{"$f":"Test!J170","v":50.967100000000002}]
[null,null,32,{"$f":"Anchor!B171","v":256.33280000000002},{"$f":"Anchor!C171","v":42.083599999999997},{"$f":"Anchor!D171","v":43.389899999999997},{"$f":"Anchor!E171","v":43.774700000000003},{"$f":"Anchor!F171","v":3697.99},{"$f":"Anchor!G171","v":9.8699999999999992},{"$f":"secToHours(H69)","v":1.0272194444444445},null,{"$f":"Test!B171","v":257.54160000000002},{"$f":"Test!C171","v":44.045900000000003},{"$f":"Test!D171","v":45.105800000000002},{"$f":"Test!E171","v":45.438499999999998},{"$f":"Test!F171","v":3719.43},{"$f":"Test!G171","v":10.35},{"$f":"secToHours(P69)","v":1.033175},null,null,null,null,null,null,null,null,{"$f":"Anchor!H171","v":41.9739},{"$f":"Anchor!I171","v":43.347299999999997},{"$f":"Anchor!J171","v":43.702800000000003},null,{"$f":"Test!H171","v":43.7896},{"$f":"Test!I171","v":45.039400000000001},{"$f":"Test!J171","v":45.368499999999997}]
[null,null,37,{"$f":"Anchor!B172","v":181.56},{"$f":"Anchor!C172","v":37.289299999999997},{"$f":"Anchor!D172","v":37.555999999999997},{"$f":"Anchor!E172","v":38.018000000000001},{"$f":"Anchor!F172","v":3588.1},{"$f":"Anchor!G172","v":9.8000000000000007},0.99669444444444444,null,{"$f":"Test!B172","v":183.48320000000001},{"$f":"Test!C172","v":38.3536},{"$f":"Test!D172","v":39.557200000000002},{"$f":"Test!E172","v":40.322000000000003},{"$f":"Test!F172","v":3633.87},{"$f":"Test!G172","v":10.32},1.0094083333333332,null,null,null,null,null,null,null,null,{"$f":"Anchor!H172","v":37.211300000000001},{"$f":"Anchor!I172","v":37.523000000000003},{"$f":"Anchor!J172","v":37.969099999999997},null,{"$f":"Test!H172","v":38.244700000000002},{"$f":"Test!I172","v":39.484099999999998},{"$f":"Test!J172","v":40.242100000000001}]
[null,"sc_map_1280x720_60_8bit_444",22,{"$f":"Anchor!B173","v":2110.2008000000001},{"$f":"Anchor!C173","v":47.429400000000001},{"$f":"Anchor!D173","v":50.079099999999997},{"$f":"Anchor!E173","v":51.320599999999999},{"$f":"Anchor!F173","v":16388.18},{"$f":"Anchor!G173","v":20.87},4.5522722222222223,null,{"$f":"Test!B173","v":2117.0936000000002},{"$f":"Test!C173","v":47.939100000000003},{"$f":"Test!D173","v":51.338500000000003},{"$f":"Test!E173","v":52.8795},{"$f":"Test!F173","v":16302.94},{"$f":"Test!G173","v":21.93},4.5285944444444448,null,{"$f":"bdrate(D71:D74,E71:E74,L71:L74,M71:M74)","v":-3.1376550211858034E-2},{"$f":"bdrate(D71:D74,F71:F74,L71:L74,N71:N74)","v":-9.1670257048823034E-2},{"$f":"bdrate(D71:D74,G71:G74,L71:L74,O71:O74)","v":-0.14684244963695958},{"$f":"bdrateOld(D71:D74,E71:E74,L71:L74,M71:M74)","v":-3.126820477975456E-2},{"$f":"bdrateOld(D71:D74,F71:F74,L71:L74,N71:N74)","v":-9.1694904043132741E-2},{"$f":"bdrateOld(D71:D74,G71:G74,L71:L74,O71:O74)","v":-0.147375464681476},null,{"$f":"Anchor!H173","v":46.8827},{"$f":"Anchor!I173","v":49.539900000000003},{"$f":"Anchor!J173","v":50.844999999999999},null,{"$f":"Test!H173","v":47.310299999999998},{"$f":"Test!I173","v":50.633699999999997},{"$f":"Test!J173","v":52.268300000000004}]
[null,null,27,{"$f":"Anchor!B174","v":1344.9312},{"$f":"Anchor!C174","v":43.009700000000002},{"$f":"Anchor!D174","v":46.784399999999998},{"$f":"Anchor!E174","v":48.527700000000003},{"$f":"Anchor!F174","v":15154.77},{"$f":"Anchor!G174","v":20.5},4.2096583333333335,null,{"$f":"Test!B174","v":1349.7760000000001},{"$f":"Test!C174","v":43.322299999999998},{"$f":"Test!D174","v":47.576500000000003},{"$f":"Test!E174","v":49.570500000000003},{"$f":"Test!F174","v":15333.68},{"$f":"Test!G174","v":21.57},4.2593555555555556,null,null,null,null,null,null,null,null,{"$f":"Anchor!H174","v":42.412799999999997},{"$f":"Anchor!I174","v":46.2014},{"$f":"Anchor!J174","v":48.0837},null,{"$f":"Test!H174","v":42.6387},{"$f":"Test!I174","v":46.827800000000003},{"$f":"Test!J174","v":48.969200000000001}]
[null,null,32,{"$f":"Anchor!B175","v":829.58159999999998},{"$f":"Anchor!C175","v":38.501600000000003},{"$f":"Anchor!D175","v":43.328699999999998},{"$f":"Anchor!E175","v":45.778799999999997},{"$f":"Anchor!F175","v":13548.65},{"$f":"Anchor!G175","v":20.16},3.7635138888888888,null,{"$f":"Test!B175","v":829.50800000000004},{"$f":"Test!C175","v":38.776899999999998},{"$f":"Test!D175","v":43.917700000000004},{"$f":"Test!E175","v":46.658200000000001},{"$f":"Test!F175","v":13718.94},{"$f":"Test!G175","v":21.24},3.8108166666666667,null,null,null,null,null,null,null,null,{"$f":"Anchor!H175","v":37.870800000000003},{"$f":"Anchor!I175","v":42.7744},{"$f":"Anchor!J175","v":45.444899999999997},null,{"$f":"Test!H175","v":38.052500000000002},{"$f":"Test!I175","v":43.203899999999997},{"$f":"Test!J175","v":46.185699999999997}]
[null,null,37,{"$f":"Anchor!B176","v":501.22879999999998},{"$f":"Anchor!C176","v":34.690600000000003},{"$f":"Anchor!D176","v":39.7834},{"$f":"Anchor!E176","v":42.471499999999999},{"$f":"Anchor!F176","v":11887.03},{"$f":"Anchor!G176","v":19.690000000000001},3.3019527777777782,null,{"$f":"Test!B176","v":503.58479999999997},{"$f":"Test!C176","v":34.916400000000003},{"$f":"Test!D176","v":40.409199999999998},{"$f":"Test!E176","v":43.508400000000002},{"$f":"Test!F176","v":12053.53},{"$f":"Test!G176","v":20.85},3.3482027777777779,null,null,null,null,null,null,null,null,{"$f":"Anchor!H176","v":34.122},{"$f":"Anchor!I176","v":39.279000000000003},{"$f":"Anchor!J176","v":42.278700000000001},null,{"$f":"Test!H176","v":34.273400000000002},{"$f":"Test!I176","v":39.731400000000001},{"$f":"Test!J176","v":43.168999999999997}]
[null,"sc_programming_1280x720_60_8bit_444",22,{"$f":"Anchor!B177","v":6127.7407999999996},{"$f":"Anchor!C177","v":47.550699999999999},{"$f":"Anchor!D177","v":47.1858},{"$f":"Anchor!E177","v":47.920499999999997},{"$f":"Anchor!F177","v":39744.01},{"$f":"Anchor!G177","v":25.59},11.040002777777778,null,{"$f":"Test!B177","v":6133.2111999999997},{"$f":"Test!C177","v":47.692999999999998},{"$f":"Test!D177","v":47.318399999999997},{"$f":"Test!E177","v":48.101799999999997},{"$f":"Test!F177","v":39777.67},{"$f":"Test!G177","v":26.45},11.049352777777777,null,{"$f":"bdrate(D75:D78,E75:E78,L75:L78,M75:M78)","v":-2.7727850966033585E-2},{"$f":"bdrate(D75:D78,F75:F78,L75:L78,N75:N78)","v":-2.6615907205553846E-2},{"$f":"bdrate(D75:D78,G75:G78,L75:L78,O75:O78)","v":-4.6469489623532367E-2},{"$f":"bdrateOld(D75:D78,E75:E78,L75:L78,M75:M78)","v":-2.7621977230632755E-2},{"$f":"bdrateOld(D75:D78,F75:F78,L75:L78,N75:N78)","v":-2.6658615191746282E-2},{"$f":"bdrateOld(D75:D78,G75:G78,L75:L78,O75:O78)","v":-4.613832514096905E-2},null,{"$f":"Anchor!H177","v":47.3782},{"$f":"Anchor!I177","v":47.029600000000002},{"$f":"Anchor!J177","v":47.805700000000002},null,{"$f":"Test!H177","v":47.509900000000002},{"$f":"Test!I177","v":47.147199999999998},{"$f":"Test!J177","v":47.972700000000003}]
[null,null,27,{"$f":"Anchor!B178","v":3274.1568000000002},{"$f":"Anchor!C178","v":43.180399999999999},{"$f":"Anchor!D178","v":42.801099999999998},{"$f":"Anchor!E178","v":43.981900000000003},{"$f":"Anchor!F178","v":33628.35},{"$f":"Anchor!G178","v":23.32},9.3412083333333324,null,{"$f":"Test!B178","v":3289.9088000000002},{"$f":"Test!C178","v":43.338200000000001},{"$f":"Test!D178","v":42.9574},{"$f":"Test!E178","v":44.174799999999998},{"$f":"Test!F178","v":33977.85},{"$f":"Test!G178","v":24.37},9.4382916666666663,null,null,null,null,null,null,null,null,{"$f":"Anchor!H178","v":42.953200000000002},{"$f":"Anchor!I178","v":42.5777},{"$f":"Anchor!J178","v":43.860799999999998},null,{"$f":"Test!H178","v":43.0976},{"$f":"Test!I178","v":42.716500000000003},{"$f":"Test!J178","v":44.040399999999998}]
[null,null,32,{"$f":"Anchor!B179","v":1585.0735999999999},{"$f":"Anchor!C179","v":38.843699999999998},{"$f":"Anchor!D179","v":38.8322},{"$f":"Anchor!E179","v":40.451099999999997},{"$f":"Anchor!F179","v":27159.18},{"$f":"Anchor!G179","v":21.9},7.5442166666666663,null,{"$f":"Test!B179","v":1603.3144},{"$f":"Test!C179","v":39.120600000000003},{"$f":"Test!D179","v":39.045299999999997},{"$f":"Test!E179","v":40.7881},{"$f":"Test!F179","v":27562.85},{"$f":"Test!G179","v":23.01},7.6563472222222222,null,null,null,null,null,null,null,null,{"$f":"Anchor!H179","v":38.653700000000001},{"$f":"Anchor!I179","v":38.596899999999998},{"$f":"Anchor!J179","v":40.351399999999998},null,{"$f":"Test!H179","v":38.905299999999997},{"$f":"Test!I179","v":38.7836},{"$f":"Test!J179","v":40.671100000000003}]
[null,null,37,{"$f":"Anchor!B180","v":781.38160000000005},{"$f":"Anchor!C180","v":34.961500000000001},{"$f":"Anchor!D180","v":35.829099999999997},{"$f":"Anchor!E180","v":37.5869},{"$f":"Anchor!F180","v":22192.58},{"$f":"Anchor!G180","v":20.75},6.1646055555555561,null,{"$f":"Test!B180","v":787.40880000000004},{"$f":"Test!C180","v":35.2119},{"$f":"Test!D180","v":36.0642},{"$f":"Test!E180","v":37.985399999999998},{"$f":"Test!F180","v":22550.25},{"$f":"Test!G180","v":21.86},6.2639583333333331,null,null,null,null,null,null,null,null,{"$f":"Anchor!H180","v":34.850900000000003},{"$f":"Anchor!I180","v":35.640500000000003},{"$f":"Anchor!J180","v":37.4895},null,{"$f":"Test!H180","v":35.090000000000003},{"$f":"Test!I180","v":35.857799999999997},{"$f":"Test!J180","v":37.873199999999997}]
[null,"sc_SlideShow_1280x720_20_8bit_500_444",22,{"$f":"Anchor!B181","v":726.93730000000005},{"$f":"Anchor!C181","v":50.564300000000003},{"$f":"Anchor!D181","v":55.6145},{"$f":"Anchor!E181","v":56.848199999999999},{"$f":"Anchor!F181","v":22727.439999999999},{"$f":"Anchor!G181","v":19.760000000000002},6.3131777777777778,null,{"$f":"Test!B181","v":725.21950000000004},{"$f":"Test!C181","v":50.659700000000001},{"$f":"Test!D181","v":55.770699999999998},{"$f":"Test!E181","v":57.060499999999998},{"$f":"Test!F181","v":22779.32},{"$f":"Test!G181","v":20.61},6.3275888888888892,null,{"$f":"bdrate(D79:D82,E79:E82,L79:L82,M79:M82)","v":-1.7817274724463927E-2},{"$f":"bdrate(D79:D82,F79:F82,L79:L82,N79:N82)","v":-4.751627524708224E-2},{"$f":"bdrate(D79:D82,G79:G82,L79:L82,O79:O82)","v":-5.0625204015226744E-2},{"$f":"bdrateOld(D79:D82,E79:E82,L79:L82,M79:M82)","v":-1.7819507777226518E-2},{"$f":"bdrateOld(D79:D82,F79:F82,L79:L82,N79:N82)","v":-4.742305918503309E-2},{"$f":"bdrateOld(D79:D82,G79:G82,L79:L82,O79:O82)","v":-5.0778555025065342E-2},null,{"$f":"Anchor!H181","v":49.377299999999998},{"$f":"Anchor!I181","v":54.337899999999998},{"$f":"Anchor!J181","v":55.4666},null,{"$f":"Test!H181","v":49.454799999999999},{"$f":"Test!I181","v":54.496600000000001},{"$f":"Test!J181","v":55.650799999999997}]
[null,null,27,{"$f":"Anchor!B182","v":431.70179999999999},{"$f":"Anchor!C182","v":46.9146},{"$f":"Anchor!D182","v":52.618400000000001},{"$f":"Anchor!E182","v":54.023600000000002},{"$f":"Anchor!F182","v":19853.36},{"$f":"Anchor!G182","v":19},5.5148222222222225,null,{"$f":"Test!B182","v":429.83580000000001},{"$f":"Test!C182","v":47.008800000000001},{"$f":"Test!D182","v":52.846800000000002},{"$f":"Test!E182","v":54.297499999999999},{"$f":"Test!F182","v":20126.7},{"$f":"Test!G182","v":19.78},5.5907499999999999,null,null,null,null,null,null,null,null,{"$f":"Anchor!H182","v":45.6342},{"$f":"Anchor!I182","v":51.235599999999998},{"$f":"Anchor!J182","v":52.558399999999999},null,{"$f":"Test!H182","v":45.720500000000001},{"$f":"Test!I182","v":51.466000000000001},{"$f":"Test!J182","v":52.802900000000001}]
[null,null,32,{"$f":"Anchor!B183","v":266.6234},{"$f":"Anchor!C183","v":43.3673},{"$f":"Anchor!D183","v":49.687199999999997},{"$f":"Anchor!E183","v":51.377600000000001},{"$f":"Anchor!F183","v":17494.759999999998},{"$f":"Anchor!G183","v":18.3},4.8596555555555554,null,{"$f":"Test!B183","v":266.40159999999997},{"$f":"Test!C183","v":43.520699999999998},{"$f":"Test!D183","v":50.065199999999997},{"$f":"Test!E183","v":51.648099999999999},{"$f":"Test!F183","v":17774.61},{"$f":"Test!G183","v":19.170000000000002},4.9373916666666666,null,null,null,null,null,null,null,null,{"$f":"Anchor!H183","v":42.0916},{"$f":"Anchor!I183","v":48.249299999999998},{"$f":"Anchor!J183","v":49.825299999999999},null,{"$f":"Test!H183","v":42.218600000000002},{"$f":"Test!I183","v":48.537300000000002},{"$f":"Test!J183","v":50.105400000000003}]
[null,null,37,{"$f":"Anchor!B184","v":170.32060000000001},{"$f":"Anchor!C184","v":39.711300000000001},{"$f":"Anchor!D184","v":46.913600000000002},{"$f":"Anchor!E184","v":48.730499999999999},{"$f":"Anchor!F184","v":15848.32},{"$f":"Anchor!G184","v":17.8},4.4023111111111106,null,{"$f":"Test!B184","v":171.40989999999999},{"$f":"Test!C184","v":39.876800000000003},{"$f":"Test!D184","v":47.2149},{"$f":"Test!E184","v":49.147500000000001},{"$f":"Test!F184","v":16133.61},{"$f":"Test!G184","v":18.7},4.4815583333333331,null,null,null,null,null,null,null,null,{"$f":"Anchor!H184","v":38.573500000000003},{"$f":"Anchor!I184","v":45.366900000000001},{"$f":"Anchor!J184","v":47.206099999999999},null,{"$f":"Test!H184","v":38.757199999999997},{"$f":"Test!I184","v":45.649799999999999},{"$f":"Test!J184","v":47.514699999999998}]
["YUV, mixed content, 1440p","Basketball_Screen_2560x1440_60p_8b444",22,{"$f":"Anchor!B185","v":6577.48},{"$f":"Anchor!C185","v":46.3215},{"$f":"Anchor!D185","v":50.020899999999997},{"$f":"Anchor!E185","v":50.032800000000002},{"$f":"Anchor!F185","v":33388.400000000001},{"$f":"Anchor!G185","v":40.22},9.2745555555555566,null,{"$f":"Test!B185","v":6565.9279999999999},{"$f":"Test!C185","v":46.365200000000002},{"$f":"Test!D185","v":50.129600000000003},{"$f":"Test!E185","v":50.168999999999997},{"$f":"Test!F185","v":33577.54},{"$f":"Test!G185","v":42.33},9.3270944444444446,null,{"$f":"bdrate(D83:D86,E83:E86,L83:L86,M83:M86)","v":-1.2605256332210435E-2},{"$f":"bdrate(D83:D86,F83:F86,L83:L86,N83:N86)","v":-4.5960814835206532E-2},{"$f":"bdrate(D83:D86,G83:G86,L83:L86,O83:O86)","v":-3.9223737777451695E-2},{"$f":"bdrateOld(D83:D86,E83:E86,L83:L86,M83:M86)","v":-1.2624935865084064E-2},{"$f":"bdrateOld(D83:D86,F83:F86,L83:L86,N83:N86)","v":-4.5981304117499011E-2},{"$f":"bdrateOld(D83:D86,G83:G86,L83:L86,O83:O86)","v":-3.9323233750285569E-2},null,{"$f":"Anchor!H185","v":46.310699999999997},{"$f":"Anchor!I185","v":50.014800000000001},{"$f":"Anchor!J185","v":50.0242},null,{"$f":"Test!H185","v":46.354599999999998},{"$f":"Test!I185","v":50.123600000000003},{"$f":"Test!J185","v":50.160600000000002}]
[null,null,27,{"$f":"Anchor!B186","v":3567.0304000000001},{"$f":"Anchor!C186","v":42.938200000000002},{"$f":"Anchor!D186","v":46.754300000000001},{"$f":"Anchor!E186","v":46.716200000000001},{"$f":"Anchor!F186","v":27915.58},{"$f":"Anchor!G186","v":39.15},7.7543277777777782,null,{"$f":"Test!B186","v":3563.3888000000002},{"$f":"Test!C186","v":42.9985},{"$f":"Test!D186","v":46.967100000000002},{"$f":"Test!E186","v":46.884799999999998},{"$f":"Test!F186","v":28466.65},{"$f":"Test!G186","v":41.3},7.9074027777777784,null,null,null,null,null,null,null,null,{"$f":"Anchor!H186","v":42.927900000000001},{"$f":"Anchor!I186","v":46.749600000000001},{"$f":"Anchor!J186","v":46.709800000000001},null,{"$f":"Test!H186","v":42.988700000000001},{"$f":"Test!I186","v":46.9636},{"$f":"Test!J186","v":46.878900000000002}]
[null,null,32,{"$f":"Anchor!B187","v":2091.5664000000002},{"$f":"Anchor!C187","v":39.290500000000002},{"$f":"Anchor!D187","v":43.225200000000001},{"$f":"Anchor!E187","v":43.197299999999998},{"$f":"Anchor!F187","v":24226.32},{"$f":"Anchor!G187","v":39.06},6.7295333333333334,null,{"$f":"Test!B187","v":2099.4256},{"$f":"Test!C187","v":39.442399999999999},{"$f":"Test!D187","v":43.689700000000002},{"$f":"Test!E187","v":43.5779},{"$f":"Test!F187","v":24426.77},{"$f":"Test!G187","v":40.909999999999997},6.7852138888888893,null,null,null,null,null,null,null,null,{"$f":"Anchor!H187","v":39.279699999999998},{"$f":"Anchor!I187","v":43.219900000000003},{"$f":"Anchor!J187","v":43.191200000000002},null,{"$f":"Test!H187","v":39.433500000000002},{"$f":"Test!I187","v":43.686399999999999},{"$f":"Test!J187","v":43.573300000000003}]
[null,null,37,{"$f":"Anchor!B188","v":1270.7392},{"$f":"Anchor!C188","v":35.562800000000003},{"$f":"Anchor!D188","v":39.735100000000003},{"$f":"Anchor!E188","v":39.627099999999999},{"$f":"Anchor!F188","v":21309.39},{"$f":"Anchor!G188","v":38.64},5.9192749999999998,null,{"$f":"Test!B188","v":1276.9775999999999},{"$f":"Test!C188","v":35.645699999999998},{"$f":"Test!D188","v":40.068300000000001},{"$f":"Test!E188","v":39.991500000000002},{"$f":"Test!F188","v":21566.22},{"$f":"Test!G188","v":40.549999999999997},5.9906166666666669,null,null,null,null,null,null,null,null,{"$f":"Anchor!H188","v":35.552799999999998},{"$f":"Anchor!I188","v":39.7303},{"$f":"Anchor!J188","v":39.622399999999999},null,{"$f":"Test!H188","v":35.636200000000002},{"$f":"Test!I188","v":40.063499999999998},{"$f":"Test!J188","v":39.987000000000002}]
[null,"MissionControlClip2_2560x1440_60p_8b444",22,{"$f":"Anchor!B189","v":7710.8912},{"$f":"Anchor!C189","v":46.014400000000002},{"$f":"Anchor!D189","v":50.8416},{"$f":"Anchor!E189","v":51.845399999999998},{"$f":"Anchor!F189","v":44753.19},{"$f":"Anchor!G189","v":44.11},12.431441666666668,null,{"$f":"Test!B189","v":7722.8256000000001},{"$f":"Test!C189","v":46.044600000000003},{"$f":"Test!D189","v":50.905200000000001},{"$f":"Test!E189","v":51.918799999999997},{"$f":"Test!F189","v":46103.07},{"$f":"Test!G189","v":46.05},12.806408333333334,null,{"$f":"bdrate(D87:D90,E87:E90,L87:L90,M87:M90)","v":-7.8577531367713949E-3},{"$f":"bdrate(D87:D90,F87:F90,L87:L90,N87:N90)","v":-2.9051966088731396E-2},{"$f":"bdrate(D87:D90,G87:G90,L87:L90,O87:O90)","v":-2.3835409847489442E-2},{"$f":"bdrateOld(D87:D90,E87:E90,L87:L90,M87:M90)","v":-7.8545410926672554E-3},{"$f":"bdrateOld(D87:D90,F87:F90,L87:L90,N87:N90)","v":-2.9077809716521408E-2},{"$f":"bdrateOld(D87:D90,G87:G90,L87:L90,O87:O90)","v":-2.3825169003120372E-2},null,{"$f":"Anchor!H189","v":45.875799999999998},{"$f":"Anchor!I189","v":50.7376},{"$f":"Anchor!J189","v":51.731699999999996},null,{"$f":"Test!H189","v":45.895800000000001},{"$f":"Test!I189","v":50.797199999999997},{"$f":"Test!J189","v":51.810899999999997}]
[null,null,27,{"$f":"Anchor!B190","v":4339.2048000000004},{"$f":"Anchor!C190","v":42.604599999999998},{"$f":"Anchor!D190","v":48.051299999999998},{"$f":"Anchor!E190","v":48.836300000000001},{"$f":"Anchor!F190","v":40459.339999999997},{"$f":"Anchor!G190","v":42.75},11.238705555555555,null,{"$f":"Test!B190","v":4342.6400000000003},{"$f":"Test!C190","v":42.647500000000001},{"$f":"Test!D190","v":48.190100000000001},{"$f":"Test!E190","v":48.947000000000003},{"$f":"Test!F190","v":40874.949999999997},{"$f":"Test!G190","v":44.67},11.354152777777777,null,null,null,null,null,null,null,null,{"$f":"Anchor!H190","v":42.424399999999999},{"$f":"Anchor!I190","v":47.884500000000003},{"$f":"Anchor!J190","v":48.664499999999997},null,{"$f":"Test!H190","v":42.454300000000003},{"$f":"Test!I190","v":48.033299999999997},{"$f":"Test!J190","v":48.780799999999999}]
[null,null,32,{"$f":"Anchor!B191","v":2402.7040000000002},{"$f":"Anchor!C191","v":39.170900000000003},{"$f":"Anchor!D191","v":45.046399999999998},{"$f":"Anchor!E191","v":45.717599999999997},{"$f":"Anchor!F191","v":33961.71},{"$f":"Anchor!G191","v":41.56},9.4338083333333334,null,{"$f":"Test!B191","v":2404.5151999999998},{"$f":"Test!C191","v":39.241},{"$f":"Test!D191","v":45.237200000000001},{"$f":"Test!E191","v":45.875300000000003},{"$f":"Test!F191","v":34812.44},{"$f":"Test!G191","v":43.56},9.6701222222222221,null,null,null,null,null,null,null,null,{"$f":"Anchor!H191","v":38.976599999999998},{"$f":"Anchor!I191","v":44.823599999999999},{"$f":"Anchor!J191","v":45.465499999999999},null,{"$f":"Test!H191","v":39.0289},{"$f":"Test!I191","v":45.061},{"$f":"Test!J191","v":45.677799999999998}]
[null,null,37,{"$f":"Anchor!B192","v":1380.9728},{"$f":"Anchor!C192","v":35.8215},{"$f":"Anchor!D192","v":42.011499999999998},{"$f":"Anchor!E192","v":42.808399999999999},{"$f":"Anchor!F192","v":29816.7},{"$f":"Anchor!G192","v":40.43},8.2824166666666663,null,{"$f":"Test!B192","v":1388.9712},{"$f":"Test!C192","v":35.8979},{"$f":"Test!D192","v":42.226300000000002},{"$f":"Test!E192","v":43.006599999999999},{"$f":"Test!F192","v":30434.53},{"$f":"Test!G192","v":42.47},8.45403611111111,null,null,null,null,null,null,null,null,{"$f":"Anchor!H192","v":35.660800000000002},{"$f":"Anchor!I192","v":41.654200000000003},{"$f":"Anchor!J192","v":42.384},null,{"$f":"Test!H192","v":35.728299999999997},{"$f":"Test!I192","v":41.9801},{"$f":"Test!J192","v":42.720399999999998}]
["YUV, mixed content, 1080p","MissionControlClip3_1920x1080_60p_8b444",22,{"$f":"Anchor!B193","v":3096.3087999999998},{"$f":"Anchor!C193","v":47.216000000000001},{"$f":"Anchor!D193","v":50.3538},{"$f":"Anchor!E193","v":50.720599999999997},{"$f":"Anchor!F193","v":34730.660000000003},{"$f":"Anchor!G193","v":47.22},9.6474055555555562,null,{"$f":"Test!B193","v":3087.6136000000001},{"$f":"Test!C193","v":47.305799999999998},{"$f":"Test!D193","v":50.537300000000002},{"$f":"Test!E193","v":50.932499999999997},{"$f":"Test!F193","v":35630.269999999997},{"$f":"Test!G193","v":49.23},9.8972972222222211,null,{"$f":"bdrate(D91:D94,E91:E94,L91:L94,M91:M94)","v":-2.3743090130977307E-2},{"$f":"bdrate(D91:D94,F91:F94,L91:L94,N91:N94)","v":-4.7476814684600077E-2},{"$f":"bdrate(D91:D94,G91:G94,L91:L94,O91:O94)","v":-4.5325181337854015E-2},{"$f":"bdrateOld(D91:D94,E91:E94,L91:L94,M91:M94)","v":-2.3758211025400211E-2},{"$f":"bdrateOld(D91:D94,F91:F94,L91:L94,N91:N94)","v":-4.7497486238499365E-2},{"$f":"bdrateOld(D91:D94,G91:G94,L91:L94,O91:O94)","v":-4.5274811254417902E-2},null,{"$f":"Anchor!H193","v":47.0032},{"$f":"Anchor!I193","v":50.247999999999998},{"$f":"Anchor!J193","v":50.628300000000003},null,{"$f":"Test!H193","v":47.082000000000001},{"$f":"Test!I193","v":50.4343},{"$f":"Test!J193","v":50.851399999999998}]
[null,null,27,{"$f":"Anchor!B194","v":1875.1704},{"$f":"Anchor!C194","v":43.532499999999999},{"$f":"Anchor!D194","v":46.8369},{"$f":"Anchor!E194","v":47.1113},{"$f":"Anchor!F194","v":31308.1},{"$f":"Anchor!G194","v":45.99},8.6966944444444447,null,{"$f":"Test!B194","v":1870.136},{"$f":"Test!C194","v":43.692599999999999},{"$f":"Test!D194","v":47.046599999999998},{"$f":"Test!E194","v":47.338200000000001},{"$f":"Test!F194","v":31051.35},{"$f":"Test!G194","v":48.1},8.625375,null,null,null,null,null,null,null,null,{"$f":"Anchor!H194","v":43.305300000000003},{"$f":"Anchor!I194","v":46.73},{"$f":"Anchor!J194","v":46.988599999999998},null,{"$f":"Test!H194","v":43.445399999999999},{"$f":"Test!I194","v":46.944000000000003},{"$f":"Test!J194","v":47.231099999999998}]
[null,null,32,{"$f":"Anchor!B195","v":1166.2175999999999},{"$f":"Anchor!C195","v":39.624099999999999},{"$f":"Anchor!D195","v":43.0779},{"$f":"Anchor!E195","v":43.603299999999997},{"$f":"Anchor!F195","v":28236.05},{"$f":"Anchor!G195","v":45.05},7.8433472222222216,null,{"$f":"Test!B195","v":1164.9128000000001},{"$f":"Test!C195","v":39.853999999999999},{"$f":"Test!D195","v":43.584200000000003},{"$f":"Test!E195","v":44.018700000000003},{"$f":"Test!F195","v":28314.63},{"$f":"Test!G195","v":47.07},7.8651750000000007,null,null,null,null,null,null,null,null,{"$f":"Anchor!H195","v":39.418700000000001},{"$f":"Anchor!I195","v":42.952399999999997},{"$f":"Anchor!J195","v":43.436999999999998},null,{"$f":"Test!H195","v":39.625799999999998},{"$f":"Test!I195","v":43.486499999999999},{"$f":"Test!J195","v":43.898299999999999}]
[null,null,37,{"$f":"Anchor!B196","v":738.10320000000002},{"$f":"Anchor!C196","v":35.571800000000003},{"$f":"Anchor!D196","v":39.430399999999999},{"$f":"Anchor!E196","v":39.9617},{"$f":"Anchor!F196","v":26062.23},{"$f":"Anchor!G196","v":44.42},7.2395083333333332,null,{"$f":"Test!B196","v":740.26800000000003},{"$f":"Test!C196","v":35.790300000000002},{"$f":"Test!D196","v":40.001199999999997},{"$f":"Test!E196","v":40.551400000000001},{"$f":"Test!F196","v":26606.94},{"$f":"Test!G196","v":46.69},7.3908166666666659,null,null,null,null,null,null,null,null,{"$f":"Anchor!H196","v":35.433599999999998},{"$f":"Anchor!I196","v":39.249099999999999},{"$f":"Anchor!J196","v":39.677599999999998},null,{"$f":"Test!H196","v":35.640999999999998},{"$f":"Test!I196","v":39.874899999999997},{"$f":"Test!J196","v":40.361600000000003}]
["YUV, Animation, 720p","sc_robot_1280x720_30_8bit_300_444",22,{"$f":"Anchor!B197","v":5143.2776000000003},{"$f":"Anchor!C197","v":40.920999999999999},{"$f":"Anchor!D197","v":44.670499999999997},{"$f":"Anchor!E197","v":44.169499999999999},{"$f":"Anchor!F197","v":28640.33},{"$f":"Anchor!G197","v":19.43},7.9556472222222228,null,{"$f":"Test!B197","v":5145.3887999999997},{"$f":"Test!C197","v":40.9223},{"$f":"Test!D197","v":44.678600000000003},{"$f":"Test!E197","v":44.1785},{"$f":"Test!F197","v":28536.240000000002},{"$f":"Test!G197","v":20.03},7.9267333333333339,null,{"$f":"bdrate(D95:D98,E95:E98,L95:L98,M95:M98)","v":1.3820487826627925E-3},{"$f":"bdrate(D95:D98,F95:F98,L95:L98,N95:N98)","v":-2.2106651039320857E-3},{"$f":"bdrate(D95:D98,G95:G98,L95:L98,O95:O98)","v":3.5793477708434551E-4},{"$f":"bdrateOld(D95:D98,E95:E98,L95:L98,M95:M98)","v":1.3307013561731917E-3},{"$f":"bdrateOld(D95:D98,F95:F98,L95:L98,N95:N98)","v":-2.3494275992498315E-3},{"$f":"bdrateOld(D95:D98,G95:G98,L95:L98,O95:O98)","v":1.128365854587976E-4},null,{"$f":"Anchor!H197","v":40.845300000000002},{"$f":"Anchor!I197","v":44.647199999999998},{"$f":"Anchor!J197","v":44.144799999999996},null,{"$f":"Test!H197","v":40.846699999999998},{"$f":"Test!I197","v":44.655000000000001},{"$f":"Test!J197","v":44.153399999999998}]
[null,null,27,{"$f":"Anchor!B198","v":1879.2175999999999},{"$f":"Anchor!C198","v":37.673099999999998},{"$f":"Anchor!D198","v":42.230600000000003},{"$f":"Anchor!E198","v":41.629199999999997},{"$f":"Anchor!F198","v":20974.03},{"$f":"Anchor!G198","v":15.24},5.8261194444444442,null,{"$f":"Test!B198","v":1881.9023999999999},{"$f":"Test!C198","v":37.674500000000002},{"$f":"Test!D198","v":42.243099999999998},{"$f":"Test!E198","v":41.637999999999998},{"$f":"Test!F198","v":21255.07},{"$f":"Test!G198","v":15.87},5.9041861111111107,null,null,null,null,null,null,null,null,{"$f":"Anchor!H198","v":37.636000000000003},{"$f":"Anchor!I198","v":42.218400000000003},{"$f":"Anchor!J198","v":41.615200000000002},null,{"$f":"Test!H198","v":37.6372},{"$f":"Test!I198","v":42.231000000000002},{"$f":"Test!J198","v":41.624000000000002}]
[null,null,32,{"$f":"Anchor!B199","v":721.05759999999998},{"$f":"Anchor!C199","v":35.1145},{"$f":"Anchor!D199","v":40.395299999999999},{"$f":"Anchor!E199","v":39.811100000000003},{"$f":"Anchor!F199","v":15986.31},{"$f":"Anchor!G199","v":13.02},4.4406416666666662,null,{"$f":"Test!B199","v":723.15039999999999},{"$f":"Test!C199","v":35.1158},{"$f":"Test!D199","v":40.403300000000002},{"$f":"Test!E199","v":39.808799999999998},{"$f":"Test!F199","v":16406.169999999998},{"$f":"Test!G199","v":13.63},4.5572694444444437,null,null,null,null,null,null,null,null,{"$f":"Anchor!H199","v":35.095100000000002},{"$f":"Anchor!I199","v":40.387500000000003},{"$f":"Anchor!J199","v":39.799799999999998},null,{"$f":"Test!H199","v":35.096600000000002},{"$f":"Test!I199","v":40.395400000000002},{"$f":"Test!J199","v":39.797499999999999}]
[null,null,37,{"$f":"Anchor!B200","v":316.12},{"$f":"Anchor!C200","v":32.946199999999997},{"$f":"Anchor!D200","v":38.729500000000002},{"$f":"Anchor!E200","v":38.350999999999999},{"$f":"Anchor!F200","v":13251.29},{"$f":"Anchor!G200","v":11.92},3.680913888888889,null,{"$f":"Test!B200","v":316.82319999999999},{"$f":"Test!C200","v":32.946100000000001},{"$f":"Test!D200","v":38.723999999999997},{"$f":"Test!E200","v":38.338200000000001},{"$f":"Test!F200","v":13512.35},{"$f":"Test!G200","v":12.48},3.7534305555555556,null,null,null,null,null,null,null,null,{"$f":"Anchor!H200","v":32.933799999999998},{"$f":"Anchor!I200","v":38.722799999999999},{"$f":"Anchor!J200","v":38.339799999999997},null,{"$f":"Test!H200","v":32.933500000000002},{"$f":"Test!I200","v":38.717100000000002},{"$f":"Test!J200","v":38.326799999999999}]
["YUV, camera captured, 1080p","EBURainFruits_1920x1080_50_10bit_444",22,{"$f":"Anchor!B201","v":10388.111999999999},{"$f":"Anchor!C201","v":42.329599999999999},{"$f":"Anchor!D201","v":46.531999999999996},{"$f":"Anchor!E201","v":48.2166},{"$f":"Anchor!F201","v":35397.96},{"$f":"Anchor!G201","v":34.729999999999997},9.8327666666666662,null,{"$f":"Test!B201","v":10392.120000000001},{"$f":"Test!C201","v":42.3307},{"$f":"Test!D201","v":46.532200000000003},{"$f":"Test!E201","v":48.213000000000001},{"$f":"Test!F201","v":35879.360000000001},{"$f":"Test!G201","v":35.83},9.9664888888888896,null,{"$f":"bdrate(D99:D102,E99:E102,L99:L102,M99:M102)","v":8.0621341395525903E-4},{"$f":"bdrate(D99:D102,F99:F102,L99:L102,N99:N102)","v":-8.8473558701673838E-5},{"$f":"bdrate(D99:D102,G99:G102,L99:L102,O99:O102)","v":1.3317376283372706E-3},{"$f":"bdrateOld(D99:D102,E99:E102,L99:L102,M99:M102)","v":8.0106193897444555E-4},{"$f":"bdrateOld(D99:D102,F99:F102,L99:L102,N99:N102)","v":-1.9808312591573785E-4},{"$f":"bdrateOld(D99:D102,G99:G102,L99:L102,O99:O102)","v":1.5426082159795129E-3},null,{"$f":"Anchor!H201","v":42.294699999999999},{"$f":"Anchor!I201","v":46.527799999999999},{"$f":"Anchor!J201","v":48.213000000000001},null,{"$f":"Test!H201","v":42.295900000000003},{"$f":"Test!I201","v":46.527999999999999},{"$f":"Test!J201","v":48.209499999999998}]
[null,null,27,{"$f":"Anchor!B202","v":4877.4624000000003},{"$f":"Anchor!C202","v":39.586100000000002},{"$f":"Anchor!D202","v":45.271799999999999},{"$f":"Anchor!E202","v":46.628999999999998},{"$f":"Anchor!F202","v":26011.15},{"$f":"Anchor!G202","v":28.41},7.2253194444444446,null,{"$f":"Test!B202","v":4879.9840000000004},{"$f":"Test!C202","v":39.583799999999997},{"$f":"Test!D202","v":45.270899999999997},{"$f":"Test!E202","v":46.637999999999998},{"$f":"Test!F202","v":26592.1},{"$f":"Test!G202","v":29.35},7.3866944444444442,null,null,null,null,null,null,null,null,{"$f":"Anchor!H202","v":39.566600000000001},{"$f":"Anchor!I202","v":45.268599999999999},{"$f":"Anchor!J202","v":46.625500000000002},null,{"$f":"Test!H202","v":39.564399999999999},{"$f":"Test!I202","v":45.267800000000001},{"$f":"Test!J202","v":46.634500000000003}]
[null,null,32,{"$f":"Anchor!B203","v":2475.7215999999999},{"$f":"Anchor!C203","v":36.822000000000003},{"$f":"Anchor!D203","v":43.7316},{"$f":"Anchor!E203","v":44.787199999999999},{"$f":"Anchor!F203","v":22414.33},{"$f":"Anchor!G203","v":25.56},6.226202777777778,null,{"$f":"Test!B203","v":2475.0304000000001},{"$f":"Test!C203","v":36.82},{"$f":"Test!D203","v":43.728700000000003},{"$f":"Test!E203","v":44.773899999999998},{"$f":"Test!F203","v":22920.55},{"$f":"Test!G203","v":26.57},6.3668194444444444,null,null,null,null,null,null,null,null,{"$f":"Anchor!H203","v":36.809600000000003},{"$f":"Anchor!I203","v":43.727200000000003},{"$f":"Anchor!J203","v":44.782299999999999},null,{"$f":"Test!H203","v":36.8078},{"$f":"Test!I203","v":43.724200000000003},{"$f":"Test!J203","v":44.768799999999999}]
[null,null,37,{"$f":"Anchor!B204","v":1276.3664000000001},{"$f":"Anchor!C204","v":34.035499999999999},{"$f":"Anchor!D204","v":42.071800000000003},{"$f":"Anchor!E204","v":42.710500000000003},{"$f":"Anchor!F204","v":19494.900000000001},{"$f":"Anchor!G204","v":23.91},5.4152500000000003,null,{"$f":"Test!B204","v":1278.5856000000001},{"$f":"Test!C204","v":34.032499999999999},{"$f":"Test!D204","v":42.092100000000002},{"$f":"Test!E204","v":42.707000000000001},{"$f":"Test!F204","v":19596.310000000001},{"$f":"Test!G204","v":24.89},5.4434194444444444,null,null,null,null,null,null,null,null,{"$f":"Anchor!H204","v":34.026499999999999},{"$f":"Anchor!I204","v":42.064799999999998},{"$f":"Anchor!J204","v":42.704000000000001},null,{"$f":"Test!H204","v":34.023600000000002},{"$f":"Test!I204","v":42.085799999999999},{"$f":"Test!J204","v":42.700200000000002}]
[null,"Kimono1_1920x1080_24_10bit_444",22,{"$f":"Anchor!B205","v":12674.1072},{"$f":"Anchor!C205","v":41.818800000000003},{"$f":"Anchor!D205","v":38.204000000000001},{"$f":"Anchor!E205","v":42.246499999999997},{"$f":"Anchor!F205","v":38044.1},{"$f":"Anchor!G205","v":24.54},10.567805555555555,null,{"$f":"Test!B205","v":12671.980799999999},{"$f":"Test!C205","v":41.820300000000003},{"$f":"Test!D205","v":38.203400000000002},{"$f":"Test!E205","v":42.247799999999998},{"$f":"Test!F205","v":39263.82},{"$f":"Test!G205","v":25.04},10.906616666666666,null,{"$f":"bdrate(D103:D106,E103:E106,L103:L106,M103:M106)","v":3.9943263664854456E-5},{"$f":"bdrate(D103:D106,F103:F106,L103:L106,N103:N106)","v":1.7899723511585197E-3},{"$f":"bdrate(D103:D106,G103:G106,L103:L106,O103:O106)","v":4.7556076312615936E-4},{"$f":"bdrateOld(D103:D106,E103:E106,L103:L106,M103:M106)","v":5.9992605584202607E-5},{"$f":"bdrateOld(D103:D106,F103:F106,L103:L106,N103:N106)","v":2.2644564270890566E-3},{"$f":"bdrateOld(D103:D106,G103:G106,L103:L106,O103:O106)","v":6.6061487339941216E-4},null,{"$f":"Anchor!H205","v":41.776899999999998},{"$f":"Anchor!I205","v":38.101100000000002},{"$f":"Anchor!J205","v":42.235300000000002},null,{"$f":"Test!H205","v":41.778500000000001},{"$f":"Test!I205","v":38.100499999999997},{"$f":"Test!J205","v":42.236600000000003}]
[null,null,27,{"$f":"Anchor!B206","v":3472.4176000000002},{"$f":"Anchor!C206","v":39.909999999999997},{"$f":"Anchor!D206","v":37.423999999999999},{"$f":"Anchor!E206","v":41.425699999999999},{"$f":"Anchor!F206","v":25237.61},{"$f":"Anchor!G206","v":17.53},7.0104472222222221,null,{"$f":"Test!B206","v":3471.6224000000002},{"$f":"Test!C206","v":39.908700000000003},{"$f":"Test!D206","v":37.422199999999997},{"$f":"Test!E206","v":41.424999999999997},{"$f":"Test!F206","v":26367.56},{"$f":"Test!G206","v":18.04},7.3243222222222224,null,null,null,null,null,null,null,null,{"$f":"Anchor!H206","v":39.828499999999998},{"$f":"Anchor!I206","v":37.418199999999999},{"$f":"Anchor!J206","v":41.417700000000004},null,{"$f":"Test!H206","v":39.827199999999998},{"$f":"Test!I206","v":37.416400000000003},{"$f":"Test!J206","v":41.416800000000002}]
[null,null,32,{"$f":"Anchor!B207","v":1517.3552},{"$f":"Anchor!C207","v":37.472099999999998},{"$f":"Anchor!D207","v":37.003599999999999},{"$f":"Anchor!E207","v":40.5105},{"$f":"Anchor!F207","v":18908.13},{"$f":"Anchor!G207","v":14.51},5.2522583333333337,null,{"$f":"Test!B207","v":1519.1279999999999},{"$f":"Test!C207","v":37.474800000000002},{"$f":"Test!D207","v":37.004399999999997},{"$f":"Test!E207","v":40.512300000000003},{"$f":"Test!F207","v":19384.84},{"$f":"Test!G207","v":15},5.3846777777777781,null,null,null,null,null,null,null,null,{"$f":"Anchor!H207","v":37.356900000000003},{"$f":"Anchor!I207","v":37.000399999999999},{"$f":"Anchor!J207","v":40.503399999999999},null,{"$f":"Test!H207","v":37.359200000000001},{"$f":"Test!I207","v":37.001199999999997},{"$f":"Test!J207","v":40.505299999999998}]
[null,null,37,{"$f":"Anchor!B208","v":724.97919999999999},{"$f":"Anchor!C208","v":34.997700000000002},{"$f":"Anchor!D208","v":36.5154},{"$f":"Anchor!E208","v":39.582900000000002},{"$f":"Anchor!F208","v":15744.53},{"$f":"Anchor!G208","v":12.92},4.373480555555556,null,{"$f":"Test!B208","v":724.84320000000002},{"$f":"Test!C208","v":34.999299999999998},{"$f":"Test!D208","v":36.513300000000001},{"$f":"Test!E208","v":39.575400000000002},{"$f":"Test!F208","v":16126.73},{"$f":"Test!G208","v":13.4},4.4796472222222219,null,null,null,null,null,null,null,null,{"$f":"Anchor!H208","v":34.890599999999999},{"$f":"Anchor!I208","v":36.512700000000002},{"$f":"Anchor!J208","v":39.578000000000003},null,{"$f":"Test!H208","v":34.892200000000003},{"$f":"Test!I208","v":36.5105},{"$f":"Test!J208","v":39.570500000000003}]
[null,{"$f":"$A3","v":"RGB, text & graphics with motion, 1080p"},null,null,null,null,null,null,{"$f":"geometricMean(I3:I14)","v":45.738269971613803},{"$f":"geometricMean(J3:J14)","v":18.484210590747214},null,null,null,null,null,null,{"$f":"geometricMean(Q3:Q14)","v":46.667340850370792},{"$f":"geometricMean(R3:R14)","v":18.602488870995153},null,{"$f":"AVERAGE(T3:T14)","v":-6.6644085885258761E-2},-6.8948396894731132E-2,-7.0196109580539748E-2,-6.6726454767930779E-2,-6.9348432655256878E-2,-7.0490979802331696E-2]
[null,{"$f":"$A15","v":"RGB, text & graphics with motion,720p"},null,null,null,null,null,null,{"$f":"geometricMean(I15:I30)","v":17.650102574372578},{"$f":"geometricMean(J15:J30)","v":4.0262449482628195},null,null,null,null,null,null,{"$f":"geometricMean(Q15:Q30)","v":18.470474871329365},{"$f":"geometricMean(R15:R30)","v":4.09566594430422},null,{"$f":"AVERAGE(T15:T30)","v":-6.2633395358858424E-2},-5.3125362672780035E-2,-5.7571410655087918E-2,-6.2476256458429413E-2,-5.2998541839468172E-2,-5.7510965929194691E-2]
[null,{"$f":"$A31","v":"RGB, mixed content, 1440p"},null,null,null,null,null,null,{"$f":"geometricMean(I31:I38)","v":42.176068651624085},{"$f":"geometricMean(J31:J38)","v":10.055663612390214},null,null,null,null,null,null,{"$f":"geometricMean(Q31:Q38)","v":44.265942139170875},{"$f":"geometricMean(R31:R38)","v":10.201211955332594},null,{"$f":"AVERAGE(T31:T38)","v":-1.4129397351734407E-2},-1.1192536054866309E-2,-1.0595871254311551E-2,-1.416074564913522E-2,-1.1194982754714311E-2,-1.0598233342545671E-2]
[null,{"$f":"$A39","v":"RGB, mixed content, 1080p"},null,null,null,null,null,null,{"$f":"geometricMean(I39:I42)","v":46.984491756891657},{"$f":"geometricMean(J39:J42)","v":9.6891955117511905},null,null,null,null,null,null,{"$f":"geometricMean(Q39:Q42)","v":49.162543317851387},{"$f":"geometricMean(R39:R42)","v":9.8522551858899963},null,{"$f":"AVERAGE(T39:T42)","v":-2.1077482573351625E-2},-2.2538090719557147E-2,-1.9869967075580197E-2,-2.1149312074129178E-2,-2.2603553964297141E-2,-1.9904764669772534E-2]
[null,{"$f":"$A43","v":"RGB, Animation, 720p"},null,null,null,null,null,null,{"$f":"geometricMean(I43:I46)","v":17.187915352621303},{"$f":"geometricMean(J43:J46)","v":6.728705384405667},null,null,null,null,null,null,{"$f":"geometricMean(Q43:Q46)","v":17.781823513276429},{"$f":"geometricMean(R43:R46)","v":6.8735370707250025},null,{"$f":"AVERAGE(T43:T46)","v":-1.5649641773551881E-4},-1.2335437442213548E-3,-1.5804337517033584E-4,-2.3108882174971423E-4,-1.2456686679200857E-3,-2.9214861017490268E-4]
[null,{"$f":"$A47","v":"RGB, camera captured, 1080p"},null,null,null,null,null,null,{"$f":"geometricMean(I47:I54)","v":25.747421092151203},{"$f":"geometricMean(J44:J47)","v":7.4014137631482013},null,null,null,null,null,null,{"$f":"geometricMean(Q47:Q54)","v":26.528397347816941},{"$f":"geometricMean(R44:R47)","v":7.5550475479132588},null,{"$f":"AVERAGE(T47:T54)","v":4.0105561286396529E-4},1.2690140101645486E-4,5.0215632391237275E-4,4.1175273674021184E-4,-4.1174522718268047E-4,5.0803372093966015E-4]
[null,{"$f":"$A55","v":"YUV, text & graphics with motion, 1080p"},null,null,null,null,null,null,{"$f":"geometricMean(I55:I66)","v":44.033646405777397},{"$f":"geometricMean(J55:J66)","v":16.000920199506709},null,null,null,null,null,null,{"$f":"geometricMean(Q55:Q66)","v":45.107804616746932},{"$f":"geometricMean(R55:R66)","v":16.089563598774614},null,{"$f":"AVERAGE(T55:T66)","v":-6.729337857398672E-2},-8.7668519861613836E-2,-8.346690331505395E-2,-6.717690640874778E-2,-8.7463505623434593E-2,-8.3264107203450302E-2]
[null,{"$f":"$A67","v":"YUV, text & graphics with motion,720p"},null,null,null,null,null,null,{"$f":"geometricMean(I67:I82)","v":17.071782443442341},{"$f":"geometricMean(J67:J82)","v":3.643805905590241},null,null,null,null,null,null,{"$f":"geometricMean(Q67:Q82)","v":17.921542635035866},{"$f":"geometricMean(R67:R82)","v":3.6848251776845933},null,{"$f":"AVERAGE(T67:T82)","v":-5.1487378060509237E-2},-7.289117584177271E-2,-9.0663835429971362E-2,-5.1266370344023454E-2,-7.2496454685142653E-2,-9.0433873476208043E-2]
[null,{"$f":"$A83","v":"YUV, mixed content, 1440p"},null,null,null,null,null,null,{"$f":"geometricMean(I83:I90)","v":40.700472943713116},{"$f":"geometricMean(J83:J90)","v":8.6476196573671995},null,null,null,null,null,null,{"$f":"geometricMean(Q83:Q90)","v":42.692766408561972},{"$f":"geometricMean(R83:R90)","v":8.7899555946840238},null,{"$f":"AVERAGE(T83:T90)","v":-1.0231504734490915E-2},-3.7506390461968964E-2,-3.1529573812470568E-2,-1.023973847887566E-2,-3.7529556917010209E-2,-3.1574201376702971E-2]
[null,{"$f":"$A91","v":"YUV, mixed content, 1080p"},null,null,null,null,null,null,{"$f":"geometricMean(I91:I94)","v":45.657874020850151},{"$f":"geometricMean(J91:J94)","v":8.307948873842733},null,null,null,null,null,null,{"$f":"geometricMean(Q91:Q94)","v":47.762356523882261},{"$f":"geometricMean(R91:R94)","v":8.393128156072331},null,{"$f":"AVERAGE(T91:T94)","v":-2.3743090130977307E-2},-4.7476814684600077E-2,-4.5325181337854015E-2,-2.3758211025400211E-2,-4.7497486238499365E-2,-4.5274811254417902E-2]
[null,{"$f":"$A95","v":"YUV, Animation, 720p"},null,null,null,null,null,null,{"$f":"geometricMean(I95:I98)","v":14.641522924439634},{"$f":"geometricMean(J95:J98)","v":5.2464322877726213},null,null,null,null,null,null,{"$f":"geometricMean(Q95:Q98)","v":15.249025101148971},{"$f":"geometricMean(R95:R98)","v":5.3192064269089574},null,{"$f":"AVERAGE(T95:T98)","v":1.3820487826627925E-3},-2.2106651039320857E-3,3.5793477708434551E-4,1.3307013561731917E-3,-2.3494275992498315E-3,1.128365854587976E-4]
[null,{"$f":"$A99","v":"YUV, camera captured, 1080p"},null,null,null,null,null,null,{"$f":"geometricMean(I99:I106)","v":21.670196798845897},{"$f":"geometricMean(J96:J99)","v":5.531770146335198},null,null,null,null,null,null,{"$f":"geometricMean(Q99:Q106)","v":22.389391217969823},{"$f":"geometricMean(R96:R99)","v":5.6325989434195165},null,{"$f":"AVERAGE(T99:T106)","v":4.2307833881005674E-4},8.5074939622842294E-4,9.0364919573171498E-4,4.3052727227932408E-4,1.0331866505866594E-3,1.1016115446894625E-3]
[null,"All",null,null,null,null,null,null,null,null,null,null,null,null,null,null,null,null,null,{"$f":"AVERAGE(T3:T106)","v":-3.6498617063988895E-2},-4.3954560385336044E-2,-4.6167867658954413E-2,-3.6446342674728301E-2,-4.3935312842350964E-2,-4.6135734057503944E-2]
[null,"Time geomean",null,null,null,null,null,null,{"$f":"geometricMean(I3:I106)","v":27.745733613344335},{"$f":"geometricMean(J3:J106)","v":7.7184833036036462},null,null,null,null,null,null,{"$f":"geometricMean(Q3:Q106)","v":28.823720847735984},{"$f":"geometricMean(R3:R106)","v":7.8265698964035053}]
[null,"Time sum (hours)",null,null,null,null,null,null,{"$f":"secToHours(macroSum(I3:I106))","v":0.89760277777777797},{"$f":"SUM(J3:J106)","v":1055.0068194444445},null,null,null,null,null,null,{"$f":"secToHours(macroSum(Q3:Q106))","v":0.93034166666666684},{"$f":"SUM(R3:R106)","v":1067.8244972222226}]
[]
[]
[null,null,"Time Ratio"]
[null,null,"Decoding","Encoding"]
[null,"RGB, text & graphics with motion, 1080p",{"$f":"Q107/I107","v":1.0203127682645974},{"$f":"R107/J107","v":1.0063988818817693}]
[null,"RGB, text & graphics with motion,720p",1.0464797467040188,1.0172421193775985]
[null,"RGB, mixed content, 1440p",1.0495511685740371,1.0144742653048815]
[null,"RGB, mixed content, 1080p",1.0463568185908971,1.0168290209379143]
[null,"RGB, Animation, 720p",1.0345538215932946,1.0215244505510666]
[null,"RGB, camera captured, 1080p",1.0303322128018408,1.0207573565917911]
[null,"YUV, text & graphics with motion, 1080p",1.0243940327146879,1.0055398938412703]
[null,"YUV, text & graphics with motion,720p",1.0497757158286618,1.0112572604461234]
[null,"YUV, mixed content, 1440p",1.0489501305698365,1.016459551062189]
[null,"YUV, mixed content, 1080p",1.0460924330833072,1.0102527451147156]
[null,"YUV, Animation, 720p",1.0414917341484535,1.0138711671369407]
[null,"YUV, camera captured, 1080p",1.0331881812518762,1.0182272210191374]
[null,"All",{"$f":"Q120/I120","v":1.0388523601290971},{"$f":"R120/J120","v":1.0140036051835981}]

{"sheet":"LB-SCC","index":3,"n_rows":138,"n_cols":33,"rows_kept":138,"cut":false,"hidden":false,"merged":[[0,26,0,28],[0,30,0,32],[123,2,123,3],[0,3,0,9],[0,11,0,17],[0,19,0,21],[0,22,0,24]]}
[null,null,null,{"$f":"Summary!H2","v":"Anchor (SCM-1.0)"},null,null,null,null,null,null,null,{"$f":"Summary!H3","v":"Tested (Rnnnn)"},null,null,null,null,null,null,null,"BD-rate (piecewise cubic)",null,null,"BD-rate (cubic)",null,null,null,"MSE PSNR (anchor)",null,null,null,"MSE PSNR (tested)"]
[null,null,"QPISlice","kbps","G/Y psnr","B/U psnr","R/V psnr","Enc T [s]","Dec T [s]","Enc T [h]",null,"kbps","G/Y psnr","B/U psnr","R/V psnr","Enc T [s]","Dec T [s]","Enc T [h]",null,"G/Y","B/U","R/V","G/Y","B/U","R/V",null,"G/Y","B/U","R/V",null,"G/Y","B/U","R/V"]
["RGB, text & graphics with motion, 1080p","sc_flyingGraphics_1920x1080_60_8bit_rgb",22,{"$f":"Anchor!B209","v":55866.8416},{"$f":"Anchor!C209","v":45.383299999999998},{"$f":"Anchor!D209","v":45.136299999999999},{"$f":"Anchor!E209","v":44.856299999999997},{"$f":"Anchor!F209","v":199627.25},{"$f":"Anchor!G209","v":58.23},{"$f":"secToHours(H3)","v":55.452013888888892},null,{"$f":"Test!B209","v":55488.502399999998},{"$f":"Test!C209","v":45.881700000000002},{"$f":"Test!D209","v":45.6965},{"$f":"Test!E209","v":45.372199999999999},{"$f":"Test!F209","v":200899.61},{"$f":"Test!G209","v":57.53},{"$f":"secToHours(P3)","v":55.80544722222222},null,{"$f":"bdrate(D3:D6,E3:E6,L3:L6,M3:M6)","v":-3.4378015470079903E-2},{"$f":"bdrate(D3:D6,F3:F6,L3:L6,N3:N6)","v":-4.0134288800408813E-2},{"$f":"bdrate(D3:D6,G3:G6,L3:L6,O3:O6)","v":-3.8911805956435286E-2},{"$f":"bdrateOld(D3:D6,E3:E6,L3:L6,M3:M6)","v":-3.419516772750808E-2},{"$f":"bdrateOld(D3:D6,F3:F6,L3:L6,N3:N6)","v":-4.0094380370340854E-2},{"$f":"bdrateOld(D3:D6,G3:G6,L3:L6,O3:O6)","v":-3.884221939311161E-2},null,{"$f":"Anchor!H209","v":45.232999999999997},{"$f":"Anchor!I209","v":44.977400000000003},{"$f":"Anchor!J209","v":44.687899999999999},null,{"$f":"Test!H209","v":45.696399999999997},{"$f":"Test!I209","v":45.498399999999997},{"$f":"Test!J209","v":45.167099999999998}]
[null,null,27,{"$f":"Anchor!B210","v":34822.473599999998},{"$f":"Anchor!C210","v":40.071100000000001},{"$f":"Anchor!D210","v":40.034100000000002},{"$f":"Anchor!E210","v":39.821800000000003},{"$f":"Anchor!F210","v":173057.67},{"$f":"Anchor!G210","v":52.34},{"$f":"secToHours(H4)","v":48.071575000000003},null,{"$f":"Test!B210","v":34691.892800000001},{"$f":"Test!C210","v":40.386800000000001},{"$f":"Test!D210","v":40.424700000000001},{"$f":"Test!E210","v":40.184199999999997},{"$f":"Test!F210","v":172654.65},{"$f":"Test!G210","v":52.25},{"$f":"secToHours(P4)","v":47.959624999999996},null,null,null,null,null,null,null,null,{"$f":"Anchor!H210","v":39.844499999999996},{"$f":"Anchor!I210","v":39.808900000000001},{"$f":"Anchor!J210","v":39.594499999999996},null,{"$f":"Test!H210","v":40.121299999999998},{"$f":"Test!I210","v":40.155999999999999},{"$f":"Test!J210","v":39.919400000000003}]
[null,null,32,{"$f":"Anchor!B211","v":20822.648000000001},{"$f":"Anchor!C211","v":35.564999999999998},{"$f":"Anchor!D211","v":35.351999999999997},{"$f":"Anchor!E211","v":35.335700000000003},{"$f":"Anchor!F211","v":143269.70000000001},{"$f":"Anchor!G211","v":45.57},{"$f":"secToHours(H5)","v":39.797138888888895},null,{"$f":"Test!B211","v":20779.848000000002},{"$f":"Test!C211","v":35.818399999999997},{"$f":"Test!D211","v":35.658999999999999},{"$f":"Test!E211","v":35.627600000000001},{"$f":"Test!F211","v":144849.67000000001},{"$f":"Test!G211","v":45.99},{"$f":"secToHours(P5)","v":40.236019444444445},null,null,null,null,null,null,null,null,{"$f":"Anchor!H211","v":35.3324},{"$f":"Anchor!I211","v":35.084099999999999},{"$f":"Anchor!J211","v":35.095799999999997},null,{"$f":"Test!H211","v":35.559399999999997},{"$f":"Test!I211","v":35.357900000000001},{"$f":"Test!J211","v":35.358899999999998}]
[null,null,37,{"$f":"Anchor!B212","v":12931.606400000001},{"$f":"Anchor!C212","v":31.753499999999999},{"$f":"Anchor!D212","v":31.156099999999999},{"$f":"Anchor!E212","v":31.363},{"$f":"Anchor!F212","v":120019.81},{"$f":"Anchor!G212","v":40.74},33.338836111111114,null,{"$f":"Test!B212","v":12973.497600000001},{"$f":"Test!C212","v":31.989100000000001},{"$f":"Test!D212","v":31.4756},{"$f":"Test!E212","v":31.650700000000001},{"$f":"Test!F212","v":121499.26},{"$f":"Test!G212","v":41.45},33.74979444444444,null,null,null,null,null,null,null,null,{"$f":"Anchor!H212","v":31.5761},{"$f":"Anchor!I212","v":30.934899999999999},{"$f":"Anchor!J212","v":31.177499999999998},null,{"$f":"Test!H212","v":31.790700000000001},{"$f":"Test!I212","v":31.226700000000001},{"$f":"Test!J212","v":31.447900000000001}]
[null,"sc_desktop_1920x1080_60_8bit_rgb",22,{"$f":"Anchor!B213","v":1253.6143999999999},{"$f":"Anchor!C213","v":52.759},{"$f":"Anchor!D213","v":51.940199999999997},{"$f":"Anchor!E213","v":51.6584},{"$f":"Anchor!F213","v":42928.75},{"$f":"Anchor!G213","v":36.81},11.924652777777778,null,{"$f":"Test!B213","v":1212.5712000000001},{"$f":"Test!C213","v":54.211300000000001},{"$f":"Test!D213","v":53.294499999999999},{"$f":"Test!E213","v":52.905700000000003},{"$f":"Test!F213","v":42645.96},{"$f":"Test!G213","v":38.92},11.8461,null,{"$f":"bdrate(D7:D10,E7:E10,L7:L10,M7:M10)","v":-3.3167862778881396E-2},{"$f":"bdrate(D7:D10,F7:F10,L7:L10,N7:N10)","v":-3.2022346496552001E-2},{"$f":"bdrate(D7:D10,G7:G10,L7:L10,O7:O10)","v":-3.2823399542950327E-2},{"$f":"bdrateOld(D7:D10,E7:E10,L7:L10,M7:M10)","v":-3.2978184945264721E-2},{"$f":"bdrateOld(D7:D10,F7:F10,L7:L10,N7:N10)","v":-3.1921403663574544E-2},{"$f":"bdrateOld(D7:D10,G7:G10,L7:L10,O7:O10)","v":-3.2700559504546645E-2},null,{"$f":"Anchor!H213","v":52.708199999999998},{"$f":"Anchor!I213","v":51.891300000000001},{"$f":"Anchor!J213","v":51.6235},null,{"$f":"Test!H213","v":54.1494},{"$f":"Test!I213","v":53.250900000000001},{"$f":"Test!J213","v":52.876600000000003}]
[null,null,27,{"$f":"Anchor!B214","v":1176.9232},{"$f":"Anchor!C214","v":47.979100000000003},{"$f":"Anchor!D214","v":47.167900000000003},{"$f":"Anchor!E214","v":46.657699999999998},{"$f":"Anchor!F214","v":42542.07},{"$f":"Anchor!G214","v":36.880000000000003},11.817241666666666,null,{"$f":"Test!B214","v":1151.652},{"$f":"Test!C214","v":49.452500000000001},{"$f":"Test!D214","v":48.398499999999999},{"$f":"Test!E214","v":48.084699999999998},{"$f":"Test!F214","v":42797.67},{"$f":"Test!G214","v":39.01},11.888241666666666,null,null,null,null,null,null,null,null,{"$f":"Anchor!H214","v":47.926000000000002},{"$f":"Anchor!I214","v":47.114400000000003},{"$f":"Anchor!J214","v":46.636099999999999},null,{"$f":"Test!H214","v":49.370399999999997},{"$f":"Test!I214","v":48.348599999999998},{"$f":"Test!J214","v":48.057099999999998}]
[null,null,32,{"$f":"Anchor!B215","v":1091.9376},{"$f":"Anchor!C215","v":42.998600000000003},{"$f":"Anchor!D215","v":42.255000000000003},{"$f":"Anchor!E215","v":42.035800000000002},{"$f":"Anchor!F215","v":41988.3},{"$f":"Anchor!G215","v":36.78},11.663416666666668,null,{"$f":"Test!B215","v":1080.096},{"$f":"Test!C215","v":44.159399999999998},{"$f":"Test!D215","v":43.279899999999998},{"$f":"Test!E215","v":43.079300000000003},{"$f":"Test!F215","v":42070.36},{"$f":"Test!G215","v":38.950000000000003},11.686211111111112,null,null,null,null,null,null,null,null,{"$f":"Anchor!H215","v":42.856299999999997},{"$f":"Anchor!I215","v":42.180500000000002},{"$f":"Anchor!J215","v":41.970199999999998},null,{"$f":"Test!H215","v":44.008499999999998},{"$f":"Test!I215","v":43.200800000000001},{"$f":"Test!J215","v":43.022300000000001}]
[null,null,37,{"$f":"Anchor!B216","v":985.74400000000003},{"$f":"Anchor!C216","v":36.3767},{"$f":"Anchor!D216","v":36.074100000000001},{"$f":"Anchor!E216","v":36.021999999999998},{"$f":"Anchor!F216","v":40082.720000000001},{"$f":"Anchor!G216","v":36.57},11.13408888888889,null,{"$f":"Test!B216","v":986.56},{"$f":"Test!C216","v":38.089599999999997},{"$f":"Test!D216","v":37.717100000000002},{"$f":"Test!E216","v":37.446100000000001},{"$f":"Test!F216","v":38980.800000000003},{"$f":"Test!G216","v":38.86},10.828000000000001,null,null,null,null,null,null,null,null,{"$f":"Anchor!H216","v":36.323300000000003},{"$f":"Anchor!I216","v":36.038499999999999},{"$f":"Anchor!J216","v":35.981900000000003},null,{"$f":"Test!H216","v":37.925600000000003},{"$f":"Test!I216","v":37.631100000000004},{"$f":"Test!J216","v":37.358600000000003}]
[null,"sc_console_1920x1080_60_8bit_rgb",22,{"$f":"Anchor!B217","v":6550.7183999999997},{"$f":"Anchor!C217","v":53.579700000000003},{"$f":"Anchor!D217","v":53.694200000000002},{"$f":"Anchor!E217","v":52.546300000000002},{"$f":"Anchor!F217","v":110709.93},{"$f":"Anchor!G217","v":46.21},30.752758333333333,null,{"$f":"Test!B217","v":6416.5944},{"$f":"Test!C217","v":54.539000000000001},{"$f":"Test!D217","v":54.552100000000003},{"$f":"Test!E217","v":53.740499999999997},{"$f":"Test!F217","v":109779.17},{"$f":"Test!G217","v":47.5},30.49421388888889,null,{"$f":"bdrate(D11:D14,E11:E14,L11:L14,M11:M14)","v":-4.9054936138046346E-2},{"$f":"bdrate(D11:D14,F11:F14,L11:L14,N11:N14)","v":-5.7221640088747749E-2},{"$f":"bdrate(D11:D14,G11:G14,L11:L14,O11:O14)","v":-5.8234883113098435E-2},{"$f":"bdrateOld(D11:D14,E11:E14,L11:L14,M11:M14)","v":-4.8962157305233456E-2},{"$f":"bdrateOld(D11:D14,F11:F14,L11:L14,N11:N14)","v":-5.7155787402955682E-2},{"$f":"bdrateOld(D11:D14,G11:G14,L11:L14,O11:O14)","v":-5.8177140318240506E-2},null,{"$f":"Anchor!H217","v":53.539200000000001},{"$f":"Anchor!I217","v":53.647599999999997},{"$f":"Anchor!J217","v":52.514899999999997},null,{"$f":"Test!H217","v":54.479100000000003},{"$f":"Test!I217","v":54.49},{"$f":"Test!J217","v":53.694699999999997}]
[null,null,27,{"$f":"Anchor!B218","v":5664.0904},{"$f":"Anchor!C218","v":48.314},{"$f":"Anchor!D218","v":48.083100000000002},{"$f":"Anchor!E218","v":47.246200000000002},{"$f":"Anchor!F218","v":107058.71},{"$f":"Anchor!G218","v":46.38},29.738530555555556,null,{"$f":"Test!B218","v":5525.8127999999997},{"$f":"Test!C218","v":49.224600000000002},{"$f":"Test!D218","v":49.258800000000001},{"$f":"Test!E218","v":48.584299999999999},{"$f":"Test!F218","v":106229.43},{"$f":"Test!G218","v":47.67},29.508174999999998,null,null,null,null,null,null,null,null,{"$f":"Anchor!H218","v":48.1967},{"$f":"Anchor!I218","v":47.995699999999999},{"$f":"Anchor!J218","v":47.173299999999998},null,{"$f":"Test!H218","v":49.078800000000001},{"$f":"Test!I218","v":49.136400000000002},{"$f":"Test!J218","v":48.487200000000001}]
[null,null,32,{"$f":"Anchor!B219","v":4754.3624},{"$f":"Anchor!C219","v":42.8003},{"$f":"Anchor!D219","v":42.996200000000002},{"$f":"Anchor!E219","v":42.273299999999999},{"$f":"Anchor!F219","v":98407.59},{"$f":"Anchor!G219","v":45.73},27.335441666666664,null,{"$f":"Test!B219","v":4656.7496000000001},{"$f":"Test!C219","v":43.664299999999997},{"$f":"Test!D219","v":44.079099999999997},{"$f":"Test!E219","v":43.328000000000003},{"$f":"Test!F219","v":99510.03},{"$f":"Test!G219","v":47.34},27.641674999999999,null,null,null,null,null,null,null,null,{"$f":"Anchor!H219","v":42.577199999999998},{"$f":"Anchor!I219","v":42.8247},{"$f":"Anchor!J219","v":42.102800000000002},null,{"$f":"Test!H219","v":43.395400000000002},{"$f":"Test!I219","v":43.8506},{"$f":"Test!J219","v":43.111800000000002}]
[null,null,37,{"$f":"Anchor!B220","v":3798.4720000000002},{"$f":"Anchor!C220","v":37.5349},{"$f":"Anchor!D220","v":38.046900000000001},{"$f":"Anchor!E220","v":37.013800000000003},{"$f":"Anchor!F220","v":89545.15},{"$f":"Anchor!G220","v":44.79},24.873652777777775,null,{"$f":"Test!B220","v":3758.8863999999999},{"$f":"Test!C220","v":38.296500000000002},{"$f":"Test!D220","v":39.060400000000001},{"$f":"Test!E220","v":37.838500000000003},{"$f":"Test!F220","v":90516.66},{"$f":"Test!G220","v":46.42},25.143516666666667,null,null,null,null,null,null,null,null,{"$f":"Anchor!H220","v":37.379199999999997},{"$f":"Anchor!I220","v":37.916899999999998},{"$f":"Anchor!J220","v":36.830399999999997},null,{"$f":"Test!H220","v":38.095999999999997},{"$f":"Test!I220","v":38.871499999999997},{"$f":"Test!J220","v":37.614400000000003}]
["RGB, text & graphics with motion,720p","sc_web_browsing_1280x720_30_8bit_300_rgb",22,{"$f":"Anchor!B221","v":268.08},{"$f":"Anchor!C221","v":51.647500000000001},{"$f":"Anchor!D221","v":50.939799999999998},{"$f":"Anchor!E221","v":50.8048},{"$f":"Anchor!F221","v":6522.58},{"$f":"Anchor!G221","v":7.79},1.8118277777777778,null,{"$f":"Test!B221","v":255.7816},{"$f":"Test!C221","v":52.633699999999997},{"$f":"Test!D221","v":51.500599999999999},{"$f":"Test!E221","v":51.4482},{"$f":"Test!F221","v":6691.03},{"$f":"Test!G221","v":8.3000000000000007},1.8586194444444444,null,{"$f":"bdrate(D15:D18,E15:E18,L15:L18,M15:M18)","v":-7.6711202729698558E-2},{"$f":"bdrate(D15:D18,F15:F18,L15:L18,N15:N18)","v":-7.1315651552408377E-2},{"$f":"bdrate(D15:D18,G15:G18,L15:L18,O15:O18)","v":-7.8616194039036746E-2},{"$f":"bdrateOld(D15:D18,E15:E18,L15:L18,M15:M18)","v":-7.6749395926523523E-2},{"$f":"bdrateOld(D15:D18,F15:F18,L15:L18,N15:N18)","v":-7.119293352563294E-2},{"$f":"bdrateOld(D15:D18,G15:G18,L15:L18,O15:O18)","v":-7.846476313636519E-2},null,{"$f":"Anchor!H221","v":51.152799999999999},{"$f":"Anchor!I221","v":50.504899999999999},{"$f":"Anchor!J221","v":50.412100000000002},null,{"$f":"Test!H221","v":51.958199999999998},{"$f":"Test!I221","v":51.012900000000002},{"$f":"Test!J221","v":50.984499999999997}]
[null,null,27,{"$f":"Anchor!B222","v":216.1448},{"$f":"Anchor!C222","v":47.689900000000002},{"$f":"Anchor!D222","v":46.589399999999998},{"$f":"Anchor!E222","v":46.516399999999997},{"$f":"Anchor!F222","v":6762.31},{"$f":"Anchor!G222","v":7.77},1.8784194444444446,null,{"$f":"Test!B222","v":206.27359999999999},{"$f":"Test!C222","v":48.244799999999998},{"$f":"Test!D222","v":47.124299999999998},{"$f":"Test!E222","v":47.147399999999998},{"$f":"Test!F222","v":6463.21},{"$f":"Test!G222","v":8.34},1.795336111111111,null,null,null,null,null,null,null,null,{"$f":"Anchor!H222","v":47.149900000000002},{"$f":"Anchor!I222","v":46.163800000000002},{"$f":"Anchor!J222","v":46.149000000000001},null,{"$f":"Test!H222","v":47.6509},{"$f":"Test!I222","v":46.6509},{"$f":"Test!J222","v":46.7119}]
[null,null,32,{"$f":"Anchor!B223","v":169.9008},{"$f":"Anchor!C223","v":42.7896},{"$f":"Anchor!D223","v":41.774500000000003},{"$f":"Anchor!E223","v":41.723599999999998},{"$f":"Anchor!F223","v":6650.27},{"$f":"Anchor!G223","v":7.68},1.8472972222222224,null,{"$f":"Test!B223","v":166.62559999999999},{"$f":"Test!C223","v":43.911200000000001},{"$f":"Test!D223","v":42.844200000000001},{"$f":"Test!E223","v":42.940100000000001},{"$f":"Test!F223","v":6424.82},{"$f":"Test!G223","v":8.2899999999999991},1.7846722222222222,null,null,null,null,null,null,null,null,{"$f":"Anchor!H223","v":42.444299999999998},{"$f":"Anchor!I223","v":41.4664},{"$f":"Anchor!J223","v":41.475700000000003},null,{"$f":"Test!H223","v":43.3932},{"$f":"Test!I223","v":42.389099999999999},{"$f":"Test!J223","v":42.5428}]
[null,null,37,{"$f":"Anchor!B224","v":128.94239999999999},{"$f":"Anchor!C224","v":36.746200000000002},{"$f":"Anchor!D224","v":35.780700000000003},{"$f":"Anchor!E224","v":35.712200000000003},{"$f":"Anchor!F224","v":6025.75},{"$f":"Anchor!G224","v":7.64},1.6738194444444445,null,{"$f":"Test!B224","v":127.6768},{"$f":"Test!C224","v":38.736699999999999},{"$f":"Test!D224","v":37.386800000000001},{"$f":"Test!E224","v":37.713200000000001},{"$f":"Test!F224","v":6306.46},{"$f":"Test!G224","v":8.24},1.7517944444444444,null,null,null,null,null,null,null,null,{"$f":"Anchor!H224","v":36.627800000000001},{"$f":"Anchor!I224","v":35.671199999999999},{"$f":"Anchor!J224","v":35.620899999999999},null,{"$f":"Test!H224","v":38.444000000000003},{"$f":"Test!I224","v":37.154600000000002},{"$f":"Test!J224","v":37.499600000000001}]
[null,"sc_map_1280x720_60_8bit",22,{"$f":"Anchor!B225","v":2703.1392000000001},{"$f":"Anchor!C225","v":46.494100000000003},{"$f":"Anchor!D225","v":45.900100000000002},{"$f":"Anchor!E225","v":46.2423},{"$f":"Anchor!F225","v":27980.47},{"$f":"Anchor!G225","v":18.79},7.7723527777777779,null,{"$f":"Test!B225","v":2658.4792000000002},{"$f":"Test!C225","v":47.190100000000001},{"$f":"Test!D225","v":46.518799999999999},{"$f":"Test!E225","v":46.904400000000003},{"$f":"Test!F225","v":28829.85},{"$f":"Test!G225","v":19.75},8.0082916666666666,null,{"$f":"bdrate(D19:D22,E19:E22,L19:L22,M19:M22)","v":-3.6378073941646272E-2},{"$f":"bdrate(D19:D22,F19:F22,L19:L22,N19:N22)","v":-3.2634051987545321E-2},{"$f":"bdrate(D19:D22,G19:G22,L19:L22,O19:O22)","v":-3.6272138431072798E-2},{"$f":"bdrateOld(D19:D22,E19:E22,L19:L22,M19:M22)","v":-3.635841650970939E-2},{"$f":"bdrateOld(D19:D22,F19:F22,L19:L22,N19:N22)","v":-3.2645245020886171E-2},{"$f":"bdrateOld(D19:D22,G19:G22,L19:L22,O19:O22)","v":-3.6262759270272671E-2},null,{"$f":"Anchor!H225","v":45.952199999999998},{"$f":"Anchor!I225","v":45.380600000000001},{"$f":"Anchor!J225","v":45.751899999999999},null,{"$f":"Test!H225","v":46.628799999999998},{"$f":"Test!I225","v":45.967399999999998},{"$f":"Test!J225","v":46.415199999999999}]
[null,null,27,{"$f":"Anchor!B226","v":1705.9295999999999},{"$f":"Anchor!C226","v":42.192},{"$f":"Anchor!D226","v":41.591099999999997},{"$f":"Anchor!E226","v":42.086500000000001},{"$f":"Anchor!F226","v":26003.200000000001},{"$f":"Anchor!G226","v":18.11},7.2231111111111117,null,{"$f":"Test!B226","v":1703.9744000000001},{"$f":"Test!C226","v":42.557899999999997},{"$f":"Test!D226","v":41.916400000000003},{"$f":"Test!E226","v":42.4377},{"$f":"Test!F226","v":25837.91},{"$f":"Test!G226","v":19.260000000000002},7.1771972222222225,null,null,null,null,null,null,null,null,{"$f":"Anchor!H226","v":41.595999999999997},{"$f":"Anchor!I226","v":40.985399999999998},{"$f":"Anchor!J226","v":41.5503},null,{"$f":"Test!H226","v":41.9621},{"$f":"Test!I226","v":41.300199999999997},{"$f":"Test!J226","v":41.9193}]
[null,null,32,{"$f":"Anchor!B227","v":1045.0032000000001},{"$f":"Anchor!C227","v":37.791600000000003},{"$f":"Anchor!D227","v":37.189100000000003},{"$f":"Anchor!E227","v":37.927300000000002},{"$f":"Anchor!F227","v":23239.16},{"$f":"Anchor!G227","v":17.41},6.4553222222222217,null,{"$f":"Test!B227","v":1056.1448},{"$f":"Test!C227","v":38.094700000000003},{"$f":"Test!D227","v":37.4621},{"$f":"Test!E227","v":38.209400000000002},{"$f":"Test!F227","v":22595.54},{"$f":"Test!G227","v":18.66},6.2765388888888891,null,null,null,null,null,null,null,null,{"$f":"Anchor!H227","v":37.153500000000001},{"$f":"Anchor!I227","v":36.553400000000003},{"$f":"Anchor!J227","v":37.375700000000002},null,{"$f":"Test!H227","v":37.433199999999999},{"$f":"Test!I227","v":36.805799999999998},{"$f":"Test!J227","v":37.645600000000002}]
[null,null,37,{"$f":"Anchor!B228","v":623.31039999999996},{"$f":"Anchor!C228","v":33.852600000000002},{"$f":"Anchor!D228","v":33.146500000000003},{"$f":"Anchor!E228","v":34.096800000000002},{"$f":"Anchor!F228","v":19519.740000000002},{"$f":"Anchor!G228","v":16.78},5.4221500000000002,null,{"$f":"Test!B228","v":629.58399999999995},{"$f":"Test!C228","v":34.069400000000002},{"$f":"Test!D228","v":33.374000000000002},{"$f":"Test!E228","v":34.324800000000003},{"$f":"Test!F228","v":20110.55},{"$f":"Test!G228","v":18.02},5.5862638888888885,null,null,null,null,null,null,null,null,{"$f":"Anchor!H228","v":33.280999999999999},{"$f":"Anchor!I228","v":32.539099999999998},{"$f":"Anchor!J228","v":33.584699999999998},null,{"$f":"Test!H228","v":33.480699999999999},{"$f":"Test!I228","v":32.744599999999998},{"$f":"Test!J228","v":33.802300000000002}]
[null,"sc_programming_1280x720_60_8bit",22,{"$f":"Anchor!B229","v":10359.765600000001},{"$f":"Anchor!C229","v":46.507399999999997},{"$f":"Anchor!D229","v":46.040199999999999},{"$f":"Anchor!E229","v":45.694099999999999},{"$f":"Anchor!F229","v":63688.75},{"$f":"Anchor!G229","v":521},17.691319444444446,null,{"$f":"Test!B229","v":10212.6432},{"$f":"Test!C229","v":46.621299999999998},{"$f":"Test!D229","v":46.111600000000003},{"$f":"Test!E229","v":45.788200000000003},{"$f":"Test!F229","v":65441.18},{"$f":"Test!G229","v":27.99},18.178105555555554,null,{"$f":"bdrate(D23:D26,E23:E26,L23:L26,M23:M26)","v":-1.7389454652789516E-2},{"$f":"bdrate(D23:D26,F23:F26,L23:L26,N23:N26)","v":-8.3585070232292669E-3},{"$f":"bdrate(D23:D26,G23:G26,L23:L26,O23:O26)","v":-9.2119363602833904E-3},{"$f":"bdrateOld(D23:D26,E23:E26,L23:L26,M23:M26)","v":-1.7384133643381205E-2},{"$f":"bdrateOld(D23:D26,F23:F26,L23:L26,N23:N26)","v":-8.3061445286204405E-3},{"$f":"bdrateOld(D23:D26,G23:G26,L23:L26,O23:O26)","v":-9.2352727492833742E-3},null,{"$f":"Anchor!H229","v":46.447899999999997},{"$f":"Anchor!I229","v":45.970199999999998},{"$f":"Anchor!J229","v":45.619399999999999},null,{"$f":"Test!H229","v":46.560200000000002},{"$f":"Test!I229","v":46.040399999999998},{"$f":"Test!J229","v":45.711799999999997}]
[null,null,27,{"$f":"Anchor!B230","v":6493.2551999999996},{"$f":"Anchor!C230","v":42.2864},{"$f":"Anchor!D230","v":41.4255},{"$f":"Anchor!E230","v":41.383400000000002},{"$f":"Anchor!F230","v":55349.71},{"$f":"Anchor!G230","v":24.56},15.374919444444444,null,{"$f":"Test!B230","v":6538.7295999999997},{"$f":"Test!C230","v":42.444899999999997},{"$f":"Test!D230","v":41.499299999999998},{"$f":"Test!E230","v":41.521999999999998},{"$f":"Test!F230","v":55604.08},{"$f":"Test!G230","v":25.6},15.445577777777778,null,null,null,null,null,null,null,null,{"$f":"Anchor!H230","v":42.198900000000002},{"$f":"Anchor!I230","v":41.327300000000001},{"$f":"Anchor!J230","v":41.2791},null,{"$f":"Test!H230","v":42.346899999999998},{"$f":"Test!I230","v":41.399500000000003},{"$f":"Test!J230","v":41.410800000000002}]
[null,null,32,{"$f":"Anchor!B231","v":3594.5888},{"$f":"Anchor!C231","v":37.959699999999998},{"$f":"Anchor!D231","v":36.628900000000002},{"$f":"Anchor!E231","v":36.941099999999999},{"$f":"Anchor!F231","v":47073.81},{"$f":"Anchor!G231","v":22.3},13.076058333333332,null,{"$f":"Test!B231","v":3638.0672},{"$f":"Test!C231","v":38.130000000000003},{"$f":"Test!D231","v":36.773899999999998},{"$f":"Test!E231","v":37.018700000000003},{"$f":"Test!F231","v":47675.199999999997},{"$f":"Test!G231","v":23.45},13.24311111111111,null,null,null,null,null,null,null,null,{"$f":"Anchor!H231","v":37.841999999999999},{"$f":"Anchor!I231","v":36.503900000000002},{"$f":"Anchor!J231","v":36.818600000000004},null,{"$f":"Test!H231","v":37.996200000000002},{"$f":"Test!I231","v":36.636899999999997},{"$f":"Test!J231","v":36.884}]
[null,null,37,{"$f":"Anchor!B232","v":1773.9151999999999},{"$f":"Anchor!C232","v":33.895899999999997},{"$f":"Anchor!D232","v":32.342199999999998},{"$f":"Anchor!E232","v":32.785699999999999},{"$f":"Anchor!F232","v":38722.94},{"$f":"Anchor!G232","v":20.059999999999999},10.756372222222224,null,{"$f":"Test!B232","v":1787.7991999999999},{"$f":"Test!C232","v":34.1295},{"$f":"Test!D232","v":32.487000000000002},{"$f":"Test!E232","v":32.957999999999998},{"$f":"Test!F232","v":38922.42},{"$f":"Test!G232","v":21.32},10.811783333333333,null,null,null,null,null,null,null,null,{"$f":"Anchor!H232","v":33.793300000000002},{"$f":"Anchor!I232","v":32.225900000000003},{"$f":"Anchor!J232","v":32.685200000000002},null,{"$f":"Test!H232","v":34.009300000000003},{"$f":"Test!I232","v":32.357500000000002},{"$f":"Test!J232","v":32.848300000000002}]
[null,"sc_SlideShow_1280x720_20_8bit_500",22,{"$f":"Anchor!B233","v":1060.2877000000001},{"$f":"Anchor!C233","v":49.443199999999997},{"$f":"Anchor!D233","v":49.108699999999999},{"$f":"Anchor!E233","v":49.2057},{"$f":"Anchor!F233","v":39753.769999999997},{"$f":"Anchor!G233","v":18.22},11.042713888888889,null,{"$f":"Test!B233","v":1058.241},{"$f":"Test!C233","v":49.552},{"$f":"Test!D233","v":49.175600000000003},{"$f":"Test!E233","v":49.279200000000003},{"$f":"Test!F233","v":40176.65},{"$f":"Test!G233","v":19.13},11.160180555555556,null,{"$f":"bdrate(D27:D30,E27:E30,L27:L30,M27:M30)","v":-2.3997290294549778E-2},{"$f":"bdrate(D27:D30,F27:F30,L27:L30,N27:N30)","v":-2.2405181198258295E-2},{"$f":"bdrate(D27:D30,G27:G30,L27:L30,O27:O30)","v":-2.3815145061478415E-2},{"$f":"bdrateOld(D27:D30,E27:E30,L27:L30,M27:M30)","v":-2.3939611560097496E-2},{"$f":"bdrateOld(D27:D30,F27:F30,L27:L30,N27:N30)","v":-2.234880287995844E-2},{"$f":"bdrateOld(D27:D30,G27:G30,L27:L30,O27:O30)","v":-2.3758307534485712E-2},null,{"$f":"Anchor!H233","v":48.4345},{"$f":"Anchor!I233","v":48.107900000000001},{"$f":"Anchor!J233","v":48.219200000000001},null,{"$f":"Test!H233","v":48.510899999999999},{"$f":"Test!I233","v":48.160299999999999},{"$f":"Test!J233","v":48.274799999999999}]
[null,null,27,{"$f":"Anchor!B234","v":629.1155},{"$f":"Anchor!C234","v":45.757100000000001},{"$f":"Anchor!D234","v":45.298699999999997},{"$f":"Anchor!E234","v":45.452300000000001},{"$f":"Anchor!F234","v":35106.1},{"$f":"Anchor!G234","v":17.170000000000002},9.7516944444444444,null,{"$f":"Test!B234","v":629.03549999999996},{"$f":"Test!C234","v":45.885199999999998},{"$f":"Test!D234","v":45.409100000000002},{"$f":"Test!E234","v":45.567300000000003},{"$f":"Test!F234","v":35240.71},{"$f":"Test!G234","v":18.11},9.7890861111111107,null,null,null,null,null,null,null,null,{"$f":"Anchor!H234","v":44.783799999999999},{"$f":"Anchor!I234","v":44.317999999999998},{"$f":"Anchor!J234","v":44.51},null,{"$f":"Test!H234","v":44.865900000000003},{"$f":"Test!I234","v":44.4},{"$f":"Test!J234","v":44.5764}]
[null,null,32,{"$f":"Anchor!B235","v":366.34719999999999},{"$f":"Anchor!C235","v":42.1252},{"$f":"Anchor!D235","v":41.548900000000003},{"$f":"Anchor!E235","v":41.732399999999998},{"$f":"Anchor!F235","v":31255.51},{"$f":"Anchor!G235","v":16.23},8.6820861111111114,null,{"$f":"Test!B235","v":368.54689999999999},{"$f":"Test!C235","v":42.366799999999998},{"$f":"Test!D235","v":41.795699999999997},{"$f":"Test!E235","v":41.993400000000001},{"$f":"Test!F235","v":30956.880000000001},{"$f":"Test!G235","v":17.16},8.5991333333333344,null,null,null,null,null,null,null,null,{"$f":"Anchor!H235","v":41.181399999999996},{"$f":"Anchor!I235","v":40.564399999999999},{"$f":"Anchor!J235","v":40.8078},null,{"$f":"Test!H235","v":41.340400000000002},{"$f":"Test!I235","v":40.728700000000003},{"$f":"Test!J235","v":40.9953}]
[null,null,37,{"$f":"Anchor!B236","v":222.50659999999999},{"$f":"Anchor!C236","v":38.501399999999997},{"$f":"Anchor!D236","v":37.883099999999999},{"$f":"Anchor!E236","v":38.118400000000001},{"$f":"Anchor!F236","v":27950.560000000001},{"$f":"Anchor!G236","v":15.36},7.764044444444445,null,{"$f":"Test!B236","v":225.27010000000001},{"$f":"Test!C236","v":38.853499999999997},{"$f":"Test!D236","v":38.264200000000002},{"$f":"Test!E236","v":38.4985},{"$f":"Test!F236","v":28118.14},{"$f":"Test!G236","v":16.309999999999999},7.810594444444444,null,null,null,null,null,null,null,null,{"$f":"Anchor!H236","v":37.618200000000002},{"$f":"Anchor!I236","v":36.965400000000002},{"$f":"Anchor!J236","v":37.271900000000002},null,{"$f":"Test!H236","v":37.9009},{"$f":"Test!I236","v":37.2164},{"$f":"Test!J236","v":37.548200000000001}]
["RGB, mixed content, 1440p","Basketball_Screen_2560x1440_60p_8b444",22,{"$f":"Anchor!B237","v":12623.691199999999},{"$f":"Anchor!C237","v":45.827100000000002},{"$f":"Anchor!D237","v":45.089700000000001},{"$f":"Anchor!E237","v":45.200099999999999},{"$f":"Anchor!F237","v":56291.35},{"$f":"Anchor!G237","v":40.020000000000003},15.636486111111111,null,{"$f":"Test!B237","v":12623.8208},{"$f":"Test!C237","v":45.873399999999997},{"$f":"Test!D237","v":45.140799999999999},{"$f":"Test!E237","v":45.226900000000001},{"$f":"Test!F237","v":57823.43},{"$f":"Test!G237","v":42.14},16.06206388888889,null,{"$f":"bdrate(D31:D34,E31:E34,L31:L34,M31:M34)","v":-1.7000933033164745E-2},{"$f":"bdrate(D31:D34,F31:F34,L31:L34,N31:N34)","v":-1.7127077779518718E-2},{"$f":"bdrate(D31:D34,G31:G34,L31:L34,O31:O34)","v":-1.4467189295906069E-2},{"$f":"bdrateOld(D31:D34,E31:E34,L31:L34,M31:M34)","v":-1.7015156603418347E-2},{"$f":"bdrateOld(D31:D34,F31:F34,L31:L34,N31:N34)","v":-1.7071961752324616E-2},{"$f":"bdrateOld(D31:D34,G31:G34,L31:L34,O31:O34)","v":-1.4420597506952681E-2},null,{"$f":"Anchor!H237","v":45.8232},{"$f":"Anchor!I237","v":45.077800000000003},{"$f":"Anchor!J237","v":45.192900000000002},null,{"$f":"Test!H237","v":45.869399999999999},{"$f":"Test!I237","v":45.128700000000002},{"$f":"Test!J237","v":45.2196}]
[null,null,27,{"$f":"Anchor!B238","v":5383.1535999999996},{"$f":"Anchor!C238","v":42.411499999999997},{"$f":"Anchor!D238","v":41.608499999999999},{"$f":"Anchor!E238","v":41.682200000000002},{"$f":"Anchor!F238","v":45478.06},{"$f":"Anchor!G238","v":36.479999999999997},12.632794444444444,null,{"$f":"Test!B238","v":5378.9664000000002},{"$f":"Test!C238","v":42.472499999999997},{"$f":"Test!D238","v":41.690300000000001},{"$f":"Test!E238","v":41.759300000000003},{"$f":"Test!F238","v":45904.22},{"$f":"Test!G238","v":38.74},12.751172222222223,null,null,null,null,null,null,null,null,{"$f":"Anchor!H238","v":42.407899999999998},{"$f":"Anchor!I238","v":41.600900000000003},{"$f":"Anchor!J238","v":41.675400000000003},null,{"$f":"Test!H238","v":42.468699999999998},{"$f":"Test!I238","v":41.682400000000001},{"$f":"Test!J238","v":41.752200000000002}]
[null,null,32,{"$f":"Anchor!B239","v":2589.9407999999999},{"$f":"Anchor!C239","v":38.8566},{"$f":"Anchor!D239","v":38.218499999999999},{"$f":"Anchor!E239","v":38.218600000000002},{"$f":"Anchor!F239","v":38456.32},{"$f":"Anchor!G239","v":34.43},10.682311111111112,null,{"$f":"Test!B239","v":2594.9376000000002},{"$f":"Test!C239","v":38.970700000000001},{"$f":"Test!D239","v":38.301699999999997},{"$f":"Test!E239","v":38.293799999999997},{"$f":"Test!F239","v":39456.6},{"$f":"Test!G239","v":36.72},10.960166666666666,null,null,null,null,null,null,null,null,{"$f":"Anchor!H239","v":38.853400000000001},{"$f":"Anchor!I239","v":38.2134},{"$f":"Anchor!J239","v":38.212699999999998},null,{"$f":"Test!H239","v":38.967199999999998},{"$f":"Test!I239","v":38.296300000000002},{"$f":"Test!J239","v":38.287599999999998}]
[null,null,37,{"$f":"Anchor!B240","v":1378.2272},{"$f":"Anchor!C240","v":35.203200000000002},{"$f":"Anchor!D240","v":34.6066},{"$f":"Anchor!E240","v":34.573399999999999},{"$f":"Anchor!F240","v":33940.230000000003},{"$f":"Anchor!G240","v":33.049999999999997},9.4278416666666676,null,{"$f":"Test!B240","v":1377.3776},{"$f":"Test!C240","v":35.331299999999999},{"$f":"Test!D240","v":34.747100000000003},{"$f":"Test!E240","v":34.678899999999999},{"$f":"Test!F240","v":34398.019999999997},{"$f":"Test!G240","v":35.200000000000003},9.5550055555555549,null,null,null,null,null,null,null,null,{"$f":"Anchor!H240","v":35.2012},{"$f":"Anchor!I240","v":34.604100000000003},{"$f":"Anchor!J240","v":34.5702},null,{"$f":"Test!H240","v":35.3292},{"$f":"Test!I240","v":34.744500000000002},{"$f":"Test!J240","v":34.6755}]
[null,"MissionControlClip2_2560x1440_60p_8b444",22,{"$f":"Anchor!B241","v":11987.417600000001},{"$f":"Anchor!C241","v":44.995399999999997},{"$f":"Anchor!D241","v":44.637300000000003},{"$f":"Anchor!E241","v":44.660800000000002},{"$f":"Anchor!F241","v":78465.240000000005},{"$f":"Anchor!G241","v":41.31},21.795900000000003,null,{"$f":"Test!B241","v":11967.758400000001},{"$f":"Test!C241","v":45.012900000000002},{"$f":"Test!D241","v":44.661499999999997},{"$f":"Test!E241","v":44.678600000000003},{"$f":"Test!F241","v":79282.91},{"$f":"Test!G241","v":43.42},22.023030555555557,null,{"$f":"bdrate(D35:D38,E35:E38,L35:L38,M35:M38)","v":-8.0789210744535156E-3},{"$f":"bdrate(D35:D38,F35:F38,L35:L38,N35:N38)","v":-9.3607395169250651E-3},{"$f":"bdrate(D35:D38,G35:G38,L35:L38,O35:O38)","v":-6.3076828981595279E-3},{"$f":"bdrateOld(D35:D38,E35:E38,L35:L38,M35:M38)","v":-8.07914457275416E-3},{"$f":"bdrateOld(D35:D38,F35:F38,L35:L38,N35:N38)","v":-9.3635520431895047E-3},{"$f":"bdrateOld(D35:D38,G35:G38,L35:L38,O35:O38)","v":-6.3045091197170278E-3},null,{"$f":"Anchor!H241","v":44.876600000000003},{"$f":"Anchor!I241","v":44.5304},{"$f":"Anchor!J241","v":44.540999999999997},null,{"$f":"Test!H241","v":44.882300000000001},{"$f":"Test!I241","v":44.545000000000002},{"$f":"Test!J241","v":44.548699999999997}]
[null,null,27,{"$f":"Anchor!B242","v":6863.4687999999996},{"$f":"Anchor!C242","v":41.6798},{"$f":"Anchor!D242","v":41.421399999999998},{"$f":"Anchor!E242","v":41.343200000000003},{"$f":"Anchor!F242","v":67421.39},{"$f":"Anchor!G242","v":39.19},18.72816388888889,null,{"$f":"Test!B242","v":6865.5631999999996},{"$f":"Test!C242","v":41.7149},{"$f":"Test!D242","v":41.469799999999999},{"$f":"Test!E242","v":41.366799999999998},{"$f":"Test!F242","v":68404.070000000007},{"$f":"Test!G242","v":41.32},19.001130555555559,null,null,null,null,null,null,null,null,{"$f":"Anchor!H242","v":41.529600000000002},{"$f":"Anchor!I242","v":41.3078},{"$f":"Anchor!J242","v":41.194899999999997},null,{"$f":"Test!H242","v":41.555599999999998},{"$f":"Test!I242","v":41.3429},{"$f":"Test!J242","v":41.210299999999997}]
[null,null,32,{"$f":"Anchor!B243","v":3709.0544},{"$f":"Anchor!C243","v":38.317100000000003},{"$f":"Anchor!D243","v":38.129899999999999},{"$f":"Anchor!E243","v":37.949800000000003},{"$f":"Anchor!F243","v":55920.81},{"$f":"Anchor!G243","v":29.79},15.533558333333332,null,{"$f":"Test!B243","v":3710.4047999999998},{"$f":"Test!C243","v":38.369},{"$f":"Test!D243","v":38.1845},{"$f":"Test!E243","v":37.986600000000003},{"$f":"Test!F243","v":57176.05},{"$f":"Test!G243","v":39.1},15.882236111111112,null,null,null,null,null,null,null,null,{"$f":"Anchor!H243","v":38.129100000000001},{"$f":"Anchor!I243","v":37.987299999999998},{"$f":"Anchor!J243","v":37.768900000000002},null,{"$f":"Test!H243","v":38.168199999999999},{"$f":"Test!I243","v":38.0289},{"$f":"Test!J243","v":37.7973}]
[null,null,37,{"$f":"Anchor!B244","v":1974.3616},{"$f":"Anchor!C244","v":35.098199999999999},{"$f":"Anchor!D244","v":34.896900000000002},{"$f":"Anchor!E244","v":34.642200000000003},{"$f":"Anchor!F244","v":47604.11},{"$f":"Anchor!G244","v":34.92},13.223363888888889,null,{"$f":"Test!B244","v":1971.0032000000001},{"$f":"Test!C244","v":35.162700000000001},{"$f":"Test!D244","v":34.958300000000001},{"$f":"Test!E244","v":34.712299999999999},{"$f":"Test!F244","v":47447.3},{"$f":"Test!G244","v":36.92},13.179805555555557,null,null,null,null,null,null,null,null,{"$f":"Anchor!H244","v":34.928800000000003},{"$f":"Anchor!I244","v":34.7712},{"$f":"Anchor!J244","v":34.484200000000001},null,{"$f":"Test!H244","v":34.984900000000003},{"$f":"Test!I244","v":34.824199999999998},{"$f":"Test!J244","v":34.547400000000003}]
["RGB, mixed content, 1080p","MissionControlClip3_1920x1080_60p_8b444",22,{"$f":"Anchor!B245","v":3999.6232},{"$f":"Anchor!C245","v":46.377699999999997},{"$f":"Anchor!D245","v":45.907299999999999},{"$f":"Anchor!E245","v":45.937800000000003},{"$f":"Anchor!F245","v":65287.67},{"$f":"Anchor!G245","v":44.91},18.135463888888889,null,{"$f":"Test!B245","v":3995.2464},{"$f":"Test!C245","v":46.494799999999998},{"$f":"Test!D245","v":45.983699999999999},{"$f":"Test!E245","v":46.002899999999997},{"$f":"Test!F245","v":65356.03},{"$f":"Test!G245","v":47.32},18.154452777777777,null,{"$f":"bdrate(D39:D42,E39:E42,L39:L42,M39:M42)","v":-1.8398743996022926E-2},{"$f":"bdrate(D39:D42,F39:F42,L39:L42,N39:N42)","v":-2.063970859030162E-2},{"$f":"bdrate(D39:D42,G39:G42,L39:L42,O39:O42)","v":-1.805141510088637E-2},{"$f":"bdrateOld(D39:D42,E39:E42,L39:L42,M39:M42)","v":-1.8515678956734116E-2},{"$f":"bdrateOld(D39:D42,F39:F42,L39:L42,N39:N42)","v":-2.0615973655039754E-2},{"$f":"bdrateOld(D39:D42,G39:G42,L39:L42,O39:O42)","v":-1.8154967228831143E-2},null,{"$f":"Anchor!H245","v":46.099699999999999},{"$f":"Anchor!I245","v":45.680500000000002},{"$f":"Anchor!J245","v":45.692799999999998},null,{"$f":"Test!H245","v":46.193199999999997},{"$f":"Test!I245","v":45.744100000000003},{"$f":"Test!J245","v":45.747599999999998}]
[null,null,27,{"$f":"Anchor!B246","v":2168.9119999999998},{"$f":"Anchor!C246","v":42.796999999999997},{"$f":"Anchor!D246","v":42.3307},{"$f":"Anchor!E246","v":42.263599999999997},{"$f":"Anchor!F246","v":55009.19},{"$f":"Anchor!G246","v":42.42},15.280330555555556,null,{"$f":"Test!B246","v":2167.7271999999998},{"$f":"Test!C246","v":42.875700000000002},{"$f":"Test!D246","v":42.4452},{"$f":"Test!E246","v":42.325699999999998},{"$f":"Test!F246","v":55304.88},{"$f":"Test!G246","v":44.73},15.362466666666666,null,null,null,null,null,null,null,null,{"$f":"Anchor!H246","v":42.503},{"$f":"Anchor!I246","v":42.121200000000002},{"$f":"Anchor!J246","v":42.027299999999997},null,{"$f":"Test!H246","v":42.568399999999997},{"$f":"Test!I246","v":42.224499999999999},{"$f":"Test!J246","v":42.085299999999997}]
[null,null,32,{"$f":"Anchor!B247","v":1190.424},{"$f":"Anchor!C247","v":38.860900000000001},{"$f":"Anchor!D247","v":38.5869},{"$f":"Anchor!E247","v":38.374299999999998},{"$f":"Anchor!F247","v":46072.08},{"$f":"Anchor!G247","v":39.97},12.797800000000001,null,{"$f":"Test!B247","v":1186.1984},{"$f":"Test!C247","v":38.982799999999997},{"$f":"Test!D247","v":38.706899999999997},{"$f":"Test!E247","v":38.525100000000002},{"$f":"Test!F247","v":47290.44},{"$f":"Test!G247","v":42.43},13.136233333333333,null,null,null,null,null,null,null,null,{"$f":"Anchor!H247","v":38.601199999999999},{"$f":"Anchor!I247","v":38.404000000000003},{"$f":"Anchor!J247","v":38.164200000000001},null,{"$f":"Test!H247","v":38.706400000000002},{"$f":"Test!I247","v":38.5124},{"$f":"Test!J247","v":38.296500000000002}]
[null,null,37,{"$f":"Anchor!B248","v":677.22320000000002},{"$f":"Anchor!C248","v":34.799900000000001},{"$f":"Anchor!D248","v":34.651499999999999},{"$f":"Anchor!E248","v":34.454900000000002},{"$f":"Anchor!F248","v":40732.47},{"$f":"Anchor!G248","v":38.04},11.314575,null,{"$f":"Test!B248","v":674.85519999999997},{"$f":"Test!C248","v":34.938400000000001},{"$f":"Test!D248","v":34.822899999999997},{"$f":"Test!E248","v":34.585999999999999},{"$f":"Test!F248","v":41025.53},{"$f":"Test!G248","v":40.549999999999997},11.395980555555555,null,null,null,null,null,null,null,null,{"$f":"Anchor!H248","v":34.6342},{"$f":"Anchor!I248","v":34.542000000000002},{"$f":"Anchor!J248","v":34.297600000000003},null,{"$f":"Test!H248","v":34.760399999999997},{"$f":"Test!I248","v":34.698900000000002},{"$f":"Test!J248","v":34.423400000000001}]
["RGB, Animation, 720p","sc_robot_1280x720_30_8bit_300",22,{"$f":"Anchor!B249","v":12202.748},{"$f":"Anchor!C249","v":40.188899999999997},{"$f":"Anchor!D249","v":40.668199999999999},{"$f":"Anchor!E249","v":40.082099999999997},{"$f":"Anchor!F249","v":60945.63},{"$f":"Anchor!G249","v":27},16.929341666666666,null,{"$f":"Test!B249","v":12202.2176},{"$f":"Test!C249","v":40.1892},{"$f":"Test!D249","v":40.669800000000002},{"$f":"Test!E249","v":40.084800000000001},{"$f":"Test!F249","v":62783.29},{"$f":"Test!G249","v":27.55},17.439802777777778,null,{"$f":"bdrate(D43:D46,E43:E46,L43:L46,M43:M46)","v":6.1420854393134938E-4},{"$f":"bdrate(D43:D46,F43:F46,L43:L46,N43:N46)","v":3.2504499597663106E-4},{"$f":"bdrate(D43:D46,G43:G46,L43:L46,O43:O46)","v":1.1576234777241901E-3},{"$f":"bdrateOld(D43:D46,E43:E46,L43:L46,M43:M46)","v":5.568128161561603E-4},{"$f":"bdrateOld(D43:D46,F43:F46,L43:L46,N43:N46)","v":4.4176716169097574E-4},{"$f":"bdrateOld(D43:D46,G43:G46,L43:L46,O43:O46)","v":1.3257253671912217E-3},null,{"$f":"Anchor!H249","v":40.1374},{"$f":"Anchor!I249","v":40.6233},{"$f":"Anchor!J249","v":40.024000000000001},null,{"$f":"Test!H249","v":40.137700000000002},{"$f":"Test!I249","v":40.625},{"$f":"Test!J249","v":40.026600000000002}]
[null,null,27,{"$f":"Anchor!B250","v":4467.8455999999996},{"$f":"Anchor!C250","v":36.503599999999999},{"$f":"Anchor!D250","v":37.1706},{"$f":"Anchor!E250","v":36.304099999999998},{"$f":"Anchor!F250","v":42556.55},{"$f":"Anchor!G250","v":19.96},11.82126388888889,null,{"$f":"Test!B250","v":4472.5904},{"$f":"Test!C250","v":36.506799999999998},{"$f":"Test!D250","v":37.173200000000001},{"$f":"Test!E250","v":36.304299999999998},{"$f":"Test!F250","v":42065.67},{"$f":"Test!G250","v":20.63},11.684908333333333,null,null,null,null,null,null,null,null,{"$f":"Anchor!H250","v":36.468600000000002},{"$f":"Anchor!I250","v":37.138399999999997},{"$f":"Anchor!J250","v":36.262599999999999},null,{"$f":"Test!H250","v":36.472000000000001},{"$f":"Test!I250","v":37.140900000000002},{"$f":"Test!J250","v":36.262599999999999}]
[null,null,32,{"$f":"Anchor!B251","v":1540.6232},{"$f":"Anchor!C251","v":33.639400000000002},{"$f":"Anchor!D251","v":34.384599999999999},{"$f":"Anchor!E251","v":33.327399999999997},{"$f":"Anchor!F251","v":29741.9},{"$f":"Anchor!G251","v":15.28},8.2616388888888892,null,{"$f":"Test!B251","v":1543.3463999999999},{"$f":"Test!C251","v":33.640099999999997},{"$f":"Test!D251","v":34.389099999999999},{"$f":"Test!E251","v":33.3294},{"$f":"Test!F251","v":29576.49},{"$f":"Test!G251","v":16.03},8.2156916666666664,null,null,null,null,null,null,null,null,{"$f":"Anchor!H251","v":33.618099999999998},{"$f":"Anchor!I251","v":34.3596},{"$f":"Anchor!J251","v":33.301600000000001},null,{"$f":"Test!H251","v":33.619},{"$f":"Test!I251","v":34.363999999999997},{"$f":"Test!J251","v":33.303699999999999}]
[null,null,37,{"$f":"Anchor!B252","v":578.54399999999998},{"$f":"Anchor!C252","v":31.417200000000001},{"$f":"Anchor!D252","v":32.172600000000003},{"$f":"Anchor!E252","v":31.006799999999998},{"$f":"Anchor!F252","v":22450.28},{"$f":"Anchor!G252","v":12.49},6.236188888888889,null,{"$f":"Test!B252","v":579.21759999999995},{"$f":"Test!C252","v":31.415299999999998},{"$f":"Test!D252","v":32.167200000000001},{"$f":"Test!E252","v":30.996700000000001},{"$f":"Test!F252","v":23043.83},{"$f":"Test!G252","v":13.09},6.4010638888888893,null,null,null,null,null,null,null,null,{"$f":"Anchor!H252","v":31.403400000000001},{"$f":"Anchor!I252","v":32.155099999999997},{"$f":"Anchor!J252","v":30.992000000000001},null,{"$f":"Test!H252","v":31.401199999999999},{"$f":"Test!I252","v":32.149700000000003},{"$f":"Test!J252","v":30.9819}]
["RGB, camera captured, 1080p","EBURainFruits_1920x1080_50_10bit_444",22,{"$f":"Anchor!B253","v":29079.1296},{"$f":"Anchor!C253","v":41.946399999999997},{"$f":"Anchor!D253","v":40.049700000000001},{"$f":"Anchor!E253","v":42.516500000000001},{"$f":"Anchor!F253","v":99594.18},{"$f":"Anchor!G253","v":53.91},27.665049999999997,null,{"$f":"Test!B253","v":29083.430400000001},{"$f":"Test!C253","v":41.945900000000002},{"$f":"Test!D253","v":40.049199999999999},{"$f":"Test!E253","v":42.5154},{"$f":"Test!F253","v":101058.16},{"$f":"Test!G253","v":54.87},28.071711111111114,null,{"$f":"bdrate(D47:D50,E47:E50,L47:L50,M47:M50)","v":5.5180104079699532E-4},{"$f":"bdrate(D47:D50,F47:F50,L47:L50,N47:N50)","v":1.3541376304626596E-4},{"$f":"bdrate(D47:D50,G47:G50,L47:L50,O47:O50)","v":-3.7000477864923553E-4},{"$f":"bdrateOld(D47:D50,E47:E50,L47:L50,M47:M50)","v":5.7060870099001626E-4},{"$f":"bdrateOld(D47:D50,F47:F50,L47:L50,N47:N50)","v":1.3851833402900304E-4},{"$f":"bdrateOld(D47:D50,G47:G50,L47:L50,O47:O50)","v":-3.7120313318583786E-4},null,{"$f":"Anchor!H253","v":41.912799999999997},{"$f":"Anchor!I253","v":39.992899999999999},{"$f":"Anchor!J253","v":42.474800000000002},null,{"$f":"Test!H253","v":41.912300000000002},{"$f":"Test!I253","v":39.9923},{"$f":"Test!J253","v":42.473700000000001}]
[null,null,27,{"$f":"Anchor!B254","v":10884.734399999999},{"$f":"Anchor!C254","v":39.000799999999998},{"$f":"Anchor!D254","v":37.458399999999997},{"$f":"Anchor!E254","v":39.433},{"$f":"Anchor!F254","v":63940.61},{"$f":"Anchor!G254","v":37.83},17.761280555555555,null,{"$f":"Test!B254","v":10885.996800000001},{"$f":"Test!C254","v":38.997999999999998},{"$f":"Test!D254","v":37.457799999999999},{"$f":"Test!E254","v":39.436399999999999},{"$f":"Test!F254","v":64686.42},{"$f":"Test!G254","v":38.799999999999997},17.968450000000001,null,null,null,null,null,null,null,null,{"$f":"Anchor!H254","v":38.954799999999999},{"$f":"Anchor!I254","v":37.406700000000001},{"$f":"Anchor!J254","v":39.377299999999998},null,{"$f":"Test!H254","v":38.951900000000002},{"$f":"Test!I254","v":37.406300000000002},{"$f":"Test!J254","v":39.380600000000001}]
[null,null,32,{"$f":"Anchor!B255","v":4703.6736000000001},{"$f":"Anchor!C255","v":36.169699999999999},{"$f":"Anchor!D255","v":34.994999999999997},{"$f":"Anchor!E255","v":36.566699999999997},{"$f":"Anchor!F255","v":45129.47},{"$f":"Anchor!G255","v":29.52},12.535963888888888,null,{"$f":"Test!B255","v":4700.3872000000001},{"$f":"Test!C255","v":36.167999999999999},{"$f":"Test!D255","v":34.993299999999998},{"$f":"Test!E255","v":36.5657},{"$f":"Test!F255","v":46072.42},{"$f":"Test!G255","v":30.64},12.797894444444443,null,null,null,null,null,null,null,null,{"$f":"Anchor!H255","v":36.123699999999999},{"$f":"Anchor!I255","v":34.953499999999998},{"$f":"Anchor!J255","v":36.519599999999997},null,{"$f":"Test!H255","v":36.122},{"$f":"Test!I255","v":34.951799999999999},{"$f":"Test!J255","v":36.518599999999999}]
[null,null,37,{"$f":"Anchor!B256","v":2161.8768},{"$f":"Anchor!C256","v":33.444099999999999},{"$f":"Anchor!D256","v":32.573399999999999},{"$f":"Anchor!E256","v":33.813400000000001},{"$f":"Anchor!F256","v":35264.75},{"$f":"Anchor!G256","v":24.62},9.7957638888888887,null,{"$f":"Test!B256","v":2161.1615999999999},{"$f":"Test!C256","v":33.436900000000001},{"$f":"Test!D256","v":32.572000000000003},{"$f":"Test!E256","v":33.810099999999998},{"$f":"Test!F256","v":35825.980000000003},{"$f":"Test!G256","v":25.67},9.9516611111111128,null,null,null,null,null,null,null,null,{"$f":"Anchor!H256","v":33.407800000000002},{"$f":"Anchor!I256","v":32.545999999999999},{"$f":"Anchor!J256","v":33.78},null,{"$f":"Test!H256","v":33.400799999999997},{"$f":"Test!I256","v":32.544600000000003},{"$f":"Test!J256","v":33.776600000000002}]
[null,"Kimono1_1920x1080_24_10bit_444",22,{"$f":"Anchor!B257","v":60512.617599999998},{"$f":"Anchor!C257","v":40.531300000000002},{"$f":"Anchor!D257","v":37.340499999999999},{"$f":"Anchor!E257","v":39.252000000000002},{"$f":"Anchor!F257","v":123909.04},{"$f":"Anchor!G257","v":38.479999999999997},34.419177777777776,null,{"$f":"Test!B257","v":60511.748800000001},{"$f":"Test!C257","v":40.531500000000001},{"$f":"Test!D257","v":37.340200000000003},{"$f":"Test!E257","v":39.252200000000002},{"$f":"Test!F257","v":123999.34},{"$f":"Test!G257","v":39.25},34.444261111111111,null,{"$f":"bdrate(D51:D54,E51:E54,L51:L54,M51:M54)","v":-1.5725121804640585E-3},{"$f":"bdrate(D51:D54,F51:F54,L51:L54,N51:N54)","v":2.1758406371663597E-4},{"$f":"bdrate(D51:D54,G51:G54,L51:L54,O51:O54)","v":-6.6960019121031777E-4},{"$f":"bdrateOld(D51:D54,E51:E54,L51:L54,M51:M54)","v":-1.4929399153863487E-3},{"$f":"bdrateOld(D51:D54,F51:F54,L51:L54,N51:N54)","v":4.2928086552207478E-3},{"$f":"bdrateOld(D51:D54,G51:G54,L51:L54,O51:O54)","v":-6.7241101658110924E-4},null,{"$f":"Anchor!H257","v":40.5184},{"$f":"Anchor!I257","v":37.121499999999997},{"$f":"Anchor!J257","v":39.223300000000002},null,{"$f":"Test!H257","v":40.518599999999999},{"$f":"Test!I257","v":37.121000000000002},{"$f":"Test!J257","v":39.223500000000001}]
[null,null,27,{"$f":"Anchor!B258","v":12218.916800000001},{"$f":"Anchor!C258","v":39.076900000000002},{"$f":"Anchor!D258","v":33.0548},{"$f":"Anchor!E258","v":37.6477},{"$f":"Anchor!F258","v":79830.77},{"$f":"Anchor!G258","v":26.49},22.175213888888891,null,{"$f":"Test!B258","v":12221.553599999999},{"$f":"Test!C258","v":39.079300000000003},{"$f":"Test!D258","v":33.053899999999999},{"$f":"Test!E258","v":37.647799999999997},{"$f":"Test!F258","v":80222.87},{"$f":"Test!G258","v":27.12},22.284130555555553,null,null,null,null,null,null,null,null,{"$f":"Anchor!H258","v":39.049900000000001},{"$f":"Anchor!I258","v":32.944499999999998},{"$f":"Anchor!J258","v":37.6173},null,{"$f":"Test!H258","v":39.052399999999999},{"$f":"Test!I258","v":32.9435},{"$f":"Test!J258","v":37.6173}]
[null,null,32,{"$f":"Anchor!B259","v":3388.9983999999999},{"$f":"Anchor!C259","v":37.2121},{"$f":"Anchor!D259","v":31.933299999999999},{"$f":"Anchor!E259","v":35.694400000000002},{"$f":"Anchor!F259","v":52746.86},{"$f":"Anchor!G259","v":19.29},14.651905555555556,null,{"$f":"Test!B259","v":3387.5744},{"$f":"Test!C259","v":37.214700000000001},{"$f":"Test!D259","v":31.934200000000001},{"$f":"Test!E259","v":35.6952},{"$f":"Test!F259","v":52963.32},{"$f":"Test!G259","v":19.920000000000002},14.712033333333332,null,null,null,null,null,null,null,null,{"$f":"Anchor!H259","v":37.1524},{"$f":"Anchor!I259","v":31.918900000000001},{"$f":"Anchor!J259","v":35.621899999999997},null,{"$f":"Test!H259","v":37.155000000000001},{"$f":"Test!I259","v":31.919899999999998},{"$f":"Test!J259","v":35.622700000000002}]
[null,null,37,{"$f":"Anchor!B260","v":1514.1584},{"$f":"Anchor!C260","v":35.037300000000002},{"$f":"Anchor!D260","v":31.0976},{"$f":"Anchor!E260","v":33.609699999999997},{"$f":"Anchor!F260","v":38449.19},{"$f":"Anchor!G260","v":15.48},10.680330555555557,null,{"$f":"Test!B260","v":1510.5424},{"$f":"Test!C260","v":35.031500000000001},{"$f":"Test!D260","v":31.094200000000001},{"$f":"Test!E260","v":33.6098},{"$f":"Test!F260","v":38142.980000000003},{"$f":"Test!G260","v":15.98},10.595272222222222,null,null,null,null,null,null,null,null,{"$f":"Anchor!H260","v":34.9557},{"$f":"Anchor!I260","v":31.079599999999999},{"$f":"Anchor!J260","v":33.525700000000001},null,{"$f":"Test!H260","v":34.949399999999997},{"$f":"Test!I260","v":31.0762},{"$f":"Test!J260","v":33.525300000000001}]
["YUV, text & graphics with motion, 1080p","sc_flyingGraphics_1920x1080_60_8bit_444",22,{"$f":"Anchor!B261","v":38174.4496},{"$f":"Anchor!C261","v":45.057899999999997},{"$f":"Anchor!D261","v":46.776200000000003},{"$f":"Anchor!E261","v":46.883899999999997},{"$f":"Anchor!F261","v":160789.12},{"$f":"Anchor!G261","v":53.91},44.663644444444444,null,{"$f":"Test!B261","v":37903.217600000004},{"$f":"Test!C261","v":45.354199999999999},{"$f":"Test!D261","v":47.443899999999999},{"$f":"Test!E261","v":47.533200000000001},{"$f":"Test!F261","v":161252.87},{"$f":"Test!G261","v":53.74},44.792463888888889,null,{"$f":"bdrate(D55:D58,E55:E58,L55:L58,M55:M58)","v":-2.4466339036952167E-2},{"$f":"bdrate(D55:D58,F55:F58,L55:L58,N55:N58)","v":-7.4868995972037111E-2},{"$f":"bdrate(D55:D58,G55:G58,L55:L58,O55:O58)","v":-7.3837673292400208E-2},{"$f":"bdrateOld(D55:D58,E55:E58,L55:L58,M55:M58)","v":-2.4333638716803163E-2},{"$f":"bdrateOld(D55:D58,F55:F58,L55:L58,N55:N58)","v":-7.4557914589642671E-2},{"$f":"bdrateOld(D55:D58,G55:G58,L55:L58,O55:O58)","v":-7.3739232111293851E-2},null,{"$f":"Anchor!H261","v":44.898400000000002},{"$f":"Anchor!I261","v":46.670299999999997},{"$f":"Anchor!J261","v":46.781599999999997},null,{"$f":"Test!H261","v":45.1708},{"$f":"Test!I261","v":47.322400000000002},{"$f":"Test!J261","v":47.409199999999998}]
[null,null,27,{"$f":"Anchor!B262","v":22477.063999999998},{"$f":"Anchor!C262","v":39.903599999999997},{"$f":"Anchor!D262","v":42.313000000000002},{"$f":"Anchor!E262","v":42.459099999999999},{"$f":"Anchor!F262","v":133605.15},{"$f":"Anchor!G262","v":47.47},37.112541666666665,null,{"$f":"Test!B262","v":22352.52},{"$f":"Test!C262","v":40.108899999999998},{"$f":"Test!D262","v":42.895000000000003},{"$f":"Test!E262","v":43.023099999999999},{"$f":"Test!F262","v":135613.47},{"$f":"Test!G262","v":47.79},37.670408333333334,null,null,null,null,null,null,null,null,{"$f":"Anchor!H262","v":39.680199999999999},{"$f":"Anchor!I262","v":42.190199999999997},{"$f":"Anchor!J262","v":42.345399999999998},null,{"$f":"Test!H262","v":39.863700000000001},{"$f":"Test!I262","v":42.759799999999998},{"$f":"Test!J262","v":42.896000000000001}]
[null,null,32,{"$f":"Anchor!B263","v":13080.1872},{"$f":"Anchor!C263","v":35.570599999999999},{"$f":"Anchor!D263","v":37.845500000000001},{"$f":"Anchor!E263","v":38.180900000000001},{"$f":"Anchor!F263","v":117009.46},{"$f":"Anchor!G263","v":40.909999999999997},32.502627777777782,null,{"$f":"Test!B263","v":13107.2768},{"$f":"Test!C263","v":35.756799999999998},{"$f":"Test!D263","v":38.500100000000003},{"$f":"Test!E263","v":38.7759},{"$f":"Test!F263","v":117090.77},{"$f":"Test!G263","v":41.39},32.525213888888892,null,null,null,null,null,null,null,null,{"$f":"Anchor!H263","v":35.350999999999999},{"$f":"Anchor!I263","v":37.694899999999997},{"$f":"Anchor!J263","v":38.048499999999997},null,{"$f":"Test!H263","v":35.518799999999999},{"$f":"Test!I263","v":38.332000000000001},{"$f":"Test!J263","v":38.634599999999999}]
[null,null,37,{"$f":"Anchor!B264","v":7515.4368000000004},{"$f":"Anchor!C264","v":31.5167},{"$f":"Anchor!D264","v":33.969000000000001},{"$f":"Anchor!E264","v":34.296100000000003},{"$f":"Anchor!F264","v":102919.08},{"$f":"Anchor!G264","v":36.049999999999997},28.588633333333334,null,{"$f":"Test!B264","v":7638.7456000000002},{"$f":"Test!C264","v":31.669699999999999},{"$f":"Test!D264","v":34.520499999999998},{"$f":"Test!E264","v":34.933},{"$f":"Test!F264","v":102378.47},{"$f":"Test!G264","v":36.869999999999997},28.43846388888889,null,null,null,null,null,null,null,null,{"$f":"Anchor!H264","v":31.3292},{"$f":"Anchor!I264","v":33.820500000000003},{"$f":"Anchor!J264","v":34.170400000000001},null,{"$f":"Test!H264","v":31.465499999999999},{"$f":"Test!I264","v":34.366300000000003},{"$f":"Test!J264","v":34.804400000000001}]
[null,"sc_desktop_1920x1080_60_8bit_444",22,{"$f":"Anchor!B265","v":1187.42},{"$f":"Anchor!C265","v":50.501800000000003},{"$f":"Anchor!D265","v":50.384},{"$f":"Anchor!E265","v":50.792000000000002},{"$f":"Anchor!F265","v":41068.79},{"$f":"Anchor!G265","v":36.69},11.407997222222223,null,{"$f":"Test!B265","v":1148.9215999999999},{"$f":"Test!C265","v":52.8429},{"$f":"Test!D265","v":53.113700000000001},{"$f":"Test!E265","v":53.406100000000002},{"$f":"Test!F265","v":40873.42},{"$f":"Test!G265","v":38.78},11.353727777777777,null,{"$f":"bdrate(D59:D62,E59:E62,L59:L62,M59:M62)","v":-3.975163527689507E-2},{"$f":"bdrate(D59:D62,F59:F62,L59:L62,N59:N62)","v":-4.3407531884100736E-2},{"$f":"bdrate(D59:D62,G59:G62,L59:L62,O59:O62)","v":-4.7033618358121698E-2},{"$f":"bdrateOld(D59:D62,E59:E62,L59:L62,M59:M62)","v":-3.9831738820520712E-2},{"$f":"bdrateOld(D59:D62,F59:F62,L59:L62,N59:N62)","v":-4.34558228539067E-2},{"$f":"bdrateOld(D59:D62,G59:G62,L59:L62,O59:O62)","v":-4.6943268711846287E-2},null,{"$f":"Anchor!H265","v":50.473999999999997},{"$f":"Anchor!I265","v":50.356200000000001},{"$f":"Anchor!J265","v":50.749899999999997},null,{"$f":"Test!H265","v":52.791800000000002},{"$f":"Test!I265","v":53.059699999999999},{"$f":"Test!J265","v":53.348199999999999}]
[null,null,27,{"$f":"Anchor!B266","v":1088.8032000000001},{"$f":"Anchor!C266","v":45.741199999999999},{"$f":"Anchor!D266","v":46.028700000000001},{"$f":"Anchor!E266","v":46.241700000000002},{"$f":"Anchor!F266","v":40481.699999999997},{"$f":"Anchor!G266","v":36.67},11.244916666666667,null,{"$f":"Test!B266","v":1069.3399999999999},{"$f":"Test!C266","v":47.542400000000001},{"$f":"Test!D266","v":47.886099999999999},{"$f":"Test!E266","v":48.4099},{"$f":"Test!F266","v":40687.29},{"$f":"Test!G266","v":38.9},11.302025,null,null,null,null,null,null,null,null,{"$f":"Anchor!H266","v":45.703400000000002},{"$f":"Anchor!I266","v":45.9893},{"$f":"Anchor!J266","v":46.189300000000003},null,{"$f":"Test!H266","v":47.449300000000001},{"$f":"Test!I266","v":47.828600000000002},{"$f":"Test!J266","v":48.3294}]
[null,null,32,{"$f":"Anchor!B267","v":982.15200000000004},{"$f":"Anchor!C267","v":40.7622},{"$f":"Anchor!D267","v":41.334499999999998},{"$f":"Anchor!E267","v":41.540599999999998},{"$f":"Anchor!F267","v":39341.69},{"$f":"Anchor!G267","v":36.619999999999997},10.928247222222224,null,{"$f":"Test!B267","v":976.55200000000002},{"$f":"Test!C267","v":42.229300000000002},{"$f":"Test!D267","v":42.861400000000003},{"$f":"Test!E267","v":43.1648},{"$f":"Test!F267","v":38690.83},{"$f":"Test!G267","v":38.92},10.747452777777779,null,null,null,null,null,null,null,null,{"$f":"Anchor!H267","v":40.700899999999997},{"$f":"Anchor!I267","v":41.281199999999998},{"$f":"Anchor!J267","v":41.477800000000002},null,{"$f":"Test!H267","v":42.094299999999997},{"$f":"Test!I267","v":42.785899999999998},{"$f":"Test!J267","v":43.0655}]
[null,null,37,{"$f":"Anchor!B268","v":868.12559999999996},{"$f":"Anchor!C268","v":35.436999999999998},{"$f":"Anchor!D268","v":36.713099999999997},{"$f":"Anchor!E268","v":36.506700000000002},{"$f":"Anchor!F268","v":37453.870000000003},{"$f":"Anchor!G268","v":36.479999999999997},10.403852777777779,null,{"$f":"Test!B268","v":868.90719999999999},{"$f":"Test!C268","v":36.291699999999999},{"$f":"Test!D268","v":37.562800000000003},{"$f":"Test!E268","v":37.86},{"$f":"Test!F268","v":37231.61},{"$f":"Test!G268","v":38.79},10.342113888888889,null,null,null,null,null,null,null,null,{"$f":"Anchor!H268","v":35.393500000000003},{"$f":"Anchor!I268","v":36.657499999999999},{"$f":"Anchor!J268","v":36.4572},null,{"$f":"Test!H268","v":36.217300000000002},{"$f":"Test!I268","v":37.508200000000002},{"$f":"Test!J268","v":37.8003}]
[null,"sc_console_1920x1080_60_8bit_444",22,{"$f":"Anchor!B269","v":5397.6376},{"$f":"Anchor!C269","v":52.096800000000002},{"$f":"Anchor!D269","v":52.958799999999997},{"$f":"Anchor!E269","v":52.747999999999998},{"$f":"Anchor!F269","v":102334.78},{"$f":"Anchor!G269","v":46.2},28.426327777777779,null,{"$f":"Test!B269","v":5361.3392000000003},{"$f":"Test!C269","v":53.175400000000003},{"$f":"Test!D269","v":54.248399999999997},{"$f":"Test!E269","v":53.709299999999999},{"$f":"Test!F269","v":103117.64},{"$f":"Test!G269","v":47.93},28.643788888888889,null,{"$f":"bdrate(D63:D66,E63:E66,L63:L66,M63:M66)","v":-3.6286429055143121E-2},{"$f":"bdrate(D63:D66,F63:F66,L63:L66,N63:N66)","v":-4.7709340926884836E-2},{"$f":"bdrate(D63:D66,G63:G66,L63:L66,O63:O66)","v":-3.6965894592984605E-2},{"$f":"bdrateOld(D63:D66,E63:E66,L63:L66,M63:M66)","v":-3.6162437641336864E-2},{"$f":"bdrateOld(D63:D66,F63:F66,L63:L66,N63:N66)","v":-4.7586131174237489E-2},{"$f":"bdrateOld(D63:D66,G63:G66,L63:L66,O63:O66)","v":-3.6987709603057972E-2},null,{"$f":"Anchor!H269","v":52.054200000000002},{"$f":"Anchor!I269","v":52.912700000000001},{"$f":"Anchor!J269","v":52.693199999999997},null,{"$f":"Test!H269","v":53.116599999999998},{"$f":"Test!I269","v":54.173400000000001},{"$f":"Test!J269","v":53.633099999999999}]
[null,null,27,{"$f":"Anchor!B270","v":4382.8807999999999},{"$f":"Anchor!C270","v":46.8292},{"$f":"Anchor!D270","v":48.339500000000001},{"$f":"Anchor!E270","v":47.6569},{"$f":"Anchor!F270","v":99041.44},{"$f":"Anchor!G270","v":45.93},27.511511111111112,null,{"$f":"Test!B270","v":4361.7695999999996},{"$f":"Test!C270","v":47.6967},{"$f":"Test!D270","v":49.3324},{"$f":"Test!E270","v":48.451500000000003},{"$f":"Test!F270","v":98405.77},{"$f":"Test!G270","v":47.69},27.334936111111112,null,null,null,null,null,null,null,null,{"$f":"Anchor!H270","v":46.730899999999998},{"$f":"Anchor!I270","v":48.264299999999999},{"$f":"Anchor!J270","v":47.541600000000003},null,{"$f":"Test!H270","v":47.568100000000001},{"$f":"Test!I270","v":49.225200000000001},{"$f":"Test!J270","v":48.306699999999999}]
[null,null,32,{"$f":"Anchor!B271","v":3481.9176000000002},{"$f":"Anchor!C271","v":41.2117},{"$f":"Anchor!D271","v":44.003500000000003},{"$f":"Anchor!E271","v":42.967500000000001},{"$f":"Anchor!F271","v":93712.54},{"$f":"Anchor!G271","v":44.82},26.03126111111111,null,{"$f":"Test!B271","v":3471.7456000000002},{"$f":"Test!C271","v":41.875500000000002},{"$f":"Test!D271","v":44.726500000000001},{"$f":"Test!E271","v":43.573500000000003},{"$f":"Test!F271","v":93739.04},{"$f":"Test!G271","v":46.99},26.038622222222219,null,null,null,null,null,null,null,null,{"$f":"Anchor!H271","v":41.048900000000003},{"$f":"Anchor!I271","v":43.880899999999997},{"$f":"Anchor!J271","v":42.815199999999997},null,{"$f":"Test!H271","v":41.672199999999997},{"$f":"Test!I271","v":44.565399999999997},{"$f":"Test!J271","v":43.384700000000002}]
[null,null,37,{"$f":"Anchor!B272","v":2648.3775999999998},{"$f":"Anchor!C272","v":36.150100000000002},{"$f":"Anchor!D272","v":40.011699999999998},{"$f":"Anchor!E272","v":38.122},{"$f":"Anchor!F272","v":83537.679999999993},{"$f":"Anchor!G272","v":43.58},23.204911111111109,null,{"$f":"Test!B272","v":2635.8807999999999},{"$f":"Test!C272","v":36.651499999999999},{"$f":"Test!D272","v":40.511899999999997},{"$f":"Test!E272","v":38.659100000000002},{"$f":"Test!F272","v":85334.78},{"$f":"Test!G272","v":45.73},23.704105555555554,null,null,null,null,null,null,null,null,{"$f":"Anchor!H272","v":36.025500000000001},{"$f":"Anchor!I272","v":39.888199999999998},{"$f":"Anchor!J272","v":37.929400000000001},null,{"$f":"Test!H272","v":36.510899999999999},{"$f":"Test!I272","v":40.364400000000003},{"$f":"Test!J272","v":38.447299999999998}]
["YUV, text & graphics with motion,720p","sc_web_browsing_1280x720_30_8bit_300_444_r1",22,{"$f":"Anchor!B273","v":200.72239999999999},{"$f":"Anchor!C273","v":49.509500000000003},{"$f":"Anchor!D273","v":50.4069},{"$f":"Anchor!E273","v":50.953699999999998},{"$f":"Anchor!F273","v":6472.15},{"$f":"Anchor!G273","v":7.69},1.7978194444444444,null,{"$f":"Test!B273","v":193.42400000000001},{"$f":"Test!C273","v":51.8536},{"$f":"Test!D273","v":53.4191},{"$f":"Test!E273","v":53.454099999999997},{"$f":"Test!F273","v":6534.92},{"$f":"Test!G273","v":8.27},1.8152555555555556,null,{"$f":"bdrate(D67:D70,E67:E70,L67:L70,M67:M70)","v":-9.1573832027243007E-2},{"$f":"bdrate(D67:D70,F67:F70,L67:L70,N67:N70)","v":-0.10265201379707856},{"$f":"bdrate(D67:D70,G67:G70,L67:L70,O67:O70)","v":-0.10703379914795297},{"$f":"bdrateOld(D67:D70,E67:E70,L67:L70,M67:M70)","v":-9.1457068716624734E-2},{"$f":"bdrateOld(D67:D70,F67:F70,L67:L70,N67:N70)","v":-0.10181194748972167},{"$f":"bdrateOld(D67:D70,G67:G70,L67:L70,O67:O70)","v":-0.10679356522099748},null,{"$f":"Anchor!H273","v":49.321199999999997},{"$f":"Anchor!I273","v":50.342700000000001},{"$f":"Anchor!J273","v":50.885800000000003},null,{"$f":"Test!H273","v":51.321300000000001},{"$f":"Test!I273","v":53.189},{"$f":"Test!J273","v":53.219000000000001}]
[null,null,27,{"$f":"Anchor!B274","v":160.03280000000001},{"$f":"Anchor!C274","v":45.241799999999998},{"$f":"Anchor!D274","v":46.215000000000003},{"$f":"Anchor!E274","v":46.7211},{"$f":"Anchor!F274","v":6356},{"$f":"Anchor!G274","v":7.67},1.7655555555555555,null,{"$f":"Test!B274","v":156.31039999999999},{"$f":"Test!C274","v":47.331600000000002},{"$f":"Test!D274","v":48.508299999999998},{"$f":"Test!E274","v":48.720199999999998},{"$f":"Test!F274","v":6417.6},{"$f":"Test!G274","v":8.24},1.7826666666666668,null,null,null,null,null,null,null,null,{"$f":"Anchor!H274","v":45.068800000000003},{"$f":"Anchor!I274","v":46.158099999999997},{"$f":"Anchor!J274","v":46.668799999999997},null,{"$f":"Test!H274","v":46.872},{"$f":"Test!I274","v":48.324800000000003},{"$f":"Test!J274","v":48.554900000000004}]
[null,null,32,{"$f":"Anchor!B275","v":120.384},{"$f":"Anchor!C275","v":41.016300000000001},{"$f":"Anchor!D275","v":41.613599999999998},{"$f":"Anchor!E275","v":41.924599999999998},{"$f":"Anchor!F275","v":6230.31},{"$f":"Anchor!G275","v":7.65},{"$f":"secToHours(H69)","v":1.7306416666666669},null,{"$f":"Test!B275","v":121.0256},{"$f":"Test!C275","v":42.402000000000001},{"$f":"Test!D275","v":42.952800000000003},{"$f":"Test!E275","v":43.643900000000002},{"$f":"Test!F275","v":6285.57},{"$f":"Test!G275","v":8.2200000000000006},{"$f":"secToHours(P69)","v":1.7459916666666666},null,null,null,null,null,null,null,null,{"$f":"Anchor!H275","v":40.852400000000003},{"$f":"Anchor!I275","v":41.561399999999999},{"$f":"Anchor!J275","v":41.880699999999997},null,{"$f":"Test!H275","v":42.102800000000002},{"$f":"Test!I275","v":42.869300000000003},{"$f":"Test!J275","v":43.557000000000002}]
[null,null,37,{"$f":"Anchor!B276","v":89.413600000000002},{"$f":"Anchor!C276","v":36.080800000000004},{"$f":"Anchor!D276","v":36.549100000000003},{"$f":"Anchor!E276","v":36.800800000000002},{"$f":"Anchor!F276","v":6007.9},{"$f":"Anchor!G276","v":7.54},1.6688611111111109,null,{"$f":"Test!B276","v":90.388800000000003},{"$f":"Test!C276","v":36.813899999999997},{"$f":"Test!D276","v":38.407400000000003},{"$f":"Test!E276","v":38.895899999999997},{"$f":"Test!F276","v":6143.96},{"$f":"Test!G276","v":8.19},1.7066555555555556,null,null,null,null,null,null,null,null,{"$f":"Anchor!H276","v":35.966200000000001},{"$f":"Anchor!I276","v":36.521599999999999},{"$f":"Anchor!J276","v":36.762300000000003},null,{"$f":"Test!H276","v":36.651600000000002},{"$f":"Test!I276","v":38.372100000000003},{"$f":"Test!J276","v":38.8658}]
[null,"sc_map_1280x720_60_8bit_444",22,{"$f":"Anchor!B277","v":1602.0103999999999},{"$f":"Anchor!C277","v":46.1325},{"$f":"Anchor!D277","v":48.901600000000002},{"$f":"Anchor!E277","v":50.277500000000003},{"$f":"Anchor!F277","v":25630.23},{"$f":"Anchor!G277","v":17.899999999999999},7.1195083333333331,null,{"$f":"Test!B277","v":1603.9983999999999},{"$f":"Test!C277","v":46.357399999999998},{"$f":"Test!D277","v":49.444099999999999},{"$f":"Test!E277","v":51.002099999999999},{"$f":"Test!F277","v":25833.87},{"$f":"Test!G277","v":19.13},7.176075,null,{"$f":"bdrate(D71:D74,E71:E74,L71:L74,M71:M74)","v":-1.6237165478614757E-2},{"$f":"bdrate(D71:D74,F71:F74,L71:L74,N71:N74)","v":-5.4441686522305077E-2},{"$f":"bdrate(D71:D74,G71:G74,L71:L74,O71:O74)","v":-8.6104983648879196E-2},{"$f":"bdrateOld(D71:D74,E71:E74,L71:L74,M71:M74)","v":-1.6181284084731407E-2},{"$f":"bdrateOld(D71:D74,F71:F74,L71:L74,N71:N74)","v":-5.4466964832743714E-2},{"$f":"bdrateOld(D71:D74,G71:G74,L71:L74,O71:O74)","v":-8.5802288505720581E-2},null,{"$f":"Anchor!H277","v":45.617899999999999},{"$f":"Anchor!I277","v":48.353200000000001},{"$f":"Anchor!J277","v":49.802700000000002},null,{"$f":"Test!H277","v":45.805700000000002},{"$f":"Test!I277","v":48.807000000000002},{"$f":"Test!J277","v":50.453699999999998}]
[null,null,27,{"$f":"Anchor!B278","v":1019.4664},{"$f":"Anchor!C278","v":41.670999999999999},{"$f":"Anchor!D278","v":45.630099999999999},{"$f":"Anchor!E278","v":47.709600000000002},{"$f":"Anchor!F278","v":23141.08},{"$f":"Anchor!G278","v":17.38},6.4280777777777782,null,{"$f":"Test!B278","v":1020.52},{"$f":"Test!C278","v":41.8292},{"$f":"Test!D278","v":46.045299999999997},{"$f":"Test!E278","v":48.1798},{"$f":"Test!F278","v":23270.67},{"$f":"Test!G278","v":18.68},6.4640749999999993,null,null,null,null,null,null,null,null,{"$f":"Anchor!H278","v":41.109000000000002},{"$f":"Anchor!I278","v":45.051400000000001},{"$f":"Anchor!J278","v":47.298699999999997},null,{"$f":"Test!H278","v":41.232300000000002},{"$f":"Test!I278","v":45.372199999999999},{"$f":"Test!J278","v":47.6907}]
[null,null,32,{"$f":"Anchor!B279","v":617.36559999999997},{"$f":"Anchor!C279","v":37.298000000000002},{"$f":"Anchor!D279","v":42.032499999999999},{"$f":"Anchor!E279","v":45.028300000000002},{"$f":"Anchor!F279","v":20418.75},{"$f":"Anchor!G279","v":16.809999999999999},5.671875,null,{"$f":"Test!B279","v":618.28880000000004},{"$f":"Test!C279","v":37.441800000000001},{"$f":"Test!D279","v":42.417900000000003},{"$f":"Test!E279","v":45.534100000000002},{"$f":"Test!F279","v":20481.14},{"$f":"Test!G279","v":18.04},5.6892055555555556,null,null,null,null,null,null,null,null,{"$f":"Anchor!H279","v":36.679699999999997},{"$f":"Anchor!I279","v":41.514600000000002},{"$f":"Anchor!J279","v":44.734900000000003},null,{"$f":"Test!H279","v":36.785299999999999},{"$f":"Test!I279","v":41.785899999999998},{"$f":"Test!J279","v":45.172199999999997}]
[null,null,37,{"$f":"Anchor!B280","v":368.2944},{"$f":"Anchor!C280","v":33.6081},{"$f":"Anchor!D280","v":38.312800000000003},{"$f":"Anchor!E280","v":41.392000000000003},{"$f":"Anchor!F280","v":17657.71},{"$f":"Anchor!G280","v":16.22},4.9049194444444444,null,{"$f":"Test!B280","v":368.64960000000002},{"$f":"Test!C280","v":33.700299999999999},{"$f":"Test!D280","v":38.723799999999997},{"$f":"Test!E280","v":42.214799999999997},{"$f":"Test!F280","v":18070.740000000002},{"$f":"Test!G280","v":17.649999999999999},5.0196500000000004,null,null,null,null,null,null,null,null,{"$f":"Anchor!H280","v":33.069800000000001},{"$f":"Anchor!I280","v":37.9223},{"$f":"Anchor!J280","v":41.29},null,{"$f":"Test!H280","v":33.130800000000001},{"$f":"Test!I280","v":38.229599999999998},{"$f":"Test!J280","v":42.033099999999997}]
[null,"sc_programming_1280x720_60_8bit_444",22,{"$f":"Anchor!B281","v":6521.4960000000001},{"$f":"Anchor!C281","v":47.104999999999997},{"$f":"Anchor!D281","v":46.629800000000003},{"$f":"Anchor!E281","v":47.112299999999998},{"$f":"Anchor!F281","v":57572.08},{"$f":"Anchor!G281","v":24.47},15.992244444444445,null,{"$f":"Test!B281","v":6543.0824000000002},{"$f":"Test!C281","v":47.144799999999996},{"$f":"Test!D281","v":46.708199999999998},{"$f":"Test!E281","v":47.243200000000002},{"$f":"Test!F281","v":57774.12},{"$f":"Test!G281","v":25.5},16.048366666666666,null,{"$f":"bdrate(D75:D78,E75:E78,L75:L78,M75:M78)","v":-1.4400178395039487E-2},{"$f":"bdrate(D75:D78,F75:F78,L75:L78,N75:N78)","v":-2.1499217036455187E-2},{"$f":"bdrate(D75:D78,G75:G78,L75:L78,O75:O78)","v":-2.9625232358733822E-2},{"$f":"bdrateOld(D75:D78,E75:E78,L75:L78,M75:M78)","v":-1.4474364274671969E-2},{"$f":"bdrateOld(D75:D78,F75:F78,L75:L78,N75:N78)","v":-2.0988320102233837E-2},{"$f":"bdrateOld(D75:D78,G75:G78,L75:L78,O75:O78)","v":-2.8899904961392275E-2},null,{"$f":"Anchor!H281","v":47.0383},{"$f":"Anchor!I281","v":46.5565},{"$f":"Anchor!J281","v":47.043799999999997},null,{"$f":"Test!H281","v":47.074599999999997},{"$f":"Test!I281","v":46.6295},{"$f":"Test!J281","v":47.170200000000001}]
[null,null,27,{"$f":"Anchor!B282","v":3573.5248000000001},{"$f":"Anchor!C282","v":42.807600000000001},{"$f":"Anchor!D282","v":42.4116},{"$f":"Anchor!E282","v":43.271599999999999},{"$f":"Anchor!F282","v":49536.76},{"$f":"Anchor!G282","v":22.21},13.760211111111111,null,{"$f":"Test!B282","v":3595.6352000000002},{"$f":"Test!C282","v":42.916200000000003},{"$f":"Test!D282","v":42.507100000000001},{"$f":"Test!E282","v":43.386499999999998},{"$f":"Test!F282","v":49718.15},{"$f":"Test!G282","v":23.46},13.810597222222222,null,null,null,null,null,null,null,null,{"$f":"Anchor!H282","v":42.698300000000003},{"$f":"Anchor!I282","v":42.303899999999999},{"$f":"Anchor!J282","v":43.192599999999999},null,{"$f":"Test!H282","v":42.797800000000002},{"$f":"Test!I282","v":42.388599999999997},{"$f":"Test!J282","v":43.2971}]
[null,null,32,{"$f":"Anchor!B283","v":1674.7472},{"$f":"Anchor!C283","v":38.305799999999998},{"$f":"Anchor!D283","v":38.3735},{"$f":"Anchor!E283","v":39.625},{"$f":"Anchor!F283","v":41232.58},{"$f":"Anchor!G283","v":20.5},11.453494444444445,null,{"$f":"Test!B283","v":1684.896},{"$f":"Test!C283","v":38.458500000000001},{"$f":"Test!D283","v":38.568199999999997},{"$f":"Test!E283","v":39.850099999999998},{"$f":"Test!F283","v":41197.129999999997},{"$f":"Test!G283","v":21.73},11.443647222222221,null,null,null,null,null,null,null,null,{"$f":"Anchor!H283","v":38.178400000000003},{"$f":"Anchor!I283","v":38.225200000000001},{"$f":"Anchor!J283","v":39.535699999999999},null,{"$f":"Test!H283","v":38.318800000000003},{"$f":"Test!I283","v":38.397500000000001},{"$f":"Test!J283","v":39.741300000000003}]
[null,null,37,{"$f":"Anchor!B284","v":749.37919999999997},{"$f":"Anchor!C284","v":34.016800000000003},{"$f":"Anchor!D284","v":35.353000000000002},{"$f":"Anchor!E284","v":36.9056},{"$f":"Anchor!F284","v":34263.050000000003},{"$f":"Anchor!G284","v":18.63},9.5175138888888888,null,{"$f":"Test!B284","v":748.68719999999996},{"$f":"Test!C284","v":34.103099999999998},{"$f":"Test!D284","v":35.491199999999999},{"$f":"Test!E284","v":37.060600000000001},{"$f":"Test!F284","v":34489.919999999998},{"$f":"Test!G284","v":19.87},9.5805333333333333,null,null,null,null,null,null,null,null,{"$f":"Anchor!H284","v":33.924900000000001},{"$f":"Anchor!I284","v":35.181800000000003},{"$f":"Anchor!J284","v":36.811100000000003},null,{"$f":"Test!H284","v":34.009799999999998},{"$f":"Test!I284","v":35.308199999999999},{"$f":"Test!J284","v":36.954999999999998}]
[null,"sc_SlideShow_1280x720_20_8bit_500_444",22,{"$f":"Anchor!B285","v":616.23969999999997},{"$f":"Anchor!C285","v":49.179099999999998},{"$f":"Anchor!D285","v":54.184100000000001},{"$f":"Anchor!E285","v":55.429600000000001},{"$f":"Anchor!F285","v":36001.78},{"$f":"Anchor!G285","v":16.91},10.000494444444444,null,{"$f":"Test!B285","v":615.0752},{"$f":"Test!C285","v":49.222499999999997},{"$f":"Test!D285","v":54.313400000000001},{"$f":"Test!E285","v":55.564300000000003},{"$f":"Test!F285","v":36318.75},{"$f":"Test!G285","v":17.93},10.088541666666666,null,{"$f":"bdrate(D79:D82,E79:E82,L79:L82,M79:M82)","v":-4.4565155959073177E-3},{"$f":"bdrate(D79:D82,F79:F82,L79:L82,N79:N82)","v":-2.4665721489862014E-2},{"$f":"bdrate(D79:D82,G79:G82,L79:L82,O79:O82)","v":-4.3204170291258448E-2},{"$f":"bdrateOld(D79:D82,E79:E82,L79:L82,M79:M82)","v":-4.4021550280299859E-3},{"$f":"bdrateOld(D79:D82,F79:F82,L79:L82,N79:N82)","v":-2.4613123210915133E-2},{"$f":"bdrateOld(D79:D82,G79:G82,L79:L82,O79:O82)","v":-4.3007351657778026E-2},null,{"$f":"Anchor!H285","v":48.247199999999999},{"$f":"Anchor!I285","v":52.795900000000003},{"$f":"Anchor!J285","v":53.854599999999998},null,{"$f":"Test!H285","v":48.269799999999996},{"$f":"Test!I285","v":52.863799999999998},{"$f":"Test!J285","v":53.936300000000003}]
[null,null,27,{"$f":"Anchor!B286","v":353.20159999999998},{"$f":"Anchor!C286","v":45.430599999999998},{"$f":"Anchor!D286","v":51.194499999999998},{"$f":"Anchor!E286","v":52.610300000000002},{"$f":"Anchor!F286","v":32331.78},{"$f":"Anchor!G286","v":16.13},8.9810499999999998,null,{"$f":"Test!B286","v":353.91359999999997},{"$f":"Test!C286","v":45.500999999999998},{"$f":"Test!D286","v":51.3598},{"$f":"Test!E286","v":52.848599999999998},{"$f":"Test!F286","v":32495},{"$f":"Test!G286","v":17.12},9.0263888888888886,null,null,null,null,null,null,null,null,{"$f":"Anchor!H286","v":44.531300000000002},{"$f":"Anchor!I286","v":49.724200000000003},{"$f":"Anchor!J286","v":51.019300000000001},null,{"$f":"Test!H286","v":44.588799999999999},{"$f":"Test!I286","v":49.820999999999998},{"$f":"Test!J286","v":51.156500000000001}]
[null,null,32,{"$f":"Anchor!B287","v":206.12700000000001},{"$f":"Anchor!C287","v":41.628999999999998},{"$f":"Anchor!D287","v":48.239199999999997},{"$f":"Anchor!E287","v":49.8232},{"$f":"Anchor!F287","v":28418.94},{"$f":"Anchor!G287","v":15.4},7.8941499999999998,null,{"$f":"Test!B287","v":207.0394},{"$f":"Test!C287","v":41.647599999999997},{"$f":"Test!D287","v":48.379300000000001},{"$f":"Test!E287","v":50.039000000000001},{"$f":"Test!F287","v":28450.03},{"$f":"Test!G287","v":16.43},7.9027861111111104,null,null,null,null,null,null,null,null,{"$f":"Anchor!H287","v":40.746200000000002},{"$f":"Anchor!I287","v":46.72},{"$f":"Anchor!J287","v":48.221299999999999},null,{"$f":"Test!H287","v":40.754300000000001},{"$f":"Test!I287","v":46.830399999999997},{"$f":"Test!J287","v":48.425199999999997}]
[null,null,37,{"$f":"Anchor!B288","v":127.18429999999999},{"$f":"Anchor!C288","v":37.737699999999997},{"$f":"Anchor!D288","v":45.144599999999997},{"$f":"Anchor!E288","v":46.741100000000003},{"$f":"Anchor!F288","v":25503.22},{"$f":"Anchor!G288","v":14.67},7.0842277777777785,null,{"$f":"Test!B288","v":127.3734},{"$f":"Test!C288","v":37.827199999999998},{"$f":"Test!D288","v":45.358499999999999},{"$f":"Test!E288","v":47.357799999999997},{"$f":"Test!F288","v":25692.67},{"$f":"Test!G288","v":15.71},7.1368527777777775,null,null,null,null,null,null,null,null,{"$f":"Anchor!H288","v":36.9495},{"$f":"Anchor!I288","v":43.619599999999998},{"$f":"Anchor!J288","v":45.416200000000003},null,{"$f":"Test!H288","v":37.037999999999997},{"$f":"Test!I288","v":43.791699999999999},{"$f":"Test!J288","v":45.8063}]
["YUV, mixed content, 1440p","Basketball_Screen_2560x1440_60p_8b444",22,{"$f":"Anchor!B289","v":5280.6863999999996},{"$f":"Anchor!C289","v":45.919600000000003},{"$f":"Anchor!D289","v":49.608600000000003},{"$f":"Anchor!E289","v":49.590400000000002},{"$f":"Anchor!F289","v":47310.79},{"$f":"Anchor!G289","v":36.03},13.141886111111111,null,{"$f":"Test!B289","v":5283.8864000000003},{"$f":"Test!C289","v":45.989800000000002},{"$f":"Test!D289","v":49.713000000000001},{"$f":"Test!E289","v":49.714599999999997},{"$f":"Test!F289","v":46887.19},{"$f":"Test!G289","v":38.200000000000003},13.024219444444444,null,{"$f":"bdrate(D83:D86,E83:E86,L83:L86,M83:M86)","v":-6.6900694456071275E-3},{"$f":"bdrate(D83:D86,F83:F86,L83:L86,N83:N86)","v":-4.6173075231176974E-2},{"$f":"bdrate(D83:D86,G83:G86,L83:L86,O83:O86)","v":-4.0333775467443989E-2},{"$f":"bdrateOld(D83:D86,E83:E86,L83:L86,M83:M86)","v":-6.8601819826482613E-3},{"$f":"bdrateOld(D83:D86,F83:F86,L83:L86,N83:N86)","v":-4.6430856947066945E-2},{"$f":"bdrateOld(D83:D86,G83:G86,L83:L86,O83:O86)","v":-4.0589271690915973E-2},null,{"$f":"Anchor!H289","v":45.9163},{"$f":"Anchor!I289","v":49.605699999999999},{"$f":"Anchor!J289","v":49.587000000000003},null,{"$f":"Test!H289","v":45.9863},{"$f":"Test!I289","v":49.709899999999998},{"$f":"Test!J289","v":49.710900000000002}]
[null,null,27,{"$f":"Anchor!B290","v":2513.8208},{"$f":"Anchor!C290","v":42.499000000000002},{"$f":"Anchor!D290","v":46.220300000000002},{"$f":"Anchor!E290","v":46.204300000000003},{"$f":"Anchor!F290","v":40287.18},{"$f":"Anchor!G290","v":34.21},11.190883333333334,null,{"$f":"Test!B290","v":2515.5871999999999},{"$f":"Test!C290","v":42.52},{"$f":"Test!D290","v":46.442},{"$f":"Test!E290","v":46.399099999999997},{"$f":"Test!F290","v":40102.39},{"$f":"Test!G290","v":36.26},11.139552777777778,null,null,null,null,null,null,null,null,{"$f":"Anchor!H290","v":42.494900000000001},{"$f":"Anchor!I290","v":46.218499999999999},{"$f":"Anchor!J290","v":46.201099999999997},null,{"$f":"Test!H290","v":42.515900000000002},{"$f":"Test!I290","v":46.439900000000002},{"$f":"Test!J290","v":46.395699999999998}]
[null,null,32,{"$f":"Anchor!B291","v":1309.3424},{"$f":"Anchor!C291","v":38.807699999999997},{"$f":"Anchor!D291","v":42.637},{"$f":"Anchor!E291","v":42.5931},{"$f":"Anchor!F291","v":34552.080000000002},{"$f":"Anchor!G291","v":32.9},9.5978000000000012,null,{"$f":"Test!B291","v":1313.36},{"$f":"Test!C291","v":38.890599999999999},{"$f":"Test!D291","v":43.028599999999997},{"$f":"Test!E291","v":42.939300000000003},{"$f":"Test!F291","v":34444},{"$f":"Test!G291","v":35},9.5677777777777777,null,null,null,null,null,null,null,null,{"$f":"Anchor!H291","v":38.804000000000002},{"$f":"Anchor!I291","v":42.636099999999999},{"$f":"Anchor!J291","v":42.591299999999997},null,{"$f":"Test!H291","v":38.886600000000001},{"$f":"Test!I291","v":43.0274},{"$f":"Test!J291","v":42.937100000000001}]
[null,null,37,{"$f":"Anchor!B292","v":743.39679999999998},{"$f":"Anchor!C292","v":34.992600000000003},{"$f":"Anchor!D292","v":38.964799999999997},{"$f":"Anchor!E292","v":38.929000000000002},{"$f":"Anchor!F292","v":30262.89},{"$f":"Anchor!G292","v":31.67},8.4063583333333334,null,{"$f":"Test!B292","v":747.93280000000004},{"$f":"Test!C292","v":35.015000000000001},{"$f":"Test!D292","v":39.205399999999997},{"$f":"Test!E292","v":39.094700000000003},{"$f":"Test!F292","v":30910.54},{"$f":"Test!G292","v":33.9},8.5862611111111118,null,null,null,null,null,null,null,null,{"$f":"Anchor!H292","v":34.990200000000002},{"$f":"Anchor!I292","v":38.964399999999998},{"$f":"Anchor!J292","v":38.928100000000001},null,{"$f":"Test!H292","v":35.012500000000003},{"$f":"Test!I292","v":39.204900000000002},{"$f":"Test!J292","v":39.093600000000002}]
[null,"MissionControlClip2_2560x1440_60p_8b444",22,{"$f":"Anchor!B293","v":6712.4928},{"$f":"Anchor!C293","v":45.023800000000001},{"$f":"Anchor!D293","v":49.971400000000003},{"$f":"Anchor!E293","v":50.869500000000002},{"$f":"Anchor!F293","v":63269},{"$f":"Anchor!G293","v":38.33},17.574722222222221,null,{"$f":"Test!B293","v":6728.7791999999999},{"$f":"Test!C293","v":45.041600000000003},{"$f":"Test!D293","v":50.008400000000002},{"$f":"Test!E293","v":50.901499999999999},{"$f":"Test!F293","v":64814.2},{"$f":"Test!G293","v":40.369999999999997},18.003944444444443,null,{"$f":"bdrate(D87:D90,E87:E90,L87:L90,M87:M90)","v":-8.2576534766501952E-3},{"$f":"bdrate(D87:D90,F87:F90,L87:L90,N87:N90)","v":-2.8140760661140241E-2},{"$f":"bdrate(D87:D90,G87:G90,L87:L90,O87:O90)","v":-2.2439507183374507E-2},{"$f":"bdrateOld(D87:D90,E87:E90,L87:L90,M87:M90)","v":-8.2795886159552357E-3},{"$f":"bdrateOld(D87:D90,F87:F90,L87:L90,N87:N90)","v":-2.8129580063877446E-2},{"$f":"bdrateOld(D87:D90,G87:G90,L87:L90,O87:O90)","v":-2.2405613989632034E-2},null,{"$f":"Anchor!H293","v":44.899299999999997},{"$f":"Anchor!I293","v":49.874899999999997},{"$f":"Anchor!J293","v":50.7682},null,{"$f":"Test!H293","v":44.9086},{"$f":"Test!I293","v":49.907800000000002},{"$f":"Test!J293","v":50.805199999999999}]
[null,null,27,{"$f":"Anchor!B294","v":3693.192},{"$f":"Anchor!C294","v":41.585099999999997},{"$f":"Anchor!D294","v":47.110300000000002},{"$f":"Anchor!E294","v":47.893000000000001},{"$f":"Anchor!F294","v":57225.35},{"$f":"Anchor!G294","v":36.51},15.895930555555555,null,{"$f":"Test!B294","v":3690.2559999999999},{"$f":"Test!C294","v":41.624200000000002},{"$f":"Test!D294","v":47.194899999999997},{"$f":"Test!E294","v":47.960599999999999},{"$f":"Test!F294","v":57413.91},{"$f":"Test!G294","v":38.700000000000003},15.948308333333335,null,null,null,null,null,null,null,null,{"$f":"Anchor!H294","v":41.432200000000002},{"$f":"Anchor!I294","v":46.930799999999998},{"$f":"Anchor!J294","v":47.7286},null,{"$f":"Test!H294","v":41.457500000000003},{"$f":"Test!I294","v":47.021700000000003},{"$f":"Test!J294","v":47.802999999999997}]
[null,null,32,{"$f":"Anchor!B295","v":1951.0383999999999},{"$f":"Anchor!C295","v":38.220999999999997},{"$f":"Anchor!D295","v":44.143700000000003},{"$f":"Anchor!E295","v":44.918900000000001},{"$f":"Anchor!F295","v":48384.78},{"$f":"Anchor!G295","v":34.869999999999997},13.440216666666666,null,{"$f":"Test!B295","v":1948.0288},{"$f":"Test!C295","v":38.269100000000002},{"$f":"Test!D295","v":44.305399999999999},{"$f":"Test!E295","v":45.058199999999999},{"$f":"Test!F295","v":49732.47},{"$f":"Test!G295","v":36.99},13.814575,null,null,null,null,null,null,null,null,{"$f":"Anchor!H295","v":38.032299999999999},{"$f":"Anchor!I295","v":43.900500000000001},{"$f":"Anchor!J295","v":44.679400000000001},null,{"$f":"Test!H295","v":38.066200000000002},{"$f":"Test!I295","v":44.098399999999998},{"$f":"Test!J295","v":44.871299999999998}]
[null,null,37,{"$f":"Anchor!B296","v":1039.5136},{"$f":"Anchor!C296","v":34.755000000000003},{"$f":"Anchor!D296","v":41.156199999999998},{"$f":"Anchor!E296","v":42.117899999999999},{"$f":"Anchor!F296","v":41800.199999999997},{"$f":"Anchor!G296","v":33.17},11.611166666666666,null,{"$f":"Test!B296","v":1037.8016},{"$f":"Test!C296","v":34.803199999999997},{"$f":"Test!D296","v":41.418999999999997},{"$f":"Test!E296","v":42.278799999999997},{"$f":"Test!F296","v":42559.02},{"$f":"Test!G296","v":35.35},11.821949999999999,null,null,null,null,null,null,null,null,{"$f":"Anchor!H296","v":34.6004},{"$f":"Anchor!I296","v":40.805399999999999},{"$f":"Anchor!J296","v":41.715699999999998},null,{"$f":"Test!H296","v":34.636899999999997},{"$f":"Test!I296","v":41.175899999999999},{"$f":"Test!J296","v":42.0017}]
["YUV, mixed content, 1080p","MissionControlClip3_1920x1080_60p_8b444",22,{"$f":"Anchor!B297","v":2135.2903999999999},{"$f":"Anchor!C297","v":46.401499999999999},{"$f":"Anchor!D297","v":49.354799999999997},{"$f":"Anchor!E297","v":49.664200000000001},{"$f":"Anchor!F297","v":54192.09},{"$f":"Anchor!G297","v":42.16},15.053358333333332,null,{"$f":"Test!B297","v":2132.7015999999999},{"$f":"Test!C297","v":46.484099999999998},{"$f":"Test!D297","v":49.561799999999998},{"$f":"Test!E297","v":49.848999999999997},{"$f":"Test!F297","v":55398.28},{"$f":"Test!G297","v":44.42},15.388411111111111,null,{"$f":"bdrate(D91:D94,E91:E94,L91:L94,M91:M94)","v":-9.7265636481778106E-3},{"$f":"bdrate(D91:D94,F91:F94,L91:L94,N91:N94)","v":-3.6672427270578511E-2},{"$f":"bdrate(D91:D94,G91:G94,L91:L94,O91:O94)","v":-2.8227908723441497E-2},{"$f":"bdrateOld(D91:D94,E91:E94,L91:L94,M91:M94)","v":-9.6692864189025229E-3},{"$f":"bdrateOld(D91:D94,F91:F94,L91:L94,N91:N94)","v":-3.6663712689201322E-2},{"$f":"bdrateOld(D91:D94,G91:G94,L91:L94,O91:O94)","v":-2.8198404497548513E-2},null,{"$f":"Anchor!H297","v":46.106900000000003},{"$f":"Anchor!I297","v":49.231999999999999},{"$f":"Anchor!J297","v":49.566000000000003},null,{"$f":"Test!H297","v":46.1753},{"$f":"Test!I297","v":49.441800000000001},{"$f":"Test!J297","v":49.760100000000001}]
[null,null,27,{"$f":"Anchor!B298","v":1180.0096000000001},{"$f":"Anchor!C298","v":42.600900000000003},{"$f":"Anchor!D298","v":45.652999999999999},{"$f":"Anchor!E298","v":46.098399999999998},{"$f":"Anchor!F298","v":45915.25},{"$f":"Anchor!G298","v":39.86},12.754236111111112,null,{"$f":"Test!B298","v":1176.8607999999999},{"$f":"Test!C298","v":42.692999999999998},{"$f":"Test!D298","v":45.8461},{"$f":"Test!E298","v":46.230800000000002},{"$f":"Test!F298","v":46786.79},{"$f":"Test!G298","v":42.3},12.996330555555556,null,null,null,null,null,null,null,null,{"$f":"Anchor!H298","v":42.314300000000003},{"$f":"Anchor!I298","v":45.530900000000003},{"$f":"Anchor!J298","v":45.98},null,{"$f":"Test!H298","v":42.397599999999997},{"$f":"Test!I298","v":45.746299999999998},{"$f":"Test!J298","v":46.117699999999999}]
[null,null,32,{"$f":"Anchor!B299","v":663.86720000000003},{"$f":"Anchor!C299","v":38.634300000000003},{"$f":"Anchor!D299","v":41.881799999999998},{"$f":"Anchor!E299","v":42.491300000000003},{"$f":"Anchor!F299","v":41091.18},{"$f":"Anchor!G299","v":37.979999999999997},11.414216666666666,null,{"$f":"Test!B299","v":665.00080000000003},{"$f":"Test!C299","v":38.691600000000001},{"$f":"Test!D299","v":42.155099999999997},{"$f":"Test!E299","v":42.690600000000003},{"$f":"Test!F299","v":41938.31},{"$f":"Test!G299","v":40.44},11.649530555555556,null,null,null,null,null,null,null,null,{"$f":"Anchor!H299","v":38.3949},{"$f":"Anchor!I299","v":41.735700000000001},{"$f":"Anchor!J299","v":42.313699999999997},null,{"$f":"Test!H299","v":38.445999999999998},{"$f":"Test!I299","v":42.023499999999999},{"$f":"Test!J299","v":42.522199999999998}]
[null,null,37,{"$f":"Anchor!B300","v":393.03199999999998},{"$f":"Anchor!C300","v":34.420400000000001},{"$f":"Anchor!D300","v":38.235300000000002},{"$f":"Anchor!E300","v":39.064500000000002},{"$f":"Anchor!F300","v":37288.120000000003},{"$f":"Anchor!G300","v":36.51},10.357811111111111,null,{"$f":"Test!B300","v":394.32159999999999},{"$f":"Test!C300","v":34.436399999999999},{"$f":"Test!D300","v":38.607300000000002},{"$f":"Test!E300","v":39.330399999999997},{"$f":"Test!F300","v":35661.03},{"$f":"Test!G300","v":39.04},9.9058416666666655,null,null,null,null,null,null,null,null,{"$f":"Anchor!H300","v":34.261600000000001},{"$f":"Anchor!I300","v":38.002499999999998},{"$f":"Anchor!J300","v":38.7239},null,{"$f":"Test!H300","v":34.281199999999998},{"$f":"Test!I300","v":38.3733},{"$f":"Test!J300","v":39.032699999999998}]
["YUV, Animation, 720p","sc_robot_1280x720_30_8bit_300_444",22,{"$f":"Anchor!B301","v":5395.2191999999995},{"$f":"Anchor!C301","v":40.569299999999998},{"$f":"Anchor!D301","v":44.176099999999998},{"$f":"Anchor!E301","v":43.582299999999996},{"$f":"Anchor!F301","v":42025.52},{"$f":"Anchor!G301","v":21.14},11.673755555555555,null,{"$f":"Test!B301","v":5395.7191999999995},{"$f":"Test!C301","v":40.567300000000003},{"$f":"Test!D301","v":44.184899999999999},{"$f":"Test!E301","v":43.580399999999997},{"$f":"Test!F301","v":41828.550000000003},{"$f":"Test!G301","v":21.73},11.619041666666668,null,{"$f":"bdrate(D95:D98,E95:E98,L95:L98,M95:M98)","v":1.4929733514539301E-3},{"$f":"bdrate(D95:D98,F95:F98,L95:L98,N95:N98)","v":-2.388680002245458E-3},{"$f":"bdrate(D95:D98,G95:G98,L95:L98,O95:O98)","v":1.98440670481137E-4},{"$f":"bdrateOld(D95:D98,E95:E98,L95:L98,M95:M98)","v":1.6455356386795295E-3},{"$f":"bdrateOld(D95:D98,F95:F98,L95:L98,N95:N98)","v":-2.4673825925451975E-3},{"$f":"bdrateOld(D95:D98,G95:G98,L95:L98,O95:O98)","v":-1.8963649503422886E-4},null,{"$f":"Anchor!H301","v":40.533000000000001},{"$f":"Anchor!I301","v":44.157899999999998},{"$f":"Anchor!J301","v":43.561599999999999},null,{"$f":"Test!H301","v":40.531100000000002},{"$f":"Test!I301","v":44.166600000000003},{"$f":"Test!J301","v":43.559800000000003}]
[null,null,27,{"$f":"Anchor!B302","v":1760.5},{"$f":"Anchor!C302","v":37.130499999999998},{"$f":"Anchor!D302","v":41.678899999999999},{"$f":"Anchor!E302","v":41.04},{"$f":"Anchor!F302","v":30323.47},{"$f":"Anchor!G302","v":15.79},8.4231861111111108,null,{"$f":"Test!B302","v":1760.6568},{"$f":"Test!C302","v":37.129199999999997},{"$f":"Test!D302","v":41.690399999999997},{"$f":"Test!E302","v":41.040599999999998},{"$f":"Test!F302","v":31915.3},{"$f":"Test!G302","v":16.440000000000001},8.8653611111111115,null,null,null,null,null,null,null,null,{"$f":"Anchor!H302","v":37.102400000000003},{"$f":"Anchor!I302","v":41.664000000000001},{"$f":"Anchor!J302","v":41.024799999999999},null,{"$f":"Test!H302","v":37.101199999999999},{"$f":"Test!I302","v":41.675800000000002},{"$f":"Test!J302","v":41.025599999999997}]
[null,null,32,{"$f":"Anchor!B303","v":609.88959999999997},{"$f":"Anchor!C303","v":34.494399999999999},{"$f":"Anchor!D303","v":39.761499999999998},{"$f":"Anchor!E303","v":39.251800000000003},{"$f":"Anchor!F303","v":23828.400000000001},{"$f":"Anchor!G303","v":12.72},6.6190000000000007,null,{"$f":"Test!B303","v":611.8184},{"$f":"Test!C303","v":34.499600000000001},{"$f":"Test!D303","v":39.771299999999997},{"$f":"Test!E303","v":39.253},{"$f":"Test!F303","v":23191.26},{"$f":"Test!G303","v":13.33},6.4420166666666665,null,null,null,null,null,null,null,null,{"$f":"Anchor!H303","v":34.473100000000002},{"$f":"Anchor!I303","v":39.750100000000003},{"$f":"Anchor!J303","v":39.238100000000003},null,{"$f":"Test!H303","v":34.478700000000003},{"$f":"Test!I303","v":39.759700000000002},{"$f":"Test!J303","v":39.238700000000001}]
[null,null,37,{"$f":"Anchor!B304","v":242.27440000000001},{"$f":"Anchor!C304","v":32.2331},{"$f":"Anchor!D304","v":37.905799999999999},{"$f":"Anchor!E304","v":37.661700000000003},{"$f":"Anchor!F304","v":19037.169999999998},{"$f":"Anchor!G304","v":10.88},5.2881027777777776,null,{"$f":"Test!B304","v":243.81440000000001},{"$f":"Test!C304","v":32.228200000000001},{"$f":"Test!D304","v":37.896299999999997},{"$f":"Test!E304","v":37.682299999999998},{"$f":"Test!F304","v":19479.330000000002},{"$f":"Test!G304","v":11.46},5.4109250000000007,null,null,null,null,null,null,null,null,{"$f":"Anchor!H304","v":32.217500000000001},{"$f":"Anchor!I304","v":37.894599999999997},{"$f":"Anchor!J304","v":37.6462},null,{"$f":"Test!H304","v":32.212600000000002},{"$f":"Test!I304","v":37.886899999999997},{"$f":"Test!J304","v":37.667099999999998}]
["YUV, camera captured, 1080p","EBURainFruits_1920x1080_50_10bit_444",22,{"$f":"Anchor!B305","v":12562.784},{"$f":"Anchor!C305","v":41.875500000000002},{"$f":"Anchor!D305","v":46.071199999999997},{"$f":"Anchor!E305","v":47.408799999999999},{"$f":"Anchor!F305","v":56511.05},{"$f":"Anchor!G305","v":40.369999999999997},15.69751388888889,null,{"$f":"Test!B305","v":12565.409600000001},{"$f":"Test!C305","v":41.875999999999998},{"$f":"Test!D305","v":46.071399999999997},{"$f":"Test!E305","v":47.404600000000002},{"$f":"Test!F305","v":56754.55},{"$f":"Test!G305","v":41.32},15.765152777777779,null,{"$f":"bdrate(D99:D102,E99:E102,L99:L102,M99:M102)","v":4.7718526414608498E-4},{"$f":"bdrate(D99:D102,F99:F102,L99:L102,N99:N102)","v":1.6929301734815994E-3},{"$f":"bdrate(D99:D102,G99:G102,L99:L102,O99:O102)","v":-4.0235290924250933E-4},{"$f":"bdrateOld(D99:D102,E99:E102,L99:L102,M99:M102)","v":5.0645374839763946E-4},{"$f":"bdrateOld(D99:D102,F99:F102,L99:L102,N99:N102)","v":1.7721389859954861E-3},{"$f":"bdrateOld(D99:D102,G99:G102,L99:L102,O99:O102)","v":-4.940764978539347E-4},null,{"$f":"Anchor!H305","v":41.829599999999999},{"$f":"Anchor!I305","v":46.065100000000001},{"$f":"Anchor!J305","v":47.402099999999997},null,{"$f":"Test!H305","v":41.830199999999998},{"$f":"Test!I305","v":46.065300000000001},{"$f":"Test!J305","v":47.398099999999999}]
[null,null,27,{"$f":"Anchor!B306","v":5381.0159999999996},{"$f":"Anchor!C306","v":38.6783},{"$f":"Anchor!D306","v":44.5944},{"$f":"Anchor!E306","v":45.656999999999996},{"$f":"Anchor!F306","v":42539.59},{"$f":"Anchor!G306","v":30.84},11.816552777777776,null,{"$f":"Test!B306","v":5382.5263999999997},{"$f":"Test!C306","v":38.676000000000002},{"$f":"Test!D306","v":44.598100000000002},{"$f":"Test!E306","v":45.651600000000002},{"$f":"Test!F306","v":42231.6},{"$f":"Test!G306","v":32},11.731,null,null,null,null,null,null,null,null,{"$f":"Anchor!H306","v":38.610599999999998},{"$f":"Anchor!I306","v":44.589199999999998},{"$f":"Anchor!J306","v":45.649900000000002},null,{"$f":"Test!H306","v":38.608499999999999},{"$f":"Test!I306","v":44.5929},{"$f":"Test!J306","v":45.6447}]
[null,null,32,{"$f":"Anchor!B307","v":2517.0288},{"$f":"Anchor!C307","v":35.679600000000001},{"$f":"Anchor!D307","v":42.934899999999999},{"$f":"Anchor!E307","v":43.662999999999997},{"$f":"Anchor!F307","v":33431.699999999997},{"$f":"Anchor!G307","v":25.32},9.2865833333333327,null,{"$f":"Test!B307","v":2516.84},{"$f":"Test!C307","v":35.680700000000002},{"$f":"Test!D307","v":42.927799999999998},{"$f":"Test!E307","v":43.6693},{"$f":"Test!F307","v":33958.82},{"$f":"Test!G307","v":26.46},9.433005555555555,null,null,null,null,null,null,null,null,{"$f":"Anchor!H307","v":35.611800000000002},{"$f":"Anchor!I307","v":42.929600000000001},{"$f":"Anchor!J307","v":43.655099999999997},null,{"$f":"Test!H307","v":35.612900000000003},{"$f":"Test!I307","v":42.922800000000002},{"$f":"Test!J307","v":43.661200000000001}]
[null,null,37,{"$f":"Anchor!B308","v":1211.6559999999999},{"$f":"Anchor!C308","v":32.823300000000003},{"$f":"Anchor!D308","v":41.216099999999997},{"$f":"Anchor!E308","v":41.499299999999998},{"$f":"Anchor!F308","v":28986.080000000002},{"$f":"Anchor!G308","v":21.85},8.05168888888889,null,{"$f":"Test!B308","v":1212.5039999999999},{"$f":"Test!C308","v":32.817700000000002},{"$f":"Test!D308","v":41.198599999999999},{"$f":"Test!E308","v":41.515500000000003},{"$f":"Test!F308","v":30166.25},{"$f":"Test!G308","v":22.91},8.3795138888888889,null,null,null,null,null,null,null,null,{"$f":"Anchor!H308","v":32.775700000000001},{"$f":"Anchor!I308","v":41.208300000000001},{"$f":"Anchor!J308","v":41.488},null,{"$f":"Test!H308","v":32.770099999999999},{"$f":"Test!I308","v":41.189599999999999},{"$f":"Test!J308","v":41.503500000000003}]
[null,"Kimono1_1920x1080_24_10bit_444",22,{"$f":"Anchor!B309","v":14621.7984},{"$f":"Anchor!C309","v":42.084400000000002},{"$f":"Anchor!D309","v":38.4619},{"$f":"Anchor!E309","v":42.267400000000002},{"$f":"Anchor!F309","v":63456.25},{"$f":"Anchor!G309","v":28.23},17.626736111111111,null,{"$f":"Test!B309","v":14612.1376},{"$f":"Test!C309","v":42.083599999999997},{"$f":"Test!D309","v":38.461399999999998},{"$f":"Test!E309","v":42.267699999999998},{"$f":"Test!F309","v":64016.18},{"$f":"Test!G309","v":28.8},17.782272222222222,null,{"$f":"bdrate(D103:D106,E103:E106,L103:L106,M103:M106)","v":6.2310045603308772E-4},{"$f":"bdrate(D103:D106,F103:F106,L103:L106,N103:N106)","v":-1.1433091857060429E-4},{"$f":"bdrate(D103:D106,G103:G106,L103:L106,O103:O106)","v":-1.2651236885482531E-3},{"$f":"bdrateOld(D103:D106,E103:E106,L103:L106,M103:M106)","v":5.9760634088834585E-4},{"$f":"bdrateOld(D103:D106,F103:F106,L103:L106,N103:N106)","v":-2.9833259061640138E-4},{"$f":"bdrateOld(D103:D106,G103:G106,L103:L106,O103:O106)","v":-1.2104911663654017E-3},null,{"$f":"Anchor!H309","v":42.069299999999998},{"$f":"Anchor!I309","v":38.383099999999999},{"$f":"Anchor!J309","v":42.2607},null,{"$f":"Test!H309","v":42.0685},{"$f":"Test!I309","v":38.3827},{"$f":"Test!J309","v":42.261000000000003}]
[null,null,27,{"$f":"Anchor!B310","v":3964.68},{"$f":"Anchor!C310","v":40.192599999999999},{"$f":"Anchor!D310","v":37.417099999999998},{"$f":"Anchor!E310","v":41.305999999999997},{"$f":"Anchor!F310","v":44056.34},{"$f":"Anchor!G310","v":19.79},12.23787222222222,null,{"$f":"Test!B310","v":3964.2464},{"$f":"Test!C310","v":40.190100000000001},{"$f":"Test!D310","v":37.417299999999997},{"$f":"Test!E310","v":41.305799999999998},{"$f":"Test!F310","v":43315.58},{"$f":"Test!G310","v":20.3},12.032105555555557,null,null,null,null,null,null,null,null,{"$f":"Anchor!H310","v":40.1432},{"$f":"Anchor!I310","v":37.412100000000002},{"$f":"Anchor!J310","v":41.296100000000003},null,{"$f":"Test!H310","v":40.140700000000002},{"$f":"Test!I310","v":37.412399999999998},{"$f":"Test!J310","v":41.295900000000003}]
[null,null,32,{"$f":"Anchor!B311","v":1761.704},{"$f":"Anchor!C311","v":37.561100000000003},{"$f":"Anchor!D311","v":36.9133},{"$f":"Anchor!E311","v":40.284700000000001},{"$f":"Anchor!F311","v":32779.96},{"$f":"Anchor!G311","v":15.73},9.105544444444444,null,{"$f":"Test!B311","v":1762.0160000000001},{"$f":"Test!C311","v":37.560299999999998},{"$f":"Test!D311","v":36.9131},{"$f":"Test!E311","v":40.288600000000002},{"$f":"Test!F311","v":33439.46},{"$f":"Test!G311","v":16.22},9.2887388888888882,null,null,null,null,null,null,null,null,{"$f":"Anchor!H311","v":37.436500000000002},{"$f":"Anchor!I311","v":36.908499999999997},{"$f":"Anchor!J311","v":40.276499999999999},null,{"$f":"Test!H311","v":37.435200000000002},{"$f":"Test!I311","v":36.908299999999997},{"$f":"Test!J311","v":40.2804}]
[null,null,37,{"$f":"Anchor!B312","v":822.33280000000002},{"$f":"Anchor!C312","v":34.836399999999998},{"$f":"Anchor!D312","v":36.3352},{"$f":"Anchor!E312","v":39.293399999999998},{"$f":"Anchor!F312","v":26278.33},{"$f":"Anchor!G312","v":13.19},7.2995361111111112,null,{"$f":"Test!B312","v":822.78240000000005},{"$f":"Test!C312","v":34.835799999999999},{"$f":"Test!D312","v":36.335599999999999},{"$f":"Test!E312","v":39.295099999999998},{"$f":"Test!F312","v":26568.9},{"$f":"Test!G312","v":13.69},7.3802500000000002,null,null,null,null,null,null,null,null,{"$f":"Anchor!H312","v":34.679299999999998},{"$f":"Anchor!I312","v":36.331000000000003},{"$f":"Anchor!J312","v":39.289200000000001},null,{"$f":"Test!H312","v":34.679200000000002},{"$f":"Test!I312","v":36.331400000000002},{"$f":"Test!J312","v":39.290900000000001}]
[null,{"$f":"$A3","v":"RGB, text & graphics with motion, 1080p"},null,null,null,null,null,null,{"$f":"geometricMean(I3:I14)","v":43.456216584542013},{"$f":"geometricMean(J3:J14)","v":24.195055803749071},null,null,null,null,null,null,{"$f":"geometricMean(Q3:Q14)","v":44.809144292394322},{"$f":"geometricMean(R3:R14)","v":24.207984891888959},null,{"$f":"AVERAGE(T3:T14)","v":-3.8866938129002548E-2},-4.3126091795236188E-2,-4.3323362870828018E-2,-3.8711836659335419E-2,-4.3057190478957029E-2,-4.3239973071966253E-2]
[null,{"$f":"$A15","v":"RGB, text & graphics with motion,720p"},null,null,null,null,null,null,{"$f":"geometricMean(I15:I30)","v":18.29568632832542},{"$f":"geometricMean(J15:J30)","v":6.2725488895604435},null,null,null,null,null,null,{"$f":"geometricMean(Q15:Q30)","v":16.130564994001073},{"$f":"geometricMean(R15:R30)","v":6.3027729166407349},null,{"$f":"AVERAGE(T15:T30)","v":-3.8619005404671031E-2},-3.3678347940360315E-2,-3.6978853472967838E-2,-3.8607889409927904E-2,-3.3623281488774498E-2,-3.6930275672601737E-2]
[null,{"$f":"$A31","v":"RGB, mixed content, 1440p"},null,null,null,null,null,null,{"$f":"geometricMean(I31:I38)","v":35.96267180363602},{"$f":"geometricMean(J31:J38)","v":14.215916885197787},null,null,null,null,null,null,{"$f":"geometricMean(Q31:Q38)","v":39.101958294867217},{"$f":"geometricMean(R31:R38)","v":14.428945471232902},null,{"$f":"AVERAGE(T31:T38)","v":-1.253992705380913E-2},-1.3243908648221892E-2,-1.0387436097032798E-2,-1.2547150588086253E-2,-1.321775689775706E-2,-1.0362553313334855E-2]
[null,{"$f":"$A39","v":"RGB, mixed content, 1080p"},null,null,null,null,null,null,{"$f":"geometricMean(I39:I42)","v":41.254572769675029},{"$f":"geometricMean(J39:J42)","v":14.153333677369849},null,null,null,null,null,null,{"$f":"geometricMean(Q39:Q42)","v":43.684450897530297},{"$f":"geometricMean(R39:R42)","v":14.294424246745905},null,{"$f":"AVERAGE(T39:T42)","v":-1.8398743996022926E-2},-2.063970859030162E-2,-1.805141510088637E-2,-1.8515678956734116E-2,-2.0615973655039754E-2,-1.8154967228831143E-2]
[null,{"$f":"$A43","v":"RGB, Animation, 720p"},null,null,null,null,null,null,{"$f":"geometricMean(I43:I46)","v":17.908224224107855},{"$f":"geometricMean(J43:J46)","v":10.076793595434154},null,null,null,null,null,null,{"$f":"geometricMean(Q43:Q46)","v":18.583328327619931},{"$f":"geometricMean(R43:R46)","v":10.174563655358801},null,{"$f":"AVERAGE(T43:T46)","v":6.1420854393134938E-4},3.2504499597663106E-4,1.1576234777241901E-3,5.568128161561603E-4,4.4176716169097574E-4,1.3257253671912217E-3]
[null,{"$f":"$A47","v":"RGB, camera captured, 1080p"},null,null,null,null,null,null,{"$f":"geometricMean(I47:I54)","v":28.628018227979407},{"$f":"geometricMean(J44:J47)","v":11.393186597326009},null,null,null,null,null,null,{"$f":"geometricMean(Q47:Q54)","v":29.460125753868358},{"$f":"geometricMean(R44:R47)","v":11.460343168936587},null,{"$f":"AVERAGE(T47:T54)","v":-5.1035556983353159E-4},1.7649891338145096E-4,-5.1980248492977665E-4,-4.6116560719816624E-4,2.2156634946248754E-3,-5.2180707488347355E-4]
[null,{"$f":"$A55","v":"YUV, text & graphics with motion, 1080p"},null,null,null,null,null,null,{"$f":"geometricMean(I55:I66)","v":41.758611551885934},{"$f":"geometricMean(J55:J66)","v":21.651298640288442},null,null,null,null,null,null,{"$f":"geometricMean(Q55:Q66)","v":43.333578628894813},{"$f":"geometricMean(R55:R66)","v":21.675923346403426},null,{"$f":"AVERAGE(T55:T66)","v":-3.3501467789663453E-2},-5.532862292767423E-2,-5.2612395414502168E-2,-3.3442605059553578E-2,-5.5199956205928956E-2,-5.2556736808732706E-2]
[null,{"$f":"$A67","v":"YUV, text & graphics with motion,720p"},null,null,null,null,null,null,{"$f":"geometricMean(I67:I82)","v":14.469286601361773},{"$f":"geometricMean(J67:J82)","v":5.7445423683399008},null,null,null,null,null,null,{"$f":"geometricMean(Q67:Q82)","v":15.46296664550718},{"$f":"geometricMean(R67:R82)","v":5.7897368711157595},null,{"$f":"AVERAGE(T67:T82)","v":-3.1666922874201142E-2},-5.0814659711425209E-2,-6.6492046361706109E-2,-3.1628718026014524E-2,-5.0470088908903588E-2,-6.612577758647209E-2]
[null,{"$f":"$A83","v":"YUV, mixed content, 1440p"},null,null,null,null,null,null,{"$f":"geometricMean(I83:I90)","v":34.651829679578555},{"$f":"geometricMean(J83:J90)","v":12.280605407412711},null,null,null,null,null,null,{"$f":"geometricMean(Q83:Q90)","v":36.791737342856912},{"$f":"geometricMean(R83:R90)","v":12.39989323248421},null,{"$f":"AVERAGE(T83:T90)","v":-7.4738614611286613E-3},-3.7156917946158607E-2,-3.1386641325409248E-2,-7.5698852993017485E-3,-3.7280218505472196E-2,-3.1497442840274004E-2]
[null,{"$f":"$A91","v":"YUV, mixed content, 1080p"},null,null,null,null,null,null,{"$f":"geometricMean(I91:I94)","v":39.07069822427033},{"$f":"geometricMean(J91:J94)","v":12.274406098775705},null,null,null,null,null,null,{"$f":"geometricMean(Q91:Q94)","v":41.501134534924333},{"$f":"geometricMean(R91:R94)","v":12.325472696914325},null,{"$f":"AVERAGE(T91:T94)","v":-9.7265636481778106E-3},-3.6672427270578511E-2,-2.8227908723441497E-2,-9.6692864189025229E-3,-3.6663712689201322E-2,-2.8198404497548513E-2]
[null,{"$f":"$A95","v":"YUV, Animation, 720p"},null,null,null,null,null,null,{"$f":"geometricMean(I95:I98)","v":14.660567434400773},{"$f":"geometricMean(J95:J98)","v":7.6594011388428234},null,null,null,null,null,null,{"$f":"geometricMean(Q95:Q98)","v":15.284248027077075},{"$f":"geometricMean(R95:R98)","v":7.7408744643673222},null,{"$f":"AVERAGE(T95:T98)","v":1.4929733514539301E-3},-2.388680002245458E-3,1.98440670481137E-4,1.6455356386795295E-3,-2.4673825925451975E-3,-1.8963649503422886E-4]
[null,{"$f":"$A99","v":"YUV, camera captured, 1080p"},null,null,null,null,null,null,{"$f":"geometricMean(I99:I106)","v":23.055646594575126},{"$f":"geometricMean(J96:J99)","v":8.2480234163970572},null,null,null,null,null,null,{"$f":"geometricMean(Q99:Q106)","v":23.831891088285296},{"$f":"geometricMean(R96:R99)","v":8.354529428075006},null,{"$f":"AVERAGE(T99:T106)","v":5.5014286008958635E-4},7.8929962745549753E-4,-8.337382988953812E-4,5.5203004464299266E-4,7.3690319768954238E-4,-8.5228383210966818E-4]
[null,"All",null,null,null,null,null,null,null,null,null,null,null,null,null,null,null,null,null,{"$f":"AVERAGE(T3:T106)","v":-2.1700579194987139E-2},-3.0445461605773438E-2,-3.2033437318590124E-2,-2.1670950566197077E-2,-3.0213116955472893E-2,-3.1973069217454568E-2]
[null,"Time geomean",null,null,null,null,null,null,{"$f":"geometricMean(I3:I106)","v":26.312924670835994},{"$f":"geometricMean(J3:J106)","v":11.456010569121004},null,null,null,null,null,null,{"$f":"geometricMean(Q3:Q106)","v":26.898147052856345},{"$f":"geometricMean(R3:R106)","v":11.53289244753387}]
[null,"Time sum (hours)",null,null,null,null,null,null,{"$f":"secToHours(macroSum(I3:I106))","v":0.97276111111111108},{"$f":"SUM(J3:J106)","v":1513.606338888889},null,null,null,null,null,null,{"$f":"secToHours(macroSum(Q3:Q106))","v":0.87535555555555522},{"$f":"SUM(R3:R106)","v":1523.4006277777767}]
[]
[]
[null,null,"Time Ratio"]
[null,null,"Decoding","Encoding"]
[null,"RGB, text & graphics with motion, 1080p",{"$f":"Q107/I107","v":1.0311331223513269},{"$f":"R107/J107","v":1.0005343690150896}]
[null,"RGB, text & graphics with motion,720p",0.88165946357681579,1.004818460184598]
[null,"RGB, mixed content, 1440p",1.0872929160650906,1.0149852160613664]
[null,"RGB, mixed content, 1080p",1.0588996071155874,1.009968716388115]
[null,"RGB, Animation, 720p",1.0376979925571437,1.0097024970293078]
[null,"RGB, camera captured, 1080p",1.0290661937987624,1.0058944502520779]
[null,"YUV, text & graphics with motion, 1080p",1.0377159828470817,1.0011373315995542]
[null,"YUV, text & graphics with motion,720p",1.0686751234889416,1.0078673808770113]
[null,"YUV, mixed content, 1440p",1.0617545359961029,1.0097135133907564]
[null,"YUV, mixed content, 1080p",1.0622061140730841,1.0041604129542132]
[null,"YUV, Animation, 720p",1.0425413678881792,1.0106370359833128]
[null,"YUV, camera captured, 1080p",1.0336683029263996,1.0129129133491808]
[null,"All",{"$f":"Q120/I120","v":1.0222408717138534},{"$f":"R120/J120","v":1.006711051630844}]

{"sheet":"Anchor","index":4,"n_rows":312,"n_cols":10,"rows_kept":312,"cut":false,"hidden":false,"merged":[]}
["AI",103060.1808,48.800199999999997,48.324100000000001,48.148000000000003,35414.199999999997,65.08,48.790999999999997,48.317700000000002,48.139299999999999]
[null,81981.934399999998,43.914900000000003,43.493600000000001,43.296500000000002,35469.51,62.12,43.906700000000001,43.487299999999998,43.2896]
[null,63317.804799999998,39.136299999999999,38.889000000000003,38.707999999999998,33766.28,59.45,39.129100000000001,38.882100000000001,38.700899999999997]
[null,46473.0144,34.410899999999998,34.126600000000003,34.0488,32148.99,56.74,34.405299999999997,34.121000000000002,34.041800000000002]
[null,58975.067199999998,51.983600000000003,51.603999999999999,51.123699999999999,54376.56,106.36,51.979399999999998,51.595100000000002,51.118499999999997]
[null,50808.923999999999,46.596800000000002,45.968600000000002,45.427700000000002,58716.54,104.96,46.589500000000001,45.956099999999999,45.419800000000002]
[null,43765.214399999997,41.868699999999997,41.276499999999999,40.8703,56266.37,102.84,41.861800000000002,41.264400000000002,40.858800000000002]
[null,35978.886400000003,36.017299999999999,35.624200000000002,35.44,54174.76,100.39,36.009500000000003,35.6051,35.422699999999999]
[null,48262.088000000003,54.795099999999998,55.258800000000001,54.458500000000001,45093.07,99.3,54.779299999999999,55.2423,54.445799999999998]
[null,41704.535199999998,48.586199999999998,47.8962,47.361600000000003,50389.87,98.88,48.565600000000003,47.878100000000003,47.347299999999997]
[null,35520.005599999997,44.171500000000002,43.978299999999997,43.4724,48799.89,97.13,44.148000000000003,43.953899999999997,43.452100000000002]
[null,29086.156800000001,38.4893,38.219900000000003,38.097900000000003,46076.88,95.98,38.480899999999998,38.2102,38.087600000000002]
[null,11401.436,52.369199999999999,50.902999999999999,50.986499999999999,10700.32,22.85,52.043700000000001,50.685499999999998,50.761699999999998]
[null,8951.3008000000009,46.782800000000002,45.955100000000002,45.744900000000001,11059.59,22.01,46.650300000000001,45.813099999999999,45.6355]
[null,7161.9495999999999,43.041400000000003,41.834200000000003,41.657800000000002,10213.91,21.1,42.917200000000001,41.719200000000001,41.574100000000001]
[null,5378.7168000000001,36.327800000000003,35.709200000000003,35.554200000000002,10399.879999999999,20.190000000000001,36.296799999999998,35.672600000000003,35.523400000000002]
[null,67042.446400000001,47.358600000000003,46.509300000000003,46.778399999999998,34566.5,72.27,46.945900000000002,46.094900000000003,46.377000000000002]
[null,45932.025600000001,42.964300000000001,42.148899999999998,42.5974,31400.45,65.06,42.486400000000003,41.673900000000003,42.174300000000002]
[null,29652.731199999998,38.601900000000001,37.86,38.552599999999998,28621.78,58.15,38.0413,37.323399999999999,38.079799999999999]
[null,18561.821599999999,34.518900000000002,33.936999999999998,34.723599999999998,24347.1,51.83,34.014499999999998,33.400199999999998,34.277200000000001]
[null,61192.281600000002,47.513500000000001,47.046799999999998,46.932000000000002,28800.11,65.23,47.497399999999999,47.006700000000002,46.906100000000002]
[null,44752.967199999999,43.3337,42.499600000000001,42.697099999999999,27280.89,60.12,43.317599999999999,42.475000000000001,42.679499999999997]
[null,31355.0648,39.043599999999998,37.972900000000003,38.314799999999998,25314.13,55.7,39.034799999999997,37.959499999999998,38.3033]
[null,20942.504000000001,34.689,33.616500000000002,33.954999999999998,22942.6,51.05,34.6785,33.604900000000001,33.943399999999997]
[null,7406.5097999999998,51.0702,50.634300000000003,50.755000000000003,14287.05,38.89,49.915799999999997,49.466700000000003,49.639899999999997]
[null,4822.665,47.508299999999998,47.011400000000002,47.166699999999999,12834.4,35.19,46.403199999999998,45.895899999999997,46.117100000000001]
[null,3124.1538999999998,43.963200000000001,43.557099999999998,43.682499999999997,11468.6,32.53,42.927399999999999,42.5015,42.692700000000002]
[null,2008.5539000000001,40.258699999999997,39.888300000000001,40.010599999999997,10696.52,29.68,39.335999999999999,38.934399999999997,39.136299999999999]
[null,207507.39360000001,46.217700000000001,45.652099999999997,45.561199999999999,64311.81,137.11000000000001,46.217599999999997,45.652000000000001,45.561100000000003]
[null,138472.63039999999,42.540199999999999,41.877000000000002,41.884099999999997,62040.22,123.06,42.540199999999999,41.876899999999999,41.884]
[null,94935.339200000002,38.818100000000001,38.2729,38.266199999999998,53999.55,112.57,38.817999999999998,38.272799999999997,38.266100000000002]
[null,64390.447999999997,35.025300000000001,34.508000000000003,34.464300000000001,48215.12,102.88,35.025100000000002,34.507800000000003,34.464199999999998]
[null,161191.13440000001,45.945599999999999,45.356200000000001,45.456600000000002,62048.160000000003,131.97999999999999,45.856299999999997,45.264000000000003,45.363799999999998]
[null,107709.93919999999,42.624000000000002,42.232799999999997,42.189799999999998,52604.28,120.12,42.542499999999997,42.1691,42.1158]
[null,69839.761599999998,39.088700000000003,38.9146,38.759,42427.07,110.21,39.027900000000002,38.874200000000002,38.704300000000003]
[null,44020.710400000004,35.727400000000003,35.592700000000001,35.402999999999999,35767.919999999998,99.56,35.677599999999998,35.568399999999997,35.356200000000001]
[null,106610.1488,46.823500000000003,46.253700000000002,46.285299999999999,66891.92,148.07,46.663499999999999,46.099899999999998,46.1327]
[null,75410.585600000006,43.035200000000003,42.501899999999999,42.4788,63626.34,135.26,42.899099999999997,42.396999999999998,42.362299999999998]
[null,52771.419199999997,38.969000000000001,38.637700000000002,38.4801,55697.279999999999,124.87,38.860500000000002,38.5623,38.389499999999998]
[null,35886.1976,34.863,34.662399999999998,34.463200000000001,49251.57,114.68,34.789299999999997,34.619999999999997,34.398200000000003]
[null,68515.367199999993,42.353400000000001,42.317500000000003,41.883099999999999,27308.240000000002,61.48,42.353299999999997,42.317300000000003,41.882599999999996]
[null,36715.2048,38.180399999999999,38.470399999999998,37.820799999999998,24568.68,49.33,38.180100000000003,38.4694,37.8202]
[null,16854.421600000001,34.718299999999999,35.33,34.459299999999999,19653.240000000002,37.11,34.716999999999999,35.327100000000002,34.458300000000001]
[null,7769.8639999999996,32.168500000000002,32.867600000000003,31.829799999999999,13800.05,29.38,32.166699999999999,32.863700000000001,31.828499999999998]
[null,135801.136,43.508800000000001,41.628799999999998,44.013100000000001,42228.51,85.98,43.508699999999997,41.628799999999998,44.012900000000002]
[null,76278.032000000007,40.532299999999999,38.866300000000003,41.030999999999999,33743.61,73.84,40.5319,38.865900000000003,41.0306]
[null,42635.051200000002,37.471800000000002,36.167200000000001,38.0015,26594.41,64.81,37.470500000000001,36.165700000000001,38.000799999999998]
[null,23373.552,34.476199999999999,33.500500000000002,35.021000000000001,20438.46,56.14,34.473700000000001,33.497,35.019599999999997]
[null,112021.5312,41.437199999999997,40.441699999999997,40.5505,21102.85,43.41,41.436900000000001,40.441699999999997,40.5503]
[null,45165.025600000001,40.176900000000003,35.450000000000003,38.834200000000003,18140.439999999999,33.549999999999997,40.176499999999997,35.449800000000003,38.833799999999997]
[null,13732.193600000001,38.7393,32.688299999999998,37.471400000000003,11428.81,27.44,38.738399999999999,32.6873,37.470799999999997]
[null,7111.7776000000003,36.760199999999998,31.927700000000002,35.546599999999998,7206.57,24.71,36.758600000000001,31.9268,35.545699999999997]
[null,81798.644799999995,48.488700000000001,49.102800000000002,49.225999999999999,32483.66,62.51,48.482500000000002,49.0929,49.216000000000001]
[null,62143.926399999997,43.640300000000003,44.488399999999999,44.607500000000002,33205.300000000003,58.94,43.633699999999997,44.475200000000001,44.594200000000001]
[null,45344.041599999997,38.8065,40.180199999999999,40.335099999999997,31622.560000000001,56.09,38.801000000000002,40.163800000000002,40.323099999999997]
[null,31330.168000000001,34.069699999999997,36.177300000000002,36.3279,28681.91,53.08,34.065199999999997,36.158000000000001,36.314500000000002]
[null,51728.307999999997,49.395600000000002,50.049700000000001,50.484099999999998,51495.55,103.57,49.384599999999999,50.021999999999998,50.457599999999999]
[null,43221.653599999998,44.8596,45.377299999999998,45.7087,52327.46,101.41,44.849400000000003,45.345700000000001,45.680199999999999]
[null,35510.229599999999,39.825499999999998,40.835900000000002,40.987900000000003,50611.03,98.87,39.813400000000001,40.800699999999999,40.957799999999999]
[null,27705.572,34.894500000000001,36.556899999999999,36.319400000000002,47601.26,97,34.880699999999997,36.503,36.276699999999998]
[null,43863.767200000002,51.682200000000002,53.256,53.881300000000003,44396.12,98.47,51.666899999999998,53.248800000000003,53.872500000000002]
[null,35884.454400000002,46.8125,48.847099999999998,48.894100000000002,44367.99,96.51,46.7986,48.840299999999999,48.8872]
[null,28993.496800000001,41.624899999999997,45.132899999999999,44.148899999999998,43168.89,94.79,41.6158,45.1248,44.137500000000003]
[null,21455.163199999999,35.896299999999997,40.938699999999997,39.433500000000002,40954.160000000003,92.01,35.886299999999999,40.930599999999998,39.423099999999998]
[null,9065.1111999999994,49.370600000000003,50.751199999999997,51.499099999999999,10093.200000000001,21.93,49.320700000000002,50.7271,51.470599999999997]
[null,6981.76,45.265300000000003,46.161700000000003,46.594900000000003,10136.39,20.67,45.21,46.1355,46.561599999999999]
[null,5151.4040000000005,40.839199999999998,41.793900000000001,42.106699999999996,9465.2900000000009,20.2,40.798900000000003,41.770800000000001,42.077800000000003]
[null,3480.2608,35.997399999999999,36.503700000000002,36.778700000000001,8415.6299999999992,19.02,35.970399999999998,36.4726,36.7333]
[null,44440.426399999997,46.968000000000004,49.461300000000001,50.758899999999997,26920.42,64.239999999999995,46.572699999999998,48.982999999999997,50.293799999999997]
[null,29738.553599999999,42.494999999999997,46.124299999999998,47.820599999999999,25053.21,57.89,42.035699999999999,45.582799999999999,47.426600000000001]
[null,18890.026399999999,38.061,42.589799999999997,44.888100000000001,21311.119999999999,51.6,37.549700000000001,42.116599999999998,44.632899999999999]
[null,11754.3056,34.300400000000003,38.926400000000001,41.4923,17255.05,45.2,33.862699999999997,38.553400000000003,41.3703]
[null,43134.401599999997,48.0075,47.850499999999997,48.3123,24802.48,60.59,47.977400000000003,47.832000000000001,48.296999999999997]
[null,29511.300800000001,43.796100000000003,43.628700000000002,44.227899999999998,23593.17,55.83,43.764699999999998,43.611400000000003,44.213999999999999]
[null,19448.412799999998,39.270499999999998,39.639299999999999,40.467199999999998,21445.93,50.45,39.246899999999997,39.616199999999999,40.443199999999997]
[null,12819.74,34.915199999999999,36.437399999999997,37.401699999999998,18503.47,46.01,34.894599999999997,36.392800000000001,37.346499999999999]
[null,4661.9337999999998,51.013199999999998,55.555500000000002,56.712499999999999,11832.48,34.159999999999997,49.919699999999999,54.191299999999998,55.178100000000001]
[null,2964.2166000000002,47.482199999999999,52.533999999999999,53.859499999999997,10575.1,30.86,46.448799999999999,51.0411,52.218600000000002]
[null,1904.7302,43.774999999999999,49.576599999999999,51.186900000000001,9555.25,29.32,42.867100000000001,47.985100000000003,49.490099999999998]
[null,1211.6022,39.822200000000002,46.631,48.372599999999998,8822.65,27.29,39.032800000000002,45.075899999999997,46.800899999999999]
[null,135472.77439999999,46.22,49.808599999999998,49.802100000000003,43046.5,123.6,46.22,49.808399999999999,49.801900000000003]
[null,92226.595199999996,42.525100000000002,46.1417,46.146700000000003,40814.43,111.19,42.524999999999999,46.141399999999997,46.146500000000003]
[null,62061.617599999998,38.658299999999997,42.323500000000003,42.335900000000002,36793.26,100.83,38.658200000000001,42.3232,42.335700000000003]
[null,40752.601600000002,34.762,38.630099999999999,38.624600000000001,31649.5,93.75,34.761899999999997,38.6297,38.624400000000001]
[null,107239.7936,46.171799999999998,50.765000000000001,51.711599999999997,34842.400000000001,116.6,46.0901,50.699599999999997,51.627299999999998]
[null,69919.988800000006,42.690300000000001,47.768799999999999,48.478900000000003,31593.439999999999,106.22,42.622399999999999,47.632300000000001,48.3078]
[null,42911.252800000002,39.19,44.5443,45.195300000000003,28216.71,95.87,39.142699999999998,44.304099999999998,44.880299999999998]
[null,26026.779200000001,35.636299999999999,41.512,42.343600000000002,25592.58,86.55,35.582500000000003,41.103900000000003,41.854500000000002]
[null,74375.718399999998,46.838900000000002,49.700400000000002,50.018500000000003,39616.76,131.76,46.696199999999997,49.628100000000003,49.946199999999997]
[null,51725.803200000002,42.900300000000001,45.918300000000002,46.211100000000002,37548.639999999999,121.12,42.778500000000001,45.841099999999997,46.106900000000003]
[null,34844.843200000003,38.717799999999997,41.923200000000001,42.514099999999999,34784.82,112.01,38.630299999999998,41.802799999999998,42.348599999999998]
[null,22731.869600000002,34.566800000000001,38.402799999999999,38.939700000000002,31072.09,101.97,34.497700000000002,38.201099999999997,38.613900000000001]
[null,37505.267999999996,42.479599999999998,45.199300000000001,44.796799999999998,20994.14,46.55,42.479500000000002,45.197800000000001,44.795400000000001]
[null,17515.839199999999,38.6205,42.427900000000001,41.804499999999997,17189.439999999999,35.89,38.619999999999997,42.424900000000001,41.801200000000001]
[null,7948.1487999999999,35.627400000000002,40.339399999999998,39.7834,11982.96,28.36,35.626199999999997,40.335999999999999,39.777500000000003]
[null,3748.0216,33.154600000000002,38.4116,38.1188,7734.83,23.15,33.153199999999998,38.407899999999998,38.1111]
[null,87791.689599999998,43.670999999999999,47.006100000000004,48.407600000000002,26013.34,72.22,43.670900000000003,47.005200000000002,48.406700000000001]
[null,51904.572800000002,40.563400000000001,45.310099999999998,46.553800000000003,21862.46,62.53,40.562899999999999,45.308399999999999,46.552900000000001]
[null,29548.32,37.369999999999997,43.503399999999999,44.509799999999998,17626.25,54.91,37.3688,43.500999999999998,44.508899999999997]
[null,16239.6224,34.249099999999999,41.746400000000001,42.23,14071.52,46.82,34.246400000000001,41.742600000000003,42.2286]
[null,45860.150399999999,42.999000000000002,40.520200000000003,42.923999999999999,15099.59,33.21,42.998600000000003,40.520000000000003,42.923699999999997]
[null,14113.343999999999,41.651400000000002,37.882100000000001,42.045499999999997,10187.450000000001,26.43,41.650700000000001,37.8812,42.045200000000001]
[null,7471.1504000000004,39.815800000000003,37.35,40.947000000000003,6521.14,23.34,39.814399999999999,37.3491,40.9465]
[null,4008.5695999999998,37.420400000000001,36.768900000000002,39.767200000000003,5082.67,20.25,37.418399999999998,36.768099999999997,39.766300000000001]
["RA",49177.459199999998,44.735100000000003,44.519599999999997,44.272500000000001,144976.21,54.64,44.377800000000001,44.162599999999998,43.919199999999996]
[null,30768.459200000001,39.473300000000002,39.307400000000001,39.200499999999998,129851.46,49.14,39.1175,38.933799999999998,38.8523]
[null,18603.831999999999,34.994399999999999,34.628900000000002,34.695399999999999,115003.4,43.5,34.711399999999998,34.290399999999998,34.404400000000003]
[null,11577.752,31.274999999999999,30.610399999999998,30.898199999999999,96348.17,39.119999999999997,31.064,30.332000000000001,30.668700000000001]
[null,2139.1183999999998,53.609499999999997,53.124400000000001,52.636200000000002,33986.82,43.74,53.579900000000002,53.098999999999997,52.613100000000003]
[null,1944.652,48.707799999999999,47.915999999999997,47.313299999999998,33139.89,44.19,48.657200000000003,47.868299999999998,47.2789]
[null,1735.348,44.032299999999999,43.164099999999998,42.763599999999997,31663.95,44.39,43.9482,43.100900000000003,42.705500000000001]
[null,1512.9015999999999,37.418599999999998,37.206499999999998,36.937399999999997,29920.75,44.35,37.372399999999999,37.154899999999998,36.884]
[null,6970.9679999999998,54.6096,54.988900000000001,53.755099999999999,83995.23,47.19,54.5289,54.920200000000001,53.694400000000002]
[null,5885.6664000000001,48.9803,48.767800000000001,47.960599999999999,80716.37,47.23,48.865699999999997,48.678800000000003,47.871899999999997]
[null,4798.3872000000001,43.9816,43.924199999999999,43.163899999999998,74345.320000000007,46.82,43.779299999999999,43.772599999999997,42.997599999999998]
[null,3851.7584000000002,38.653100000000002,38.875900000000001,37.869399999999999,67185.279999999999,46.2,38.503700000000002,38.758000000000003,37.6783]
[null,549.23919999999998,53.410899999999998,52.215200000000003,52.076999999999998,3988.69,9.7100000000000009,52.867699999999999,51.8279,51.733199999999997]
[null,434.34399999999999,48.516199999999998,47.500900000000001,47.3001,3913.36,9.85,48.148499999999999,47.182299999999998,47.039700000000003]
[null,345.67599999999999,44.553100000000001,43.4801,43.2089,3932.32,9.82,44.2545,43.198500000000003,42.967199999999998]
[null,263.60000000000002,37.392400000000002,37.051200000000001,36.932899999999997,3723.91,9.83,37.316800000000001,36.955599999999997,36.845100000000002]
[null,3321.1255999999998,47.768999999999998,47.015999999999998,47.270800000000001,18255.18,21.5,47.183,46.429499999999997,46.745899999999999]
[null,2119.66,43.401800000000001,42.692,43.135899999999999,16519.919999999998,20.99,42.7727,42.040100000000002,42.570799999999998]
[null,1330.2280000000001,39.079300000000003,38.3872,39.081000000000003,15044.18,20.58,38.439,37.7239,38.508099999999999]
[null,813.18719999999996,34.941600000000001,34.345199999999998,35.193199999999997,13377.63,20.149999999999999,34.357500000000002,33.7059,34.664499999999997]
[null,9838.1880000000001,46.981099999999998,46.482900000000001,46.1663,44842.42,27.85,46.832000000000001,46.2928,45.995100000000001]
[null,5930.4111999999996,42.666200000000003,41.581200000000003,41.703499999999998,37566.17,25.23,42.465800000000002,41.315399999999997,41.477499999999999]
[null,3238.0216,38.446899999999999,36.814599999999999,37.334299999999999,31826.51,23.43,38.265999999999998,36.537100000000002,37.122599999999998]
[null,1676.3407999999999,34.5824,32.818199999999997,33.508400000000002,26344.04,21.95,34.457900000000002,32.626600000000003,33.368299999999998]
[null,1206.5202999999999,50.726599999999998,50.246400000000001,50.403500000000001,25585.73,20.81,49.567799999999998,49.072499999999998,49.274500000000003]
[null,722.31550000000004,47.047899999999998,46.432299999999998,46.658200000000001,22222.86,19.75,45.840200000000003,45.151499999999999,45.451500000000003]
[null,438.20420000000001,43.604999999999997,42.930500000000002,43.198500000000003,19476.009999999998,18.899999999999999,42.398600000000002,41.606299999999997,41.972700000000003]
[null,279.01819999999998,40.191000000000003,39.567700000000002,39.806100000000001,17491.14,18.29,39.083199999999998,38.335700000000003,38.7119]
[null,13726.988799999999,46.1616,45.327399999999997,45.477400000000003,40097.42,43.23,46.150300000000001,45.303100000000001,45.459899999999998]
[null,6562.5136000000002,42.820099999999996,41.962899999999998,42.035699999999999,32623.34,40.94,42.810600000000001,41.948999999999998,42.022100000000002]
[null,3621.8128000000002,39.328299999999999,38.682099999999998,38.676600000000001,27481.17,39.4,39.319400000000002,38.6723,38.665399999999998]
[null,2176.6095999999998,35.790700000000001,35.194400000000002,35.146000000000001,23747.48,38.71,35.781199999999998,35.185499999999998,35.136200000000002]
[null,12981.096,45.853099999999998,45.408200000000001,45.456899999999997,55851.32,46.49,45.7241,45.288600000000002,45.321899999999999]
[null,7419.5631999999996,42.585000000000001,42.234299999999998,42.206499999999998,46458.720000000001,44.59,42.404899999999998,42.099800000000002,42.038699999999999]
[null,4198.0191999999997,39.162500000000001,39.002200000000002,38.845500000000001,39531.85,42.96,38.966999999999999,38.856099999999998,38.666800000000002]
[null,2433.7728000000002,35.971699999999998,35.886499999999998,35.672800000000002,33679.1,41.65,35.805799999999998,35.768000000000001,35.523499999999999]
[null,5155.5528000000004,47.2042,46.634099999999997,46.688299999999998,43996.89,49.17,46.979100000000003,46.450099999999999,46.488300000000002]
[null,3036.2864,43.6524,43.113799999999998,43.106299999999997,36767.39,47.41,43.407400000000003,42.9375,42.905999999999999]
[null,1871.7072000000001,39.792200000000001,39.458300000000001,39.3414,31926.23,46.26,39.563600000000001,39.2971,39.148600000000002]
[null,1193.7672,35.831899999999997,35.680399999999999,35.4876,28663.45,45.19,35.671999999999997,35.572800000000001,35.347799999999999]
[null,10838.1104,40.414400000000001,40.9634,40.2254,40044.49,24.28,40.318199999999997,40.894100000000002,40.122300000000003]
[null,4408.4423999999999,37.0047,37.659700000000001,36.687800000000003,27566.2,18.52,36.957299999999996,37.621099999999998,36.633600000000001]
[null,1678.4503999999999,34.2029,34.962200000000003,33.8568,19883.169999999998,14.93,34.181899999999999,34.941800000000001,33.833500000000001]
[null,701.81679999999994,32.042900000000003,32.839199999999998,31.658799999999999,15686.67,13,32.031599999999997,32.8262,31.647500000000001]
[null,21330.495999999999,42.344900000000003,39.952199999999998,42.870399999999997,58624,43.8,42.317599999999999,39.883400000000002,42.832299999999996]
[null,8687.3328000000001,39.833500000000001,37.814700000000002,40.217500000000001,37776.129999999997,32.29,39.820599999999999,37.783200000000001,40.197000000000003]
[null,4090.6768000000002,37.237200000000001,35.663899999999998,37.618299999999998,27867.360000000001,27.84,37.230400000000003,35.6494,37.608499999999999]
[null,2060.8463999999999,34.596699999999998,33.475900000000003,35.016300000000001,23458.91,25.42,34.591700000000003,33.468600000000002,35.0107]
[null,45194.001600000003,40.301699999999997,35.779600000000002,38.9377,82155.179999999993,34.32,40.263199999999998,35.162100000000002,38.872999999999998]
[null,10043.208000000001,38.915599999999998,32.776400000000002,37.438800000000001,45547.83,22.71,38.877200000000002,32.662999999999997,37.390099999999997]
[null,2942.7264,37.177399999999999,31.898800000000001,35.677100000000003,28183.68,17.11,37.123399999999997,31.884699999999999,35.6145]
[null,1325.7344000000001,35.172800000000002,31.163900000000002,33.792000000000002,20714.060000000001,14.47,35.118699999999997,31.151399999999999,33.730899999999998]
[null,34083.371200000001,44.377800000000001,46.604799999999997,46.659399999999998,118526.63,50.99,44.004600000000003,46.418500000000002,46.473799999999997]
[null,20366.518400000001,39.308700000000002,42.078400000000002,42.253399999999999,102118.56,45.13,38.978999999999999,41.893500000000003,42.089399999999998]
[null,11813.1744,34.922499999999999,37.783700000000003,38.188699999999997,88773.27,39.57,34.648800000000001,37.586599999999997,38.027299999999997]
[null,6852.6463999999996,31.1523,34.18,34.620800000000003,76215.94,35.4,30.936499999999999,34.0244,34.500700000000002]
[null,1977.2728,51.125599999999999,51.52,51.767699999999998,31177.77,43.7,51.096899999999998,51.481499999999997,51.732199999999999]
[null,1734.9176,46.447699999999998,46.899000000000001,47.174199999999999,30091.88,43.77,46.408200000000001,46.850700000000003,47.121600000000001]
[null,1508.9456,41.494700000000002,42.289400000000001,42.543900000000001,29302.69,43.92,41.439100000000003,42.227699999999999,42.486499999999999]
[null,1266.5447999999999,36.335299999999997,38.189799999999998,38.1038,27237.29,43.78,36.280700000000003,38.125999999999998,38.051200000000001]
[null,5778.3576000000003,52.696399999999997,53.93,53.738999999999997,74917.210000000006,47.37,52.652299999999997,53.879899999999999,53.6678]
[null,4563.9495999999999,47.656700000000001,49.239100000000001,48.712000000000003,72258.720000000001,46.4,47.5685,49.168799999999997,48.602699999999999]
[null,3549.3584000000001,42.134700000000002,45.119700000000002,43.888800000000003,67483.89,45.53,42.002800000000001,45.0092,43.750700000000002]
[null,2663.0079999999998,36.638100000000001,41.0197,39.288699999999999,59577.62,44.79,36.532800000000002,40.904600000000002,39.122999999999998]
[null,437.74880000000002,50.486199999999997,51.643700000000003,52.402000000000001,3864.84,9.77,50.344299999999997,51.589700000000001,52.348300000000002]
[null,339.22399999999999,46.1935,47.5075,48.363300000000002,3718.22,9.7799999999999994,46.072299999999998,47.439599999999999,48.293399999999998]
[null,256.33280000000002,42.083599999999997,43.389899999999997,43.774700000000003,3697.99,9.8699999999999992,41.9739,43.347299999999997,43.702800000000003]
[null,181.56,37.289299999999997,37.555999999999997,38.018000000000001,3588.1,9.8000000000000007,37.211300000000001,37.523000000000003,37.969099999999997]
[null,2110.2008000000001,47.429400000000001,50.079099999999997,51.320599999999999,16388.18,20.87,46.8827,49.539900000000003,50.844999999999999]
[null,1344.9312,43.009700000000002,46.784399999999998,48.527700000000003,15154.77,20.5,42.412799999999997,46.2014,48.0837]
[null,829.58159999999998,38.501600000000003,43.328699999999998,45.778799999999997,13548.65,20.16,37.870800000000003,42.7744,45.444899999999997]
[null,501.22879999999998,34.690600000000003,39.7834,42.471499999999999,11887.03,19.690000000000001,34.122,39.279000000000003,42.278700000000001]
[null,6127.7407999999996,47.550699999999999,47.1858,47.920499999999997,39744.01,25.59,47.3782,47.029600000000002,47.805700000000002]
[null,3274.1568000000002,43.180399999999999,42.801099999999998,43.981900000000003,33628.35,23.32,42.953200000000002,42.5777,43.860799999999998]
[null,1585.0735999999999,38.843699999999998,38.8322,40.451099999999997,27159.18,21.9,38.653700000000001,38.596899999999998,40.351399999999998]
[null,781.38160000000005,34.961500000000001,35.829099999999997,37.5869,22192.58,20.75,34.850900000000003,35.640500000000003,37.4895]
[null,726.93730000000005,50.564300000000003,55.6145,56.848199999999999,22727.439999999999,19.760000000000002,49.377299999999998,54.337899999999998,55.4666]
[null,431.70179999999999,46.9146,52.618400000000001,54.023600000000002,19853.36,19,45.6342,51.235599999999998,52.558399999999999]
[null,266.6234,43.3673,49.687199999999997,51.377600000000001,17494.759999999998,18.3,42.0916,48.249299999999998,49.825299999999999]
[null,170.32060000000001,39.711300000000001,46.913600000000002,48.730499999999999,15848.32,17.8,38.573500000000003,45.366900000000001,47.206099999999999]
[null,6577.48,46.3215,50.020899999999997,50.032800000000002,33388.400000000001,40.22,46.310699999999997,50.014800000000001,50.0242]
[null,3567.0304000000001,42.938200000000002,46.754300000000001,46.716200000000001,27915.58,39.15,42.927900000000001,46.749600000000001,46.709800000000001]
[null,2091.5664000000002,39.290500000000002,43.225200000000001,43.197299999999998,24226.32,39.06,39.279699999999998,43.219900000000003,43.191200000000002]
[null,1270.7392,35.562800000000003,39.735100000000003,39.627099999999999,21309.39,38.64,35.552799999999998,39.7303,39.622399999999999]
[null,7710.8912,46.014400000000002,50.8416,51.845399999999998,44753.19,44.11,45.875799999999998,50.7376,51.731699999999996]
[null,4339.2048000000004,42.604599999999998,48.051299999999998,48.836300000000001,40459.339999999997,42.75,42.424399999999999,47.884500000000003,48.664499999999997]
[null,2402.7040000000002,39.170900000000003,45.046399999999998,45.717599999999997,33961.71,41.56,38.976599999999998,44.823599999999999,45.465499999999999]
[null,1380.9728,35.8215,42.011499999999998,42.808399999999999,29816.7,40.43,35.660800000000002,41.654200000000003,42.384]
[null,3096.3087999999998,47.216000000000001,50.3538,50.720599999999997,34730.660000000003,47.22,47.0032,50.247999999999998,50.628300000000003]
[null,1875.1704,43.532499999999999,46.8369,47.1113,31308.1,45.99,43.305300000000003,46.73,46.988599999999998]
[null,1166.2175999999999,39.624099999999999,43.0779,43.603299999999997,28236.05,45.05,39.418700000000001,42.952399999999997,43.436999999999998]
[null,738.10320000000002,35.571800000000003,39.430399999999999,39.9617,26062.23,44.42,35.433599999999998,39.249099999999999,39.677599999999998]
[null,5143.2776000000003,40.920999999999999,44.670499999999997,44.169499999999999,28640.33,19.43,40.845300000000002,44.647199999999998,44.144799999999996]
[null,1879.2175999999999,37.673099999999998,42.230600000000003,41.629199999999997,20974.03,15.24,37.636000000000003,42.218400000000003,41.615200000000002]
[null,721.05759999999998,35.1145,40.395299999999999,39.811100000000003,15986.31,13.02,35.095100000000002,40.387500000000003,39.799799999999998]
[null,316.12,32.946199999999997,38.729500000000002,38.350999999999999,13251.29,11.92,32.933799999999998,38.722799999999999,38.339799999999997]
[null,10388.111999999999,42.329599999999999,46.531999999999996,48.2166,35397.96,34.729999999999997,42.294699999999999,46.527799999999999,48.213000000000001]
[null,4877.4624000000003,39.586100000000002,45.271799999999999,46.628999999999998,26011.15,28.41,39.566600000000001,45.268599999999999,46.625500000000002]
[null,2475.7215999999999,36.822000000000003,43.7316,44.787199999999999,22414.33,25.56,36.809600000000003,43.727200000000003,44.782299999999999]
[null,1276.3664000000001,34.035499999999999,42.071800000000003,42.710500000000003,19494.900000000001,23.91,34.026499999999999,42.064799999999998,42.704000000000001]
[null,12674.1072,41.818800000000003,38.204000000000001,42.246499999999997,38044.1,24.54,41.776899999999998,38.101100000000002,42.235300000000002]
[null,3472.4176000000002,39.909999999999997,37.423999999999999,41.425699999999999,25237.61,17.53,39.828499999999998,37.418199999999999,41.417700000000004]
[null,1517.3552,37.472099999999998,37.003599999999999,40.5105,18908.13,14.51,37.356900000000003,37.000399999999999,40.503399999999999]
[null,724.97919999999999,34.997700000000002,36.5154,39.582900000000002,15744.53,12.92,34.890599999999999,36.512700000000002,39.578000000000003]
["LB",55866.8416,45.383299999999998,45.136299999999999,44.856299999999997,199627.25,58.23,45.232999999999997,44.977400000000003,44.687899999999999]
[null,34822.473599999998,40.071100000000001,40.034100000000002,39.821800000000003,173057.67,52.34,39.844499999999996,39.808900000000001,39.594499999999996]
[null,20822.648000000001,35.564999999999998,35.351999999999997,35.335700000000003,143269.70000000001,45.57,35.3324,35.084099999999999,35.095799999999997]
[null,12931.606400000001,31.753499999999999,31.156099999999999,31.363,120019.81,40.74,31.5761,30.934899999999999,31.177499999999998]
[null,1253.6143999999999,52.759,51.940199999999997,51.6584,42928.75,36.81,52.708199999999998,51.891300000000001,51.6235]
[null,1176.9232,47.979100000000003,47.167900000000003,46.657699999999998,42542.07,36.880000000000003,47.926000000000002,47.114400000000003,46.636099999999999]
[null,1091.9376,42.998600000000003,42.255000000000003,42.035800000000002,41988.3,36.78,42.856299999999997,42.180500000000002,41.970199999999998]
[null,985.74400000000003,36.3767,36.074100000000001,36.021999999999998,40082.720000000001,36.57,36.323300000000003,36.038499999999999,35.981900000000003]
[null,6550.7183999999997,53.579700000000003,53.694200000000002,52.546300000000002,110709.93,46.21,53.539200000000001,53.647599999999997,52.514899999999997]
[null,5664.0904,48.314,48.083100000000002,47.246200000000002,107058.71,46.38,48.1967,47.995699999999999,47.173299999999998]
[null,4754.3624,42.8003,42.996200000000002,42.273299999999999,98407.59,45.73,42.577199999999998,42.8247,42.102800000000002]
[null,3798.4720000000002,37.5349,38.046900000000001,37.013800000000003,89545.15,44.79,37.379199999999997,37.916899999999998,36.830399999999997]
[null,268.08,51.647500000000001,50.939799999999998,50.8048,6522.58,7.79,51.152799999999999,50.504899999999999,50.412100000000002]
[null,216.1448,47.689900000000002,46.589399999999998,46.516399999999997,6762.31,7.77,47.149900000000002,46.163800000000002,46.149000000000001]
[null,169.9008,42.7896,41.774500000000003,41.723599999999998,6650.27,7.68,42.444299999999998,41.4664,41.475700000000003]
[null,128.94239999999999,36.746200000000002,35.780700000000003,35.712200000000003,6025.75,7.64,36.627800000000001,35.671199999999999,35.620899999999999]
[null,2703.1392000000001,46.494100000000003,45.900100000000002,46.2423,27980.47,18.79,45.952199999999998,45.380600000000001,45.751899999999999]
[null,1705.9295999999999,42.192,41.591099999999997,42.086500000000001,26003.200000000001,18.11,41.595999999999997,40.985399999999998,41.5503]
[null,1045.0032000000001,37.791600000000003,37.189100000000003,37.927300000000002,23239.16,17.41,37.153500000000001,36.553400000000003,37.375700000000002]
[null,623.31039999999996,33.852600000000002,33.146500000000003,34.096800000000002,19519.740000000002,16.78,33.280999999999999,32.539099999999998,33.584699999999998]
[null,10359.765600000001,46.507399999999997,46.040199999999999,45.694099999999999,63688.75,521,46.447899999999997,45.970199999999998,45.619399999999999]
[null,6493.2551999999996,42.2864,41.4255,41.383400000000002,55349.71,24.56,42.198900000000002,41.327300000000001,41.2791]
[null,3594.5888,37.959699999999998,36.628900000000002,36.941099999999999,47073.81,22.3,37.841999999999999,36.503900000000002,36.818600000000004]
[null,1773.9151999999999,33.895899999999997,32.342199999999998,32.785699999999999,38722.94,20.059999999999999,33.793300000000002,32.225900000000003,32.685200000000002]
[null,1060.2877000000001,49.443199999999997,49.108699999999999,49.2057,39753.769999999997,18.22,48.4345,48.107900000000001,48.219200000000001]
[null,629.1155,45.757100000000001,45.298699999999997,45.452300000000001,35106.1,17.170000000000002,44.783799999999999,44.317999999999998,44.51]
[null,366.34719999999999,42.1252,41.548900000000003,41.732399999999998,31255.51,16.23,41.181399999999996,40.564399999999999,40.8078]
[null,222.50659999999999,38.501399999999997,37.883099999999999,38.118400000000001,27950.560000000001,15.36,37.618200000000002,36.965400000000002,37.271900000000002]
[null,12623.691199999999,45.827100000000002,45.089700000000001,45.200099999999999,56291.35,40.020000000000003,45.8232,45.077800000000003,45.192900000000002]
[null,5383.1535999999996,42.411499999999997,41.608499999999999,41.682200000000002,45478.06,36.479999999999997,42.407899999999998,41.600900000000003,41.675400000000003]
[null,2589.9407999999999,38.8566,38.218499999999999,38.218600000000002,38456.32,34.43,38.853400000000001,38.2134,38.212699999999998]
[null,1378.2272,35.203200000000002,34.6066,34.573399999999999,33940.230000000003,33.049999999999997,35.2012,34.604100000000003,34.5702]
[null,11987.417600000001,44.995399999999997,44.637300000000003,44.660800000000002,78465.240000000005,41.31,44.876600000000003,44.5304,44.540999999999997]
[null,6863.4687999999996,41.6798,41.421399999999998,41.343200000000003,67421.39,39.19,41.529600000000002,41.3078,41.194899999999997]
[null,3709.0544,38.317100000000003,38.129899999999999,37.949800000000003,55920.81,29.79,38.129100000000001,37.987299999999998,37.768900000000002]
[null,1974.3616,35.098199999999999,34.896900000000002,34.642200000000003,47604.11,34.92,34.928800000000003,34.7712,34.484200000000001]
[null,3999.6232,46.377699999999997,45.907299999999999,45.937800000000003,65287.67,44.91,46.099699999999999,45.680500000000002,45.692799999999998]
[null,2168.9119999999998,42.796999999999997,42.3307,42.263599999999997,55009.19,42.42,42.503,42.121200000000002,42.027299999999997]
[null,1190.424,38.860900000000001,38.5869,38.374299999999998,46072.08,39.97,38.601199999999999,38.404000000000003,38.164200000000001]
[null,677.22320000000002,34.799900000000001,34.651499999999999,34.454900000000002,40732.47,38.04,34.6342,34.542000000000002,34.297600000000003]
[null,12202.748,40.188899999999997,40.668199999999999,40.082099999999997,60945.63,27,40.1374,40.6233,40.024000000000001]
[null,4467.8455999999996,36.503599999999999,37.1706,36.304099999999998,42556.55,19.96,36.468600000000002,37.138399999999997,36.262599999999999]
[null,1540.6232,33.639400000000002,34.384599999999999,33.327399999999997,29741.9,15.28,33.618099999999998,34.3596,33.301600000000001]
[null,578.54399999999998,31.417200000000001,32.172600000000003,31.006799999999998,22450.28,12.49,31.403400000000001,32.155099999999997,30.992000000000001]
[null,29079.1296,41.946399999999997,40.049700000000001,42.516500000000001,99594.18,53.91,41.912799999999997,39.992899999999999,42.474800000000002]
[null,10884.734399999999,39.000799999999998,37.458399999999997,39.433,63940.61,37.83,38.954799999999999,37.406700000000001,39.377299999999998]
[null,4703.6736000000001,36.169699999999999,34.994999999999997,36.566699999999997,45129.47,29.52,36.123699999999999,34.953499999999998,36.519599999999997]
[null,2161.8768,33.444099999999999,32.573399999999999,33.813400000000001,35264.75,24.62,33.407800000000002,32.545999999999999,33.78]
[null,60512.617599999998,40.531300000000002,37.340499999999999,39.252000000000002,123909.04,38.479999999999997,40.5184,37.121499999999997,39.223300000000002]
[null,12218.916800000001,39.076900000000002,33.0548,37.6477,79830.77,26.49,39.049900000000001,32.944499999999998,37.6173]
[null,3388.9983999999999,37.2121,31.933299999999999,35.694400000000002,52746.86,19.29,37.1524,31.918900000000001,35.621899999999997]
[null,1514.1584,35.037300000000002,31.0976,33.609699999999997,38449.19,15.48,34.9557,31.079599999999999,33.525700000000001]
[null,38174.4496,45.057899999999997,46.776200000000003,46.883899999999997,160789.12,53.91,44.898400000000002,46.670299999999997,46.781599999999997]
[null,22477.063999999998,39.903599999999997,42.313000000000002,42.459099999999999,133605.15,47.47,39.680199999999999,42.190199999999997,42.345399999999998]
[null,13080.1872,35.570599999999999,37.845500000000001,38.180900000000001,117009.46,40.909999999999997,35.350999999999999,37.694899999999997,38.048499999999997]
[null,7515.4368000000004,31.5167,33.969000000000001,34.296100000000003,102919.08,36.049999999999997,31.3292,33.820500000000003,34.170400000000001]
[null,1187.42,50.501800000000003,50.384,50.792000000000002,41068.79,36.69,50.473999999999997,50.356200000000001,50.749899999999997]
[null,1088.8032000000001,45.741199999999999,46.028700000000001,46.241700000000002,40481.699999999997,36.67,45.703400000000002,45.9893,46.189300000000003]
[null,982.15200000000004,40.7622,41.334499999999998,41.540599999999998,39341.69,36.619999999999997,40.700899999999997,41.281199999999998,41.477800000000002]
[null,868.12559999999996,35.436999999999998,36.713099999999997,36.506700000000002,37453.870000000003,36.479999999999997,35.393500000000003,36.657499999999999,36.4572]
[null,5397.6376,52.096800000000002,52.958799999999997,52.747999999999998,102334.78,46.2,52.054200000000002,52.912700000000001,52.693199999999997]
[null,4382.8807999999999,46.8292,48.339500000000001,47.6569,99041.44,45.93,46.730899999999998,48.264299999999999,47.541600000000003]
[null,3481.9176000000002,41.2117,44.003500000000003,42.967500000000001,93712.54,44.82,41.048900000000003,43.880899999999997,42.815199999999997]
[null,2648.3775999999998,36.150100000000002,40.011699999999998,38.122,83537.679999999993,43.58,36.025500000000001,39.888199999999998,37.929400000000001]
[null,200.72239999999999,49.509500000000003,50.4069,50.953699999999998,6472.15,7.69,49.321199999999997,50.342700000000001,50.885800000000003]
[null,160.03280000000001,45.241799999999998,46.215000000000003,46.7211,6356,7.67,45.068800000000003,46.158099999999997,46.668799999999997]
[null,120.384,41.016300000000001,41.613599999999998,41.924599999999998,6230.31,7.65,40.852400000000003,41.561399999999999,41.880699999999997]
[null,89.413600000000002,36.080800000000004,36.549100000000003,36.800800000000002,6007.9,7.54,35.966200000000001,36.521599999999999,36.762300000000003]
[null,1602.0103999999999,46.1325,48.901600000000002,50.277500000000003,25630.23,17.899999999999999,45.617899999999999,48.353200000000001,49.802700000000002]
[null,1019.4664,41.670999999999999,45.630099999999999,47.709600000000002,23141.08,17.38,41.109000000000002,45.051400000000001,47.298699999999997]
[null,617.36559999999997,37.298000000000002,42.032499999999999,45.028300000000002,20418.75,16.809999999999999,36.679699999999997,41.514600000000002,44.734900000000003]
[null,368.2944,33.6081,38.312800000000003,41.392000000000003,17657.71,16.22,33.069800000000001,37.9223,41.29]
[null,6521.4960000000001,47.104999999999997,46.629800000000003,47.112299999999998,57572.08,24.47,47.0383,46.5565,47.043799999999997]
[null,3573.5248000000001,42.807600000000001,42.4116,43.271599999999999,49536.76,22.21,42.698300000000003,42.303899999999999,43.192599999999999]
[null,1674.7472,38.305799999999998,38.3735,39.625,41232.58,20.5,38.178400000000003,38.225200000000001,39.535699999999999]
[null,749.37919999999997,34.016800000000003,35.353000000000002,36.9056,34263.050000000003,18.63,33.924900000000001,35.181800000000003,36.811100000000003]
[null,616.23969999999997,49.179099999999998,54.184100000000001,55.429600000000001,36001.78,16.91,48.247199999999999,52.795900000000003,53.854599999999998]
[null,353.20159999999998,45.430599999999998,51.194499999999998,52.610300000000002,32331.78,16.13,44.531300000000002,49.724200000000003,51.019300000000001]
[null,206.12700000000001,41.628999999999998,48.239199999999997,49.8232,28418.94,15.4,40.746200000000002,46.72,48.221299999999999]
[null,127.18429999999999,37.737699999999997,45.144599999999997,46.741100000000003,25503.22,14.67,36.9495,43.619599999999998,45.416200000000003]
[null,5280.6863999999996,45.919600000000003,49.608600000000003,49.590400000000002,47310.79,36.03,45.9163,49.605699999999999,49.587000000000003]
[null,2513.8208,42.499000000000002,46.220300000000002,46.204300000000003,40287.18,34.21,42.494900000000001,46.218499999999999,46.201099999999997]
[null,1309.3424,38.807699999999997,42.637,42.5931,34552.080000000002,32.9,38.804000000000002,42.636099999999999,42.591299999999997]
[null,743.39679999999998,34.992600000000003,38.964799999999997,38.929000000000002,30262.89,31.67,34.990200000000002,38.964399999999998,38.928100000000001]
[null,6712.4928,45.023800000000001,49.971400000000003,50.869500000000002,63269,38.33,44.899299999999997,49.874899999999997,50.7682]
[null,3693.192,41.585099999999997,47.110300000000002,47.893000000000001,57225.35,36.51,41.432200000000002,46.930799999999998,47.7286]
[null,1951.0383999999999,38.220999999999997,44.143700000000003,44.918900000000001,48384.78,34.869999999999997,38.032299999999999,43.900500000000001,44.679400000000001]
[null,1039.5136,34.755000000000003,41.156199999999998,42.117899999999999,41800.199999999997,33.17,34.6004,40.805399999999999,41.715699999999998]
[null,2135.2903999999999,46.401499999999999,49.354799999999997,49.664200000000001,54192.09,42.16,46.106900000000003,49.231999999999999,49.566000000000003]
[null,1180.0096000000001,42.600900000000003,45.652999999999999,46.098399999999998,45915.25,39.86,42.314300000000003,45.530900000000003,45.98]
[null,663.86720000000003,38.634300000000003,41.881799999999998,42.491300000000003,41091.18,37.979999999999997,38.3949,41.735700000000001,42.313699999999997]
[null,393.03199999999998,34.420400000000001,38.235300000000002,39.064500000000002,37288.120000000003,36.51,34.261600000000001,38.002499999999998,38.7239]
[null,5395.2191999999995,40.569299999999998,44.176099999999998,43.582299999999996,42025.52,21.14,40.533000000000001,44.157899999999998,43.561599999999999]
[null,1760.5,37.130499999999998,41.678899999999999,41.04,30323.47,15.79,37.102400000000003,41.664000000000001,41.024799999999999]
[null,609.88959999999997,34.494399999999999,39.761499999999998,39.251800000000003,23828.400000000001,12.72,34.473100000000002,39.750100000000003,39.238100000000003]
[null,242.27440000000001,32.2331,37.905799999999999,37.661700000000003,19037.169999999998,10.88,32.217500000000001,37.894599999999997,37.6462]
[null,12562.784,41.875500000000002,46.071199999999997,47.408799999999999,56511.05,40.369999999999997,41.829599999999999,46.065100000000001,47.402099999999997]
[null,5381.0159999999996,38.6783,44.5944,45.656999999999996,42539.59,30.84,38.610599999999998,44.589199999999998,45.649900000000002]
[null,2517.0288,35.679600000000001,42.934899999999999,43.662999999999997,33431.699999999997,25.32,35.611800000000002,42.929600000000001,43.655099999999997]
[null,1211.6559999999999,32.823300000000003,41.216099999999997,41.499299999999998,28986.080000000002,21.85,32.775700000000001,41.208300000000001,41.488]
[null,14621.7984,42.084400000000002,38.4619,42.267400000000002,63456.25,28.23,42.069299999999998,38.383099999999999,42.2607]
[null,3964.68,40.192599999999999,37.417099999999998,41.305999999999997,44056.34,19.79,40.1432,37.412100000000002,41.296100000000003]
[null,1761.704,37.561100000000003,36.9133,40.284700000000001,32779.96,15.73,37.436500000000002,36.908499999999997,40.276499999999999]
[null,822.33280000000002,34.836399999999998,36.3352,39.293399999999998,26278.33,13.19,34.679299999999998,36.331000000000003,39.289200000000001]

{"sheet":"Test","index":5,"n_rows":312,"n_cols":10,"rows_kept":312,"cut":false,"hidden":false,"merged":[]}
["AI",99746.512000000002,49.885399999999997,49.496699999999997,49.215400000000002,34526.46,60.83,49.870199999999997,49.485399999999998,49.201700000000002]
[null,79988.651199999993,44.911000000000001,44.517699999999998,44.251300000000001,33498.71,59.32,44.8964,44.5075,44.239899999999999]
[null,62190.756800000003,40.098300000000002,39.836599999999997,39.625599999999999,31813.279999999999,56.94,40.0852,39.826500000000003,39.6145]
[null,45890.412799999998,35.398600000000002,35.1751,35.0122,29767.63,54.99,35.389600000000002,35.167299999999997,35.0045]
[null,52658.249600000003,54.900500000000001,54.154600000000002,53.481499999999997,53719.839999999997,96.69,54.895899999999997,54.152799999999999,53.479100000000003]
[null,47295.584799999997,49.920999999999999,48.918399999999998,48.364600000000003,53742.97,96.95,49.909500000000001,48.915700000000001,48.360700000000001]
[null,42083.386400000003,44.782600000000002,43.958100000000002,43.436199999999999,51974.13,96.21,44.769199999999998,43.955100000000002,43.433199999999999]
[null,36095.3704,39.064900000000002,38.533799999999999,38.165199999999999,50135.97,94.88,39.057000000000002,38.527200000000001,38.159999999999997]
[null,44102.515200000002,57.6325,57.264000000000003,56.634,45382.89,88.13,57.618400000000001,57.248899999999999,56.620899999999999]
[null,39107.436800000003,52.332000000000001,51.735599999999998,51.214799999999997,45513.18,88.54,52.319600000000001,51.720799999999997,51.203099999999999]
[null,33981.777600000001,47.5749,47.322099999999999,46.865699999999997,42800.05,87.58,47.561300000000003,47.303400000000003,46.853200000000001]
[null,28904.107199999999,41.8996,42.013300000000001,41.421700000000001,40889.29,87.11,41.889099999999999,41.999099999999999,41.410200000000003]
[null,10631.6528,54.107999999999997,52.813800000000001,52.6295,10324.27,22.04,53.476799999999997,52.332500000000003,52.2012]
[null,8639.4120000000003,49.618899999999996,48.372700000000002,48.311799999999998,9914.07,21.23,49.119799999999998,47.987299999999998,47.960900000000002]
[null,7132.6688000000004,45.399799999999999,44.119900000000001,44.054299999999998,9329.2000000000007,20.61,44.990200000000002,43.808999999999997,43.7913]
[null,5427.8728000000001,39.036000000000001,38.095300000000002,37.976300000000002,9396.0300000000007,19.73,38.885599999999997,37.958100000000002,37.863999999999997]
[null,64243.836799999997,48.6434,47.823,48.100099999999998,34638.14,60.65,48.220100000000002,47.355499999999999,47.711799999999997]
[null,45975.512799999997,43.794400000000003,42.995600000000003,43.473300000000002,32014.65,60.01,43.341799999999999,42.517099999999999,43.067999999999998]
[null,30173.741600000001,39.175199999999997,38.487900000000003,39.172800000000002,29102.23,56.38,38.587200000000003,37.9071,38.669499999999999]
[null,19012.405599999998,35.0779,34.447699999999998,35.292200000000001,24554.959999999999,51.49,34.473799999999997,33.831099999999999,34.764200000000002]
[null,60661.544000000002,47.987699999999997,47.3812,47.2532,29235.91,64.819999999999993,47.960999999999999,47.331200000000003,47.221299999999999]
[null,44559.177600000003,43.823700000000002,42.798200000000001,43.033000000000001,27925.15,60.13,43.796799999999998,42.767200000000003,43.010800000000003]
[null,31577.031200000001,39.644599999999997,38.325899999999997,38.707999999999998,26045.360000000001,55.86,39.623199999999997,38.305599999999998,38.691499999999998]
[null,21196.799999999999,35.372700000000002,34.052999999999997,34.4405,23703.67,51.56,35.355400000000003,34.038600000000002,34.427900000000001]
[null,7383.1692999999996,51.173000000000002,50.724499999999999,50.860900000000001,14766.24,39.729999999999997,49.986199999999997,49.527500000000003,49.717700000000001]
[null,4808.7357000000002,47.68,47.144399999999997,47.3232,13525.52,35.83,46.517200000000003,45.994100000000003,46.226799999999997]
[null,3134.4261999999999,44.271000000000001,43.790900000000001,43.944800000000001,12101.03,32.83,43.146999999999998,42.667400000000001,42.887]
[null,2043.3244999999999,40.767699999999998,40.326000000000001,40.4482,10922.07,30.27,39.722499999999997,39.258699999999997,39.470500000000001]
[null,206537.16,46.3108,45.733199999999997,45.628100000000003,66894.559999999998,136.72,46.310699999999997,45.7331,45.628]
[null,137907.2064,42.664000000000001,41.976100000000002,41.987499999999997,63378.18,122.61,42.664000000000001,41.975999999999999,41.987499999999997]
[null,94888.072,38.979399999999998,38.402099999999997,38.402299999999997,56274.239999999998,112.45,38.979399999999998,38.402099999999997,38.402299999999997]
[null,64873.364800000003,35.223700000000001,34.656300000000002,34.6,49437.14,103.57,35.223599999999998,34.656100000000002,34.599800000000002]
[null,161117.00320000001,45.9953,45.402299999999997,45.498699999999999,64249.8,133.28,45.8932,45.298000000000002,45.394399999999997]
[null,107636.83040000001,42.671599999999998,42.286499999999997,42.238500000000002,54450.71,121.48,42.577800000000003,42.210799999999999,42.1539]
[null,69963.753599999996,39.183300000000003,39.0077,38.842100000000002,43829.99,111.44,39.109400000000001,38.955800000000004,38.777700000000003]
[null,44267.792000000001,35.861199999999997,35.729300000000002,35.5229,37535.730000000003,100.63,35.8048,35.701099999999997,35.470999999999997]
[null,106079.7608,46.983699999999999,46.406500000000001,46.437600000000003,69671.92,148.4,46.804699999999997,46.235500000000002,46.268000000000001]
[null,75112.148799999995,43.234099999999998,42.689,42.657899999999998,64182.720000000001,135.79,43.0749,42.566800000000001,42.524000000000001]
[null,52641.946400000001,39.205300000000001,38.9056,38.706800000000001,55999.12,125.75,39.078800000000001,38.816800000000001,38.604100000000003]
[null,36043.572800000002,35.137999999999998,34.937800000000003,34.718899999999998,50364.28,115.58,35.052900000000001,34.886499999999998,34.647500000000001]
[null,68513.020799999998,42.355400000000003,42.329000000000001,41.889400000000002,28729.63,61.72,42.3553,42.328800000000001,41.889000000000003]
[null,36758.653599999998,38.1828,38.483800000000002,37.8322,24588.37,49.02,38.182499999999997,38.482700000000001,37.831699999999998]
[null,16886.286400000001,34.720799999999997,35.334000000000003,34.465499999999999,20261.57,37.86,34.719499999999996,35.331200000000003,34.464500000000001]
[null,7778.5504000000001,32.167999999999999,32.8673,31.8309,14239.54,30.29,32.166200000000003,32.863399999999999,31.829599999999999]
[null,135813.32320000001,43.508099999999999,41.628599999999999,44.012700000000002,43597.87,86.01,43.508000000000003,41.628599999999999,44.012599999999999]
[null,76282.401599999997,40.531599999999997,38.866,41.030299999999997,34861.01,74.23,40.531199999999998,38.865600000000001,41.029899999999998]
[null,42634.345600000001,37.471299999999999,36.165999999999997,38.001199999999997,27946.66,65.22,37.470100000000002,36.164400000000001,38.000399999999999]
[null,23385.467199999999,34.474899999999998,33.500300000000003,35.020800000000001,21084.48,56.4,34.4724,33.496899999999997,35.019399999999997]
[null,112032.73759999999,41.4375,40.441699999999997,40.550600000000003,21610.9,43.68,41.437100000000001,40.441600000000001,40.550400000000003]
[null,45165.232000000004,40.176600000000001,35.450099999999999,38.833599999999997,18356.84,33.93,40.176099999999998,35.4499,38.833300000000001]
[null,13734.8976,38.739100000000001,32.688200000000002,37.471200000000003,11995.93,27.75,38.738199999999999,32.687199999999997,37.470700000000001]
[null,7111.2079999999996,36.76,31.926600000000001,35.543199999999999,7563.41,25.17,36.758299999999998,31.925699999999999,35.542400000000001]
[null,79733.846399999995,49.3812,50.355600000000003,50.540700000000001,30960.17,58.74,49.369500000000002,50.338700000000003,50.525100000000002]
[null,60978.951999999997,44.442599999999999,45.6691,45.8249,30830.400000000001,56.31,44.432000000000002,45.653599999999997,45.811300000000003]
[null,44813.423999999999,39.5809,41.399700000000003,41.540199999999999,28811.040000000001,53.93,39.572299999999998,41.385599999999997,41.529600000000002]
[null,31285.312000000002,34.806399999999996,37.250700000000002,37.462800000000001,25133.18,51.4,34.8005,37.235399999999998,37.451300000000003]
[null,47933.800799999997,53.405700000000003,54.084299999999999,54.348100000000002,49176.480000000003,93.68,53.403199999999998,54.0687,54.334899999999998]
[null,41808.135999999999,48.112900000000003,48.544600000000003,49.138500000000001,48246.94,94.25,48.107799999999997,48.524999999999999,49.123600000000003]
[null,35232.806400000001,42.664200000000001,43.324399999999997,43.720700000000001,46431.77,93.9,42.658999999999999,43.3003,43.702800000000003]
[null,27659.157599999999,36.798400000000001,38.189300000000003,38.202100000000002,44942.49,93.17,36.789700000000003,38.137799999999999,38.154000000000003]
[null,40925.807200000003,55.9833,57.313200000000002,56.856099999999998,42927.83,87.21,55.9694,57.290399999999998,56.842399999999998]
[null,34390.808799999999,50.503700000000002,52.102400000000003,51.685200000000002,43106.79,87.5,50.492199999999997,52.084099999999999,51.6723]
[null,28440.1584,44.810899999999997,47.719499999999996,46.3172,39914.949999999997,87.82,44.796199999999999,47.702599999999997,46.286499999999997]
[null,21927.6584,38.968699999999998,43.188299999999998,41.642200000000003,38347.199999999997,86.52,38.957700000000003,43.173499999999997,41.618699999999997]
[null,8846.0272000000004,52.975200000000001,54.767000000000003,55.023499999999999,9553.9500000000007,20.81,52.6252,54.643700000000003,54.919899999999998]
[null,7039.4672,48.322899999999997,49.518099999999997,49.962800000000001,9320.81,20.350000000000001,48.041899999999998,49.473599999999998,49.904400000000003]
[null,5215.8624,42.592100000000002,43.531599999999997,44.228099999999998,8791.5300000000007,20.010000000000002,42.4467,43.482799999999997,44.170400000000001]
[null,3551.0455999999999,37.103700000000003,38.027299999999997,38.702199999999998,8381.9599999999991,19.18,37.052500000000002,37.977400000000003,38.6357]
[null,44616.025600000001,47.578800000000001,50.830199999999998,52.377200000000002,27517.79,60.5,47.1188,50.198599999999999,51.793300000000002]
[null,29769.520799999998,42.853299999999997,46.955100000000002,48.931800000000003,25655.43,57.41,42.311399999999999,46.233699999999999,48.338900000000002]
[null,18847.7048,38.378399999999999,43.319099999999999,45.927,21262.41,52.17,37.770299999999999,42.653100000000002,45.482199999999999]
[null,11848.400799999999,34.582700000000003,39.776200000000003,42.745899999999999,17394.240000000002,46.07,34.06,39.169600000000003,42.456000000000003]
[null,42959.039199999999,48.334000000000003,48.102499999999999,48.63,25093.040000000001,61.3,48.299100000000003,48.0794,48.610100000000003]
[null,29618.842400000001,44.150199999999998,43.9221,44.5625,23995.3,56.56,44.113300000000002,43.901200000000003,44.546100000000003]
[null,19659.826400000002,39.8078,40.033200000000001,40.951599999999999,21512.959999999999,51.97,39.777700000000003,40.006500000000003,40.9285]
[null,12910.6096,35.275300000000001,36.743699999999997,37.828800000000001,18784.05,47.7,35.245699999999999,36.694899999999997,37.779899999999998]
[null,4657.6701000000003,51.125,55.774799999999999,56.955199999999998,12311.42,34.92,49.982100000000003,54.3508,55.334099999999999]
[null,2961.6435000000001,47.6004,52.7971,54.148600000000002,11375.51,32.24,46.521500000000003,51.242199999999997,52.421599999999998]
[null,1906.375,43.939900000000002,49.943199999999997,51.591900000000003,10262.31,30.03,42.990400000000001,48.257599999999996,49.782499999999999]
[null,1218.2915,40.034999999999997,46.987099999999998,48.970100000000002,9334.64,27.86,39.2455,45.328000000000003,47.168399999999998]
[null,135112.448,46.306199999999997,49.949800000000003,49.960599999999999,42521.36,120.36,46.306199999999997,49.949599999999997,49.960500000000003]
[null,92186.12,42.64,46.370699999999999,46.396900000000002,40063.65,109.97,42.639899999999997,46.3705,46.396599999999999]
[null,62549.782399999996,38.868600000000001,42.792900000000003,42.772500000000001,36157.61,101.57,38.868499999999997,42.7926,42.772100000000002]
[null,41049.323199999999,34.834200000000003,38.846499999999999,38.8596,32357.55,94.13,34.834099999999999,38.846200000000003,38.859200000000001]
[null,107208.4688,46.211199999999998,50.857199999999999,51.804099999999998,35518.269999999997,117.94,46.118299999999998,50.790399999999998,51.728499999999997]
[null,69930.792000000001,42.754100000000001,47.932699999999997,48.619799999999998,31698.04,107.2,42.672800000000002,47.813800000000001,48.462699999999998]
[null,42968.846400000002,39.2712,44.720500000000001,45.356900000000003,28162.85,97.27,39.215400000000002,44.533299999999997,45.118200000000002]
[null,26109.513599999998,35.697400000000002,41.648699999999998,42.4497,25788.41,87.78,35.648000000000003,41.340200000000003,42.063400000000001]
[null,74194.411200000002,46.990699999999997,49.921599999999998,50.284500000000001,40443.74,132.38,46.831099999999999,49.855600000000003,50.226700000000001]
[null,51645.872000000003,43.1205,46.159199999999998,46.4544,37509.760000000002,121.61,42.978700000000003,46.091799999999999,46.365499999999997]
[null,34903.617599999998,39.071300000000001,42.418399999999998,42.948399999999999,34783.65,112.24,38.959000000000003,42.331400000000002,42.819800000000001]
[null,22871.8976,34.746299999999998,38.709699999999998,39.203499999999998,31370.97,102.92,34.67,38.525799999999997,38.9056]
[null,37563.652800000003,42.480699999999999,45.220199999999998,44.819800000000001,20241.57,47.16,42.480600000000003,45.218699999999998,44.818399999999997]
[null,17543.5344,38.621400000000001,42.435699999999997,41.811900000000001,17890.04,36.61,38.620800000000003,42.432699999999997,41.808599999999998]
[null,7955.3504000000003,35.627400000000002,40.340800000000002,39.783999999999999,12311.14,29.22,35.626100000000001,40.337400000000002,39.778100000000002]
[null,3753.1912000000002,33.154400000000003,38.413499999999999,38.117800000000003,8138.05,23.9,33.152999999999999,38.409799999999997,38.110300000000002]
[null,87814.398400000005,43.671399999999998,47.005600000000001,48.408200000000001,25459.38,73.569999999999993,43.671300000000002,47.0047,48.407299999999999]
[null,51920.865599999997,40.563099999999999,45.310200000000002,46.553899999999999,21007.71,63.94,40.5627,45.308500000000002,46.552900000000001]
[null,29563.441599999998,37.369199999999999,43.504600000000003,44.509099999999997,17236.099999999999,55.44,37.368000000000002,43.502200000000002,44.508299999999998]
[null,16251.945599999999,34.247900000000001,41.748199999999997,42.227699999999999,14281.26,47.82,34.245199999999997,41.744500000000002,42.226399999999998]
[null,45859.619200000001,42.999099999999999,40.520000000000003,42.923699999999997,14745.38,33.770000000000003,42.998699999999999,40.519799999999996,42.923400000000001]
[null,14114.968000000001,41.651000000000003,37.881500000000003,42.045299999999997,11201.65,26.79,41.650300000000001,37.880600000000001,42.045000000000002]
[null,7471.1152000000002,39.816000000000003,37.350099999999998,40.9467,7324.03,23.9,39.814500000000002,37.349299999999999,40.946199999999997]
[null,4008.8144000000002,37.418900000000001,36.767499999999998,39.765099999999997,5118.82,20.61,37.416800000000002,36.7667,39.764099999999999]
["RA",48453.604800000001,45.152299999999997,44.995699999999999,44.728900000000003,144781.35999999999,53.56,44.712400000000002,44.554400000000001,44.297699999999999]
[null,30360.975999999999,39.797499999999999,39.703200000000002,39.566000000000003,131215.21,48.8,39.380000000000003,39.257100000000001,39.1569]
[null,18423.657599999999,35.288499999999999,34.996099999999998,35.055300000000003,115524.5,43.73,34.950800000000001,34.595300000000002,34.709200000000003]
[null,11532.945599999999,31.6142,31.0182,31.268999999999998,97732.37,39.58,31.351299999999998,30.678799999999999,30.989899999999999]
[null,1990.76,55.717700000000001,54.905000000000001,54.264400000000002,34228.949999999997,45.77,55.692999999999998,54.8874,54.249400000000001]
[null,1840.7303999999999,50.904400000000003,49.754800000000003,49.323799999999999,33263.35,45.96,50.86,49.725999999999999,49.298400000000001]
[null,1679.0103999999999,45.851999999999997,44.8874,44.473199999999999,31931.93,46.1,45.7669,44.825099999999999,44.415900000000001]
[null,1499.1384,40.187800000000003,39.590299999999999,39.215499999999999,30195.38,46.1,40.0931,39.515799999999999,39.139800000000001]
[null,6784.4672,56.1235,56.134099999999997,55.325299999999999,85353.35,48.38,55.971800000000002,56.022500000000001,55.222900000000003]
[null,5730.6144000000004,50.687100000000001,50.532200000000003,49.893099999999997,80894.5,48.21,50.460299999999997,50.369199999999999,49.732300000000002]
[null,4704.1440000000002,45.310699999999997,45.433,44.693300000000001,74440.41,47.77,44.978000000000002,45.177500000000002,44.4176]
[null,3820.9623999999999,40.148299999999999,40.555199999999999,39.4358,67235.67,47.35,39.873399999999997,40.322800000000001,39.128799999999998]
[null,516.10080000000005,54.612900000000003,53.3108,53.203000000000003,4006.32,10.33,53.849200000000003,52.741199999999999,52.661299999999997]
[null,415.87520000000001,50.249899999999997,48.994700000000002,48.990900000000003,4084.18,10.35,49.599400000000003,48.495100000000001,48.5182]
[null,341.00799999999998,46.444600000000001,45.139000000000003,45.067700000000002,3841.46,10.4,45.762500000000003,44.626800000000003,44.606299999999997]
[null,264.88319999999999,40.406399999999998,39.6218,39.424799999999998,3825.29,10.34,40.164400000000001,39.383899999999997,39.232399999999998]
[null,3228.6848,48.896700000000003,48.141300000000001,48.4255,18513.03,22.37,48.226100000000002,47.425699999999999,47.840400000000002]
[null,2116.4104000000002,44.192599999999999,43.440399999999997,43.920400000000001,17200.46,21.98,43.536499999999997,42.742899999999999,43.3476]
[null,1351.412,39.682499999999997,39.012900000000002,39.683900000000001,15310.25,21.6,38.990400000000001,38.285600000000002,39.081400000000002]
[null,837.70159999999998,35.591200000000001,34.946399999999997,35.791499999999999,13595.15,21.29,34.889400000000002,34.197099999999999,35.179200000000002]
[null,9742.6584000000003,47.275599999999997,46.681600000000003,46.382300000000001,45379.94,28.55,47.1113,46.480600000000003,46.205199999999998]
[null,5947.3023999999996,42.966900000000003,41.759300000000003,41.902700000000003,38619.980000000003,26.21,42.734400000000001,41.472799999999999,41.653500000000001]
[null,3264.6,38.835099999999997,37.002899999999997,37.539900000000003,32264.720000000001,24.46,38.6145,36.697499999999998,37.3035]
[null,1699.2056,35.011499999999998,33.023200000000003,33.761600000000001,26784.799999999999,23.06,34.860999999999997,32.808399999999999,33.603000000000002]
[null,1205.5974000000001,50.878599999999999,50.3902,50.560200000000002,25931.14,21.63,49.6845,49.185899999999997,49.392499999999998]
[null,721.92700000000002,47.2361,46.587000000000003,46.826300000000003,22792.77,20.57,45.989899999999999,45.277700000000003,45.5931]
[null,441.76029999999997,43.871299999999998,43.157800000000002,43.451099999999997,19778.8,19.690000000000001,42.602600000000002,41.768300000000004,42.156399999999998]
[null,284.93729999999999,40.6372,39.9407,40.183999999999997,17681.8,19.09,39.418100000000003,38.603499999999997,38.991300000000003]
[null,13701.9872,46.221899999999998,45.371899999999997,45.508000000000003,40809.360000000001,45.73,46.210599999999999,45.347200000000001,45.490400000000001]
[null,6545.0591999999997,42.891399999999997,42.011099999999999,42.098100000000002,33301.5,42.66,42.882300000000001,41.997300000000003,42.084600000000002]
[null,3614.48,39.477699999999999,38.759599999999999,38.764499999999998,27910.66,41.61,39.469000000000001,38.750100000000003,38.753700000000002]
[null,2185.2208000000001,35.988500000000002,35.3643,35.312199999999997,24180.92,40.880000000000003,35.9801,35.356400000000001,35.303600000000003]
[null,12979.9136,45.888100000000001,45.430799999999998,45.476500000000001,55511.57,48.51,45.7468,45.304299999999998,45.334600000000002]
[null,7412.6688000000004,42.619500000000002,42.279299999999999,42.230600000000003,47331.02,46.6,42.4285,42.132800000000003,42.056600000000003]
[null,4209.6368000000002,39.229900000000001,39.071599999999997,38.906100000000002,40134.639999999999,44.95,39.020400000000002,38.914200000000001,38.7179]
[null,2453.8560000000002,36.080500000000001,35.986699999999999,35.777000000000001,34207.31,43.72,35.902299999999997,35.859900000000003,35.618699999999997]
[null,5139.0072,47.302,46.733400000000003,46.781500000000001,44774.23,51.27,47.063800000000001,46.536999999999999,46.568300000000001]
[null,3027.4544000000001,43.755899999999997,43.219200000000001,43.21,37493.269999999997,49.55,43.494,43.030999999999999,42.997700000000002]
[null,1863.6135999999999,39.9587,39.645000000000003,39.488599999999998,32559.94,48.4,39.714199999999998,39.470199999999998,39.286099999999998]
[null,1194.4431999999999,36.081200000000003,35.907899999999998,35.7012,28952.6,47.51,35.914900000000003,35.794899999999998,35.5565]
[null,10832.968000000001,40.417299999999997,40.966700000000003,40.225299999999997,41231.58,24.8,40.321100000000001,40.897199999999998,40.122199999999999]
[null,4410.9224000000004,37.009399999999999,37.665999999999997,36.691499999999998,28273.25,19.14,36.961799999999997,37.627099999999999,36.637099999999997]
[null,1681.1271999999999,34.2044,34.969200000000001,33.858600000000003,20279.54,15.51,34.183500000000002,34.948799999999999,33.8352]
[null,702.42319999999995,32.042499999999997,32.842599999999997,31.663900000000002,15858.69,13.58,32.031199999999998,32.829799999999999,31.652799999999999]
[null,21343.168000000001,42.346400000000003,39.952300000000001,42.872100000000003,60180.76,45.05,42.319099999999999,39.883499999999998,42.834000000000003]
[null,8685.8431999999993,39.834099999999999,37.814900000000002,40.215899999999998,38227.32,33.36,39.821300000000001,37.783499999999997,40.195500000000003]
[null,4091.3024,37.235700000000001,35.661799999999999,37.616999999999997,28552.1,28.84,37.228999999999999,35.647399999999998,37.607199999999999]
[null,2063.4784,34.594999999999999,33.476199999999999,35.013100000000001,23947.8,26.47,34.5901,33.468800000000002,35.007300000000001]
[null,45198.64,40.302199999999999,35.7806,38.9377,83083.12,34.880000000000003,40.263800000000003,35.163899999999998,38.872999999999998]
[null,10049.1792,38.916600000000003,32.777500000000003,37.439599999999999,46275.77,23.24,38.8782,32.664200000000001,37.390900000000002]
[null,2942.6864,37.1751,31.898499999999999,35.675600000000003,29253.37,17.690000000000001,37.120899999999999,31.884399999999999,35.612699999999997]
[null,1327.9631999999999,35.176299999999998,31.165600000000001,33.794800000000002,21189.8,14.91,35.122700000000002,31.153099999999998,33.733899999999998]
[null,33677.1584,44.682899999999997,47.219099999999997,47.287300000000002,119099.01,50.3,44.247399999999999,46.982100000000003,47.046900000000001]
[null,20151.088,39.5411,42.642299999999999,42.830800000000004,102794.71,44.97,39.164999999999999,42.406399999999998,42.614199999999997]
[null,11773.417600000001,35.145899999999997,38.406199999999998,38.805300000000003,89753.66,40.020000000000003,34.829700000000003,38.155000000000001,38.594200000000001]
[null,6915.7120000000004,31.372499999999999,34.792700000000004,35.298699999999997,76910.33,36.020000000000003,31.1219,34.5974,35.142099999999999]
[null,1857.5856000000001,54.395899999999997,54.948700000000002,55.182400000000001,31321.91,45.37,54.374000000000002,54.926299999999998,55.160699999999999]
[null,1674.4896000000001,49.285200000000003,49.616300000000003,50.183100000000003,30106.28,45.48,49.238999999999997,49.575800000000001,50.1372]
[null,1481.32,43.946199999999997,44.631,45.079599999999999,28681.06,45.64,43.866300000000003,44.576900000000002,45.019599999999997]
[null,1257.8976,37.8735,39.452399999999997,39.671999999999997,27393.74,45.64,37.806100000000001,39.399900000000002,39.619100000000003]
[null,5673.7232000000004,54.787500000000001,56.0745,55.400599999999997,76362.78,48.22,54.669199999999996,55.932600000000001,55.248899999999999]
[null,4506.1336000000001,49.359000000000002,51.002699999999997,50.136000000000003,72742.44,47.77,49.174500000000002,50.840800000000002,49.929499999999997]
[null,3531.2264,43.665100000000002,46.451099999999997,44.979900000000001,67041.06,47.22,43.408099999999997,46.246200000000002,44.755400000000002]
[null,2679.9384,37.965699999999998,42.116199999999999,40.276800000000001,61162.2,46.55,37.7806,41.913800000000002,40.017000000000003]
[null,418.58479999999997,53.817900000000002,55.608499999999999,55.854900000000001,3889.55,10.33,53.302199999999999,55.396099999999997,55.666899999999998]
[null,336.06319999999999,49.304400000000001,50.676499999999997,51.088500000000003,3830.56,10.34,48.862299999999998,50.565199999999997,50.967100000000002]
[null,257.54160000000002,44.045900000000003,45.105800000000002,45.438499999999998,3719.43,10.35,43.7896,45.039400000000001,45.368499999999997]
[null,183.48320000000001,38.3536,39.557200000000002,40.322000000000003,3633.87,10.32,38.244700000000002,39.484099999999998,40.242100000000001]
[null,2117.0936000000002,47.939100000000003,51.338500000000003,52.8795,16302.94,21.93,47.310299999999998,50.633699999999997,52.268300000000004]
[null,1349.7760000000001,43.322299999999998,47.576500000000003,49.570500000000003,15333.68,21.57,42.6387,46.827800000000003,48.969200000000001]
[null,829.50800000000004,38.776899999999998,43.917700000000004,46.658200000000001,13718.94,21.24,38.052500000000002,43.203899999999997,46.185699999999997]
[null,503.58479999999997,34.916400000000003,40.409199999999998,43.508400000000002,12053.53,20.85,34.273400000000002,39.731400000000001,43.168999999999997]
[null,6133.2111999999997,47.692999999999998,47.318399999999997,48.101799999999997,39777.67,26.45,47.509900000000002,47.147199999999998,47.972700000000003]
[null,3289.9088000000002,43.338200000000001,42.9574,44.174799999999998,33977.85,24.37,43.0976,42.716500000000003,44.040399999999998]
[null,1603.3144,39.120600000000003,39.045299999999997,40.7881,27562.85,23.01,38.905299999999997,38.7836,40.671100000000003]
[null,787.40880000000004,35.2119,36.0642,37.985399999999998,22550.25,21.86,35.090000000000003,35.857799999999997,37.873199999999997]
[null,725.21950000000004,50.659700000000001,55.770699999999998,57.060499999999998,22779.32,20.61,49.454799999999999,54.496600000000001,55.650799999999997]
[null,429.83580000000001,47.008800000000001,52.846800000000002,54.297499999999999,20126.7,19.78,45.720500000000001,51.466000000000001,52.802900000000001]
[null,266.40159999999997,43.520699999999998,50.065199999999997,51.648099999999999,17774.61,19.170000000000002,42.218600000000002,48.537300000000002,50.105400000000003]
[null,171.40989999999999,39.876800000000003,47.2149,49.147500000000001,16133.61,18.7,38.757199999999997,45.649799999999999,47.514699999999998]
[null,6565.9279999999999,46.365200000000002,50.129600000000003,50.168999999999997,33577.54,42.33,46.354599999999998,50.123600000000003,50.160600000000002]
[null,3563.3888000000002,42.9985,46.967100000000002,46.884799999999998,28466.65,41.3,42.988700000000001,46.9636,46.878900000000002]
[null,2099.4256,39.442399999999999,43.689700000000002,43.5779,24426.77,40.909999999999997,39.433500000000002,43.686399999999999,43.573300000000003]
[null,1276.9775999999999,35.645699999999998,40.068300000000001,39.991500000000002,21566.22,40.549999999999997,35.636200000000002,40.063499999999998,39.987000000000002]
[null,7722.8256000000001,46.044600000000003,50.905200000000001,51.918799999999997,46103.07,46.05,45.895800000000001,50.797199999999997,51.810899999999997]
[null,4342.6400000000003,42.647500000000001,48.190100000000001,48.947000000000003,40874.949999999997,44.67,42.454300000000003,48.033299999999997,48.780799999999999]
[null,2404.5151999999998,39.241,45.237200000000001,45.875300000000003,34812.44,43.56,39.0289,45.061,45.677799999999998]
[null,1388.9712,35.8979,42.226300000000002,43.006599999999999,30434.53,42.47,35.728299999999997,41.9801,42.720399999999998]
[null,3087.6136000000001,47.305799999999998,50.537300000000002,50.932499999999997,35630.269999999997,49.23,47.082000000000001,50.4343,50.851399999999998]
[null,1870.136,43.692599999999999,47.046599999999998,47.338200000000001,31051.35,48.1,43.445399999999999,46.944000000000003,47.231099999999998]
[null,1164.9128000000001,39.853999999999999,43.584200000000003,44.018700000000003,28314.63,47.07,39.625799999999998,43.486499999999999,43.898299999999999]
[null,740.26800000000003,35.790300000000002,40.001199999999997,40.551400000000001,26606.94,46.69,35.640999999999998,39.874899999999997,40.361600000000003]
[null,5145.3887999999997,40.9223,44.678600000000003,44.1785,28536.240000000002,20.03,40.846699999999998,44.655000000000001,44.153399999999998]
[null,1881.9023999999999,37.674500000000002,42.243099999999998,41.637999999999998,21255.07,15.87,37.6372,42.231000000000002,41.624000000000002]
[null,723.15039999999999,35.1158,40.403300000000002,39.808799999999998,16406.169999999998,13.63,35.096600000000002,40.395400000000002,39.797499999999999]
[null,316.82319999999999,32.946100000000001,38.723999999999997,38.338200000000001,13512.35,12.48,32.933500000000002,38.717100000000002,38.326799999999999]
[null,10392.120000000001,42.3307,46.532200000000003,48.213000000000001,35879.360000000001,35.83,42.295900000000003,46.527999999999999,48.209499999999998]
[null,4879.9840000000004,39.583799999999997,45.270899999999997,46.637999999999998,26592.1,29.35,39.564399999999999,45.267800000000001,46.634500000000003]
[null,2475.0304000000001,36.82,43.728700000000003,44.773899999999998,22920.55,26.57,36.8078,43.724200000000003,44.768799999999999]
[null,1278.5856000000001,34.032499999999999,42.092100000000002,42.707000000000001,19596.310000000001,24.89,34.023600000000002,42.085799999999999,42.700200000000002]
[null,12671.980799999999,41.820300000000003,38.203400000000002,42.247799999999998,39263.82,25.04,41.778500000000001,38.100499999999997,42.236600000000003]
[null,3471.6224000000002,39.908700000000003,37.422199999999997,41.424999999999997,26367.56,18.04,39.827199999999998,37.416400000000003,41.416800000000002]
[null,1519.1279999999999,37.474800000000002,37.004399999999997,40.512300000000003,19384.84,15,37.359200000000001,37.001199999999997,40.505299999999998]
[null,724.84320000000002,34.999299999999998,36.513300000000001,39.575400000000002,16126.73,13.4,34.892200000000003,36.5105,39.570500000000003]
["LB",55488.502399999998,45.881700000000002,45.6965,45.372199999999999,200899.61,57.53,45.696399999999997,45.498399999999997,45.167099999999998]
[null,34691.892800000001,40.386800000000001,40.424700000000001,40.184199999999997,172654.65,52.25,40.121299999999998,40.155999999999999,39.919400000000003]
[null,20779.848000000002,35.818399999999997,35.658999999999999,35.627600000000001,144849.67000000001,45.99,35.559399999999997,35.357900000000001,35.358899999999998]
[null,12973.497600000001,31.989100000000001,31.4756,31.650700000000001,121499.26,41.45,31.790700000000001,31.226700000000001,31.447900000000001]
[null,1212.5712000000001,54.211300000000001,53.294499999999999,52.905700000000003,42645.96,38.92,54.1494,53.250900000000001,52.876600000000003]
[null,1151.652,49.452500000000001,48.398499999999999,48.084699999999998,42797.67,39.01,49.370399999999997,48.348599999999998,48.057099999999998]
[null,1080.096,44.159399999999998,43.279899999999998,43.079300000000003,42070.36,38.950000000000003,44.008499999999998,43.200800000000001,43.022300000000001]
[null,986.56,38.089599999999997,37.717100000000002,37.446100000000001,38980.800000000003,38.86,37.925600000000003,37.631100000000004,37.358600000000003]
[null,6416.5944,54.539000000000001,54.552100000000003,53.740499999999997,109779.17,47.5,54.479100000000003,54.49,53.694699999999997]
[null,5525.8127999999997,49.224600000000002,49.258800000000001,48.584299999999999,106229.43,47.67,49.078800000000001,49.136400000000002,48.487200000000001]
[null,4656.7496000000001,43.664299999999997,44.079099999999997,43.328000000000003,99510.03,47.34,43.395400000000002,43.8506,43.111800000000002]
[null,3758.8863999999999,38.296500000000002,39.060400000000001,37.838500000000003,90516.66,46.42,38.095999999999997,38.871499999999997,37.614400000000003]
[null,255.7816,52.633699999999997,51.500599999999999,51.4482,6691.03,8.3000000000000007,51.958199999999998,51.012900000000002,50.984499999999997]
[null,206.27359999999999,48.244799999999998,47.124299999999998,47.147399999999998,6463.21,8.34,47.6509,46.6509,46.7119]
[null,166.62559999999999,43.911200000000001,42.844200000000001,42.940100000000001,6424.82,8.2899999999999991,43.3932,42.389099999999999,42.5428]
[null,127.6768,38.736699999999999,37.386800000000001,37.713200000000001,6306.46,8.24,38.444000000000003,37.154600000000002,37.499600000000001]
[null,2658.4792000000002,47.190100000000001,46.518799999999999,46.904400000000003,28829.85,19.75,46.628799999999998,45.967399999999998,46.415199999999999]
[null,1703.9744000000001,42.557899999999997,41.916400000000003,42.4377,25837.91,19.260000000000002,41.9621,41.300199999999997,41.9193]
[null,1056.1448,38.094700000000003,37.4621,38.209400000000002,22595.54,18.66,37.433199999999999,36.805799999999998,37.645600000000002]
[null,629.58399999999995,34.069400000000002,33.374000000000002,34.324800000000003,20110.55,18.02,33.480699999999999,32.744599999999998,33.802300000000002]
[null,10212.6432,46.621299999999998,46.111600000000003,45.788200000000003,65441.18,27.99,46.560200000000002,46.040399999999998,45.711799999999997]
[null,6538.7295999999997,42.444899999999997,41.499299999999998,41.521999999999998,55604.08,25.6,42.346899999999998,41.399500000000003,41.410800000000002]
[null,3638.0672,38.130000000000003,36.773899999999998,37.018700000000003,47675.199999999997,23.45,37.996200000000002,36.636899999999997,36.884]
[null,1787.7991999999999,34.1295,32.487000000000002,32.957999999999998,38922.42,21.32,34.009300000000003,32.357500000000002,32.848300000000002]
[null,1058.241,49.552,49.175600000000003,49.279200000000003,40176.65,19.13,48.510899999999999,48.160299999999999,48.274799999999999]
[null,629.03549999999996,45.885199999999998,45.409100000000002,45.567300000000003,35240.71,18.11,44.865900000000003,44.4,44.5764]
[null,368.54689999999999,42.366799999999998,41.795699999999997,41.993400000000001,30956.880000000001,17.16,41.340400000000002,40.728700000000003,40.9953]
[null,225.27010000000001,38.853499999999997,38.264200000000002,38.4985,28118.14,16.309999999999999,37.9009,37.2164,37.548200000000001]
[null,12623.8208,45.873399999999997,45.140799999999999,45.226900000000001,57823.43,42.14,45.869399999999999,45.128700000000002,45.2196]
[null,5378.9664000000002,42.472499999999997,41.690300000000001,41.759300000000003,45904.22,38.74,42.468699999999998,41.682400000000001,41.752200000000002]
[null,2594.9376000000002,38.970700000000001,38.301699999999997,38.293799999999997,39456.6,36.72,38.967199999999998,38.296300000000002,38.287599999999998]
[null,1377.3776,35.331299999999999,34.747100000000003,34.678899999999999,34398.019999999997,35.200000000000003,35.3292,34.744500000000002,34.6755]
[null,11967.758400000001,45.012900000000002,44.661499999999997,44.678600000000003,79282.91,43.42,44.882300000000001,44.545000000000002,44.548699999999997]
[null,6865.5631999999996,41.7149,41.469799999999999,41.366799999999998,68404.070000000007,41.32,41.555599999999998,41.3429,41.210299999999997]
[null,3710.4047999999998,38.369,38.1845,37.986600000000003,57176.05,39.1,38.168199999999999,38.0289,37.7973]
[null,1971.0032000000001,35.162700000000001,34.958300000000001,34.712299999999999,47447.3,36.92,34.984900000000003,34.824199999999998,34.547400000000003]
[null,3995.2464,46.494799999999998,45.983699999999999,46.002899999999997,65356.03,47.32,46.193199999999997,45.744100000000003,45.747599999999998]
[null,2167.7271999999998,42.875700000000002,42.4452,42.325699999999998,55304.88,44.73,42.568399999999997,42.224499999999999,42.085299999999997]
[null,1186.1984,38.982799999999997,38.706899999999997,38.525100000000002,47290.44,42.43,38.706400000000002,38.5124,38.296500000000002]
[null,674.85519999999997,34.938400000000001,34.822899999999997,34.585999999999999,41025.53,40.549999999999997,34.760399999999997,34.698900000000002,34.423400000000001]
[null,12202.2176,40.1892,40.669800000000002,40.084800000000001,62783.29,27.55,40.137700000000002,40.625,40.026600000000002]
[null,4472.5904,36.506799999999998,37.173200000000001,36.304299999999998,42065.67,20.63,36.472000000000001,37.140900000000002,36.262599999999999]
[null,1543.3463999999999,33.640099999999997,34.389099999999999,33.3294,29576.49,16.03,33.619,34.363999999999997,33.303699999999999]
[null,579.21759999999995,31.415299999999998,32.167200000000001,30.996700000000001,23043.83,13.09,31.401199999999999,32.149700000000003,30.9819]
[null,29083.430400000001,41.945900000000002,40.049199999999999,42.5154,101058.16,54.87,41.912300000000002,39.9923,42.473700000000001]
[null,10885.996800000001,38.997999999999998,37.457799999999999,39.436399999999999,64686.42,38.799999999999997,38.951900000000002,37.406300000000002,39.380600000000001]
[null,4700.3872000000001,36.167999999999999,34.993299999999998,36.5657,46072.42,30.64,36.122,34.951799999999999,36.518599999999999]
[null,2161.1615999999999,33.436900000000001,32.572000000000003,33.810099999999998,35825.980000000003,25.67,33.400799999999997,32.544600000000003,33.776600000000002]
[null,60511.748800000001,40.531500000000001,37.340200000000003,39.252200000000002,123999.34,39.25,40.518599999999999,37.121000000000002,39.223500000000001]
[null,12221.553599999999,39.079300000000003,33.053899999999999,37.647799999999997,80222.87,27.12,39.052399999999999,32.9435,37.6173]
[null,3387.5744,37.214700000000001,31.934200000000001,35.6952,52963.32,19.920000000000002,37.155000000000001,31.919899999999998,35.622700000000002]
[null,1510.5424,35.031500000000001,31.094200000000001,33.6098,38142.980000000003,15.98,34.949399999999997,31.0762,33.525300000000001]
[null,37903.217600000004,45.354199999999999,47.443899999999999,47.533200000000001,161252.87,53.74,45.1708,47.322400000000002,47.409199999999998]
[null,22352.52,40.108899999999998,42.895000000000003,43.023099999999999,135613.47,47.79,39.863700000000001,42.759799999999998,42.896000000000001]
[null,13107.2768,35.756799999999998,38.500100000000003,38.7759,117090.77,41.39,35.518799999999999,38.332000000000001,38.634599999999999]
[null,7638.7456000000002,31.669699999999999,34.520499999999998,34.933,102378.47,36.869999999999997,31.465499999999999,34.366300000000003,34.804400000000001]
[null,1148.9215999999999,52.8429,53.113700000000001,53.406100000000002,40873.42,38.78,52.791800000000002,53.059699999999999,53.348199999999999]
[null,1069.3399999999999,47.542400000000001,47.886099999999999,48.4099,40687.29,38.9,47.449300000000001,47.828600000000002,48.3294]
[null,976.55200000000002,42.229300000000002,42.861400000000003,43.1648,38690.83,38.92,42.094299999999997,42.785899999999998,43.0655]
[null,868.90719999999999,36.291699999999999,37.562800000000003,37.86,37231.61,38.79,36.217300000000002,37.508200000000002,37.8003]
[null,5361.3392000000003,53.175400000000003,54.248399999999997,53.709299999999999,103117.64,47.93,53.116599999999998,54.173400000000001,53.633099999999999]
[null,4361.7695999999996,47.6967,49.3324,48.451500000000003,98405.77,47.69,47.568100000000001,49.225200000000001,48.306699999999999]
[null,3471.7456000000002,41.875500000000002,44.726500000000001,43.573500000000003,93739.04,46.99,41.672199999999997,44.565399999999997,43.384700000000002]
[null,2635.8807999999999,36.651499999999999,40.511899999999997,38.659100000000002,85334.78,45.73,36.510899999999999,40.364400000000003,38.447299999999998]
[null,193.42400000000001,51.8536,53.4191,53.454099999999997,6534.92,8.27,51.321300000000001,53.189,53.219000000000001]
[null,156.31039999999999,47.331600000000002,48.508299999999998,48.720199999999998,6417.6,8.24,46.872,48.324800000000003,48.554900000000004]
[null,121.0256,42.402000000000001,42.952800000000003,43.643900000000002,6285.57,8.2200000000000006,42.102800000000002,42.869300000000003,43.557000000000002]
[null,90.388800000000003,36.813899999999997,38.407400000000003,38.895899999999997,6143.96,8.19,36.651600000000002,38.372100000000003,38.8658]
[null,1603.9983999999999,46.357399999999998,49.444099999999999,51.002099999999999,25833.87,19.13,45.805700000000002,48.807000000000002,50.453699999999998]
[null,1020.52,41.8292,46.045299999999997,48.1798,23270.67,18.68,41.232300000000002,45.372199999999999,47.6907]
[null,618.28880000000004,37.441800000000001,42.417900000000003,45.534100000000002,20481.14,18.04,36.785299999999999,41.785899999999998,45.172199999999997]
[null,368.64960000000002,33.700299999999999,38.723799999999997,42.214799999999997,18070.740000000002,17.649999999999999,33.130800000000001,38.229599999999998,42.033099999999997]
[null,6543.0824000000002,47.144799999999996,46.708199999999998,47.243200000000002,57774.12,25.5,47.074599999999997,46.6295,47.170200000000001]
[null,3595.6352000000002,42.916200000000003,42.507100000000001,43.386499999999998,49718.15,23.46,42.797800000000002,42.388599999999997,43.2971]
[null,1684.896,38.458500000000001,38.568199999999997,39.850099999999998,41197.129999999997,21.73,38.318800000000003,38.397500000000001,39.741300000000003]
[null,748.68719999999996,34.103099999999998,35.491199999999999,37.060600000000001,34489.919999999998,19.87,34.009799999999998,35.308199999999999,36.954999999999998]
[null,615.0752,49.222499999999997,54.313400000000001,55.564300000000003,36318.75,17.93,48.269799999999996,52.863799999999998,53.936300000000003]
[null,353.91359999999997,45.500999999999998,51.3598,52.848599999999998,32495,17.12,44.588799999999999,49.820999999999998,51.156500000000001]
[null,207.0394,41.647599999999997,48.379300000000001,50.039000000000001,28450.03,16.43,40.754300000000001,46.830399999999997,48.425199999999997]
[null,127.3734,37.827199999999998,45.358499999999999,47.357799999999997,25692.67,15.71,37.037999999999997,43.791699999999999,45.8063]
[null,5283.8864000000003,45.989800000000002,49.713000000000001,49.714599999999997,46887.19,38.200000000000003,45.9863,49.709899999999998,49.710900000000002]
[null,2515.5871999999999,42.52,46.442,46.399099999999997,40102.39,36.26,42.515900000000002,46.439900000000002,46.395699999999998]
[null,1313.36,38.890599999999999,43.028599999999997,42.939300000000003,34444,35,38.886600000000001,43.0274,42.937100000000001]
[null,747.93280000000004,35.015000000000001,39.205399999999997,39.094700000000003,30910.54,33.9,35.012500000000003,39.204900000000002,39.093600000000002]
[null,6728.7791999999999,45.041600000000003,50.008400000000002,50.901499999999999,64814.2,40.369999999999997,44.9086,49.907800000000002,50.805199999999999]
[null,3690.2559999999999,41.624200000000002,47.194899999999997,47.960599999999999,57413.91,38.700000000000003,41.457500000000003,47.021700000000003,47.802999999999997]
[null,1948.0288,38.269100000000002,44.305399999999999,45.058199999999999,49732.47,36.99,38.066200000000002,44.098399999999998,44.871299999999998]
[null,1037.8016,34.803199999999997,41.418999999999997,42.278799999999997,42559.02,35.35,34.636899999999997,41.175899999999999,42.0017]
[null,2132.7015999999999,46.484099999999998,49.561799999999998,49.848999999999997,55398.28,44.42,46.1753,49.441800000000001,49.760100000000001]
[null,1176.8607999999999,42.692999999999998,45.8461,46.230800000000002,46786.79,42.3,42.397599999999997,45.746299999999998,46.117699999999999]
[null,665.00080000000003,38.691600000000001,42.155099999999997,42.690600000000003,41938.31,40.44,38.445999999999998,42.023499999999999,42.522199999999998]
[null,394.32159999999999,34.436399999999999,38.607300000000002,39.330399999999997,35661.03,39.04,34.281199999999998,38.3733,39.032699999999998]
[null,5395.7191999999995,40.567300000000003,44.184899999999999,43.580399999999997,41828.550000000003,21.73,40.531100000000002,44.166600000000003,43.559800000000003]
[null,1760.6568,37.129199999999997,41.690399999999997,41.040599999999998,31915.3,16.440000000000001,37.101199999999999,41.675800000000002,41.025599999999997]
[null,611.8184,34.499600000000001,39.771299999999997,39.253,23191.26,13.33,34.478700000000003,39.759700000000002,39.238700000000001]
[null,243.81440000000001,32.228200000000001,37.896299999999997,37.682299999999998,19479.330000000002,11.46,32.212600000000002,37.886899999999997,37.667099999999998]
[null,12565.409600000001,41.875999999999998,46.071399999999997,47.404600000000002,56754.55,41.32,41.830199999999998,46.065300000000001,47.398099999999999]
[null,5382.5263999999997,38.676000000000002,44.598100000000002,45.651600000000002,42231.6,32,38.608499999999999,44.5929,45.6447]
[null,2516.84,35.680700000000002,42.927799999999998,43.6693,33958.82,26.46,35.612900000000003,42.922800000000002,43.661200000000001]
[null,1212.5039999999999,32.817700000000002,41.198599999999999,41.515500000000003,30166.25,22.91,32.770099999999999,41.189599999999999,41.503500000000003]
[null,14612.1376,42.083599999999997,38.461399999999998,42.267699999999998,64016.18,28.8,42.0685,38.3827,42.261000000000003]
[null,3964.2464,40.190100000000001,37.417299999999997,41.305799999999998,43315.58,20.3,40.140700000000002,37.412399999999998,41.295900000000003]
[null,1762.0160000000001,37.560299999999998,36.9131,40.288600000000002,33439.46,16.22,37.435200000000002,36.908299999999997,40.2804]
[null,822.78240000000005,34.835799999999999,36.335599999999999,39.295099999999998,26568.9,13.69,34.679200000000002,36.331400000000002,39.290900000000001]