{"text_format":"1","workbook":"xlsx","n_sheets":6,"sheets":["Summary","AI-SCC","RA-SCC","LB-SCC","Anchor","Test"],"not_rendered":{"charts":0,"images":0,"macros":1,"external_links":0,"defined_names":0,"comments":0,"pivot_tables":0},"unopened":[],"bounds":{"document_bytes":16777216,"sheet_cells":100000,"rows_first":2000,"rows_last":500,"rows_between":2000,"halvings":0,"cell_chars":16384,"cell_head_chars":4096},"cells_cut":0,"cells_raw":0,"read":"whole","date_system":"1900"}

{"sheet":"Summary","index":0,"n_rows":57,"n_cols":9,"rows_kept":57,"cut":false,"hidden":false,"merged":[[55,2,55,5],[56,2,56,5],[36,2,36,5],[37,2,37,5],[40,2,40,5],[41,2,42,2],[41,3,42,3],[41,4,42,4],[41,5,42,5],[3,2,3,5],[4,3,5,3],[18,2,18,5],[21,2,21,5],[22,4,23,4],[22,5,23,5],[4,4,5,4],[4,5,5,5],[19,2,19,5],[4,2,5,2],[22,2,23,2],[22,3,23,3]]}
[]
[null,null,null,null,null,null,null,"Reference:","Anchors (SCM-1.0)"]
[null,null,null,null,null,null,null,"Tested:","Tested (Rnnnn)"]
[null,null,"All Intra"]
[null,null,"Bit-rate saving (Total)","Bit-rate saving (Average)","Bit-rate saving\n(Min)","Bit-rate saving (Max)"]
[]
[null,"RGB, text & graphics with motion, 1080p",{"$f":"'AI-SCC'!AC29","v":8.6369585778267657E-2},{"$f":"'AI-SCC'!AC42","v":8.8413323499429611E-2},{"$f":"'AI-SCC'!AC55","v":3.3934876014067715E-2},{"$f":"'AI-SCC'!AC68","v":0.14639421770987954}]
[null,"RGB, text & graphics with motion,720p",{"$f":"'AI-SCC'!AC30","v":8.799174449463866E-2},{"$f":"'AI-SCC'!AC43","v":6.9967422761311515E-2},{"$f":"'AI-SCC'!AC56","v":1.5311333599031171E-3},{"$f":"'AI-SCC'!AC69","v":0.19397384944798363}]
[null,"RGB, mixed content, 1440p",{"$f":"'AI-SCC'!AC31","v":6.5475098460899064E-3},{"$f":"'AI-SCC'!AC44","v":6.7198635302089266E-3},{"$f":"'AI-SCC'!AC57","v":5.9050457169873855E-3},{"$f":"'AI-SCC'!AC70","v":7.5346813434304678E-3}]
[null,"RGB, mixed content, 1080p",{"$f":"'AI-SCC'!AC32","v":5.785886431683188E-3},{"$f":"'AI-SCC'!AC45","v":5.785886431683188E-3},{"$f":"'AI-SCC'!AC58","v":5.785886431683188E-3},{"$f":"'AI-SCC'!AC71","v":5.785886431683188E-3}]
[null,"RGB, Animation, 720p",{"$f":"'AI-SCC'!AC33","v":-4.0420420248276529E-5},{"$f":"'AI-SCC'!AC46","v":-4.0420420248276529E-5},{"$f":"'AI-SCC'!AC59","v":-4.0420420248276529E-5},{"$f":"'AI-SCC'!AC72","v":-4.0420420248276529E-5}]
[null,"RGB, camera captured, 1080p",{"$f":"'AI-SCC'!AC34","v":-3.3413099096892781E-5},{"$f":"'AI-SCC'!AC47","v":-3.4208250423121091E-5},{"$f":"'AI-SCC'!AC60","v":-3.7767061123718967E-5},{"$f":"'AI-SCC'!AC73","v":-3.0649439722523216E-5}]
[null,"YUV, text & graphics with motion, 1080p",{"$f":"'AI-SCC'!AC35","v":0.10056157348305593},{"$f":"'AI-SCC'!AC48","v":0.10062188467410915},{"$f":"'AI-SCC'!AC61","v":2.7100592522006521E-2},{"$f":"'AI-SCC'!AC74","v":0.17420685958071719}]
[null,"YUV, text & graphics with motion,720p",{"$f":"'AI-SCC'!AC36","v":7.6605541412043621E-2},{"$f":"'AI-SCC'!AC49","v":6.788993624292862E-2},{"$f":"'AI-SCC'!AC62","v":1.3431669694217807E-3},{"$f":"'AI-SCC'!AC75","v":0.16492796378701982}]
[null,"YUV, mixed content, 1440p",{"$f":"'AI-SCC'!AC37","v":3.3671055966420557E-3},{"$f":"'AI-SCC'!AC50","v":3.8065358490430544E-3},{"$f":"'AI-SCC'!AC63","v":9.4857384665795585E-4},{"$f":"'AI-SCC'!AC76","v":6.6644978514281529E-3}]
[null,"YUV, mixed content, 1080p",{"$f":"'AI-SCC'!AC38","v":3.359578568956845E-3},{"$f":"'AI-SCC'!AC51","v":3.359578568956845E-3},{"$f":"'AI-SCC'!AC64","v":3.359578568956845E-3},{"$f":"'AI-SCC'!AC77","v":3.359578568956845E-3}]
[null,"YUV, Animation, 720p",{"$f":"'AI-SCC'!AC39","v":-3.8658612057795446E-5},{"$f":"'AI-SCC'!AC52","v":-3.8658612057795446E-5},{"$f":"'AI-SCC'!AC65","v":-3.8658612057795446E-5},{"$f":"'AI-SCC'!AC78","v":-3.8658612057795446E-5}]
[null,"YUV, camera captured, 1080p",{"$f":"'AI-SCC'!AC40","v":-5.4810042631616253E-5},{"$f":"'AI-SCC'!AC53","v":-5.2839743469161628E-5},{"$f":"'AI-SCC'!AC66","v":-6.288347160805388E-5},{"$f":"'AI-SCC'!AC79","v":-4.2796015330269384E-5}]
[null,"Enc Time[%]",{"$f":"'AI-SCC'!Z82","v":1.0958387694428777}]
[null,"Dec Time[%]",{"$f":"'AI-SCC'!Y82","v":0.95388182241414643}]
[]
[null,null,"Random Access"]
[null,null,"Bit-rate saving (Total)","Bit-rate saving (Average)","Bit-rate saving\n(Min)","Bit-rate saving (Max)"]
[]
[null,"RGB, text & graphics with motion, 1080p",{"$f":"'RA-SCC'!AC29","v":2.0456446646677694E-2},{"$f":"'RA-SCC'!AC42","v":4.3420743076539592E-2},{"$f":"'RA-SCC'!AC55","v":1.6408140201494427E-2},{"$f":"'RA-SCC'!AC68","v":9.5450094471175584E-2}]
[null,"RGB, text & graphics with motion,720p",{"$f":"'RA-SCC'!AC30","v":1.1350350592356362E-2},{"$f":"'RA-SCC'!AC43","v":3.2874536033272624E-2},{"$f":"'RA-SCC'!AC56","v":8.482679788695864E-4},{"$f":"'RA-SCC'!AC69","v":7.1082897507380643E-2}]
[null,"RGB, mixed content, 1440p",{"$f":"'RA-SCC'!AC31","v":6.5418175778655084E-4},{"$f":"'RA-SCC'!AC44","v":6.5709775258171693E-4},{"$f":"'RA-SCC'!AC57","v":6.0695504823466795E-4},{"$f":"'RA-SCC'!AC70","v":7.0724045692876602E-4}]
[null,"RGB, mixed content, 1080p",{"$f":"'RA-SCC'!AC32","v":6.8735597590005723E-4},{"$f":"'RA-SCC'!AC45","v":6.8735597590005723E-4},{"$f":"'RA-SCC'!AC58","v":6.8735597590005723E-4},{"$f":"'RA-SCC'!AC71","v":6.8735597590005723E-4}]
[null,"RGB, Animation, 720p",{"$f":"'RA-SCC'!AC33","v":2.2484359445830376E-6},{"$f":"'RA-SCC'!AC46","v":2.2484359445830376E-6},{"$f":"'RA-SCC'!AC59","v":2.2484359445830376E-6},{"$f":"'RA-SCC'!AC72","v":2.2484359445830376E-6}]
[null,"RGB, camera captured, 1080p",{"$f":"'RA-SCC'!AC34","v":-2.2496365331828733E-5},{"$f":"'RA-SCC'!AC47","v":-2.3244286695049092E-5},{"$f":"'RA-SCC'!AC60","v":-2.7739111125388862E-5},{"$f":"'RA-SCC'!AC73","v":-1.8749462264709319E-5}]
[null,"YUV, text & graphics with motion, 1080p",{"$f":"'RA-SCC'!AC35","v":1.8421395071995621E-2},{"$f":"'RA-SCC'!AC48","v":5.1545769818000194E-2},{"$f":"'RA-SCC'!AC61","v":1.4039155875204542E-2},{"$f":"'RA-SCC'!AC74","v":0.1202143440746813}]
[null,"YUV, text & graphics with motion,720p",{"$f":"'RA-SCC'!AC36","v":9.6091033807832304E-3},{"$f":"'RA-SCC'!AC49","v":3.5614050653515673E-2},{"$f":"'RA-SCC'!AC62","v":4.1010039654226202E-4},{"$f":"'RA-SCC'!AC75","v":8.1367992078624399E-2}]
[null,"YUV, mixed content, 1440p",{"$f":"'RA-SCC'!AC37","v":3.8585534505320844E-4},{"$f":"'RA-SCC'!AC50","v":3.6762020668517595E-4},{"$f":"'RA-SCC'!AC63","v":1.7900989780393907E-4},{"$f":"'RA-SCC'!AC76","v":5.5623051556641281E-4}]
[null,"YUV, mixed content, 1080p",{"$f":"'RA-SCC'!AC38","v":3.9680346862210292E-4},{"$f":"'RA-SCC'!AC51","v":3.9680346862210292E-4},{"$f":"'RA-SCC'!AC64","v":3.9680346862210292E-4},{"$f":"'RA-SCC'!AC77","v":3.9680346862210292E-4}]
[null,"YUV, Animation, 720p",{"$f":"'RA-SCC'!AC39","v":-3.8348282424103804E-5},{"$f":"'RA-SCC'!AC52","v":-3.8348282424103804E-5},{"$f":"'RA-SCC'!AC65","v":-3.8348282424103804E-5},{"$f":"'RA-SCC'!AC78","v":-3.8348282424103804E-5}]
[null,"YUV, camera captured, 1080p",{"$f":"'RA-SCC'!AC40","v":-2.7478513030434507E-5},{"$f":"'RA-SCC'!AC53","v":-2.7489159421786421E-5},{"$f":"'RA-SCC'!AC66","v":-2.7573204483090286E-5},{"$f":"'RA-SCC'!AC79","v":-2.740511436048256E-5}]
[null,"Enc Time[%]",{"$f":"'RA-SCC'!Z82","v":1.0167826959671751}]
[null,"Dec Time[%]",{"$f":"'RA-SCC'!Y82","v":1.0218624070322095}]
[]
[]
[null,null,"Low Delay B"]
[null,null,"Bit-rate saving (Total)","Bit-rate saving (Average)","Bit-rate saving\n(Min)","Bit-rate saving (Max)"]
[]
[null,"RGB, text & graphics with motion, 1080p",{"$f":"'LB-SCC'!AC29","v":1.6617237132381217E-2},{"$f":"'LB-SCC'!AC42","v":2.6189660739799277E-2},{"$f":"'LB-SCC'!AC55","v":8.6941206776538493E-3},{"$f":"'LB-SCC'!AC68","v":5.2924017676588164E-2}]
[null,"RGB, text & graphics with motion,720p",{"$f":"'LB-SCC'!AC30","v":6.9413783273947812E-3},{"$f":"'LB-SCC'!AC43","v":2.144496540307329E-2},{"$f":"'LB-SCC'!AC56","v":4.8097068090654924E-4},{"$f":"'LB-SCC'!AC69","v":4.8194696902495913E-2}]
[null,"RGB, mixed content, 1440p",{"$f":"'LB-SCC'!AC31","v":1.0839471183597751E-4},{"$f":"'LB-SCC'!AC44","v":1.0855751230854125E-4},{"$f":"'LB-SCC'!AC57","v":1.0496050653882405E-4},{"$f":"'LB-SCC'!AC70","v":1.1215451807825843E-4}]
[null,"RGB, mixed content, 1080p",{"$f":"'LB-SCC'!AC32","v":8.2804503737647747E-5},{"$f":"'LB-SCC'!AC45","v":8.2804503737647747E-5},{"$f":"'LB-SCC'!AC58","v":8.2804503737647747E-5},{"$f":"'LB-SCC'!AC71","v":8.2804503737647747E-5}]
[null,"RGB, Animation, 720p",{"$f":"'LB-SCC'!AC33","v":-4.4992406667862002E-5},{"$f":"'LB-SCC'!AC46","v":-4.4992406667862002E-5},{"$f":"'LB-SCC'!AC59","v":-4.4992406667862002E-5},{"$f":"'LB-SCC'!AC72","v":-4.4992406667862002E-5}]
[null,"RGB, camera captured, 1080p",{"$f":"'LB-SCC'!AC34","v":-6.4793181136754172E-6},{"$f":"'LB-SCC'!AC47","v":-1.001693193847857E-5},{"$f":"'LB-SCC'!AC60","v":-3.0577754952981649E-5},{"$f":"'LB-SCC'!AC73","v":1.054389107602451E-5}]
[null,"YUV, text & graphics with motion, 1080p",{"$f":"'LB-SCC'!AC35","v":1.3071889270852764E-2},{"$f":"'LB-SCC'!AC48","v":3.2596187034961116E-2},{"$f":"'LB-SCC'!AC61","v":1.057052800017183E-2},{"$f":"'LB-SCC'!AC74","v":7.5115894634707414E-2}]
[null,"YUV, text & graphics with motion,720p",{"$f":"'LB-SCC'!AC36","v":5.1904509200313993E-3},{"$f":"'LB-SCC'!AC49","v":2.2927545432492577E-2},{"$f":"'LB-SCC'!AC62","v":1.4678300632407369E-4},{"$f":"'LB-SCC'!AC75","v":5.3938924189932867E-2}]
[null,"YUV, mixed content, 1440p",{"$f":"'LB-SCC'!AC37","v":7.0382344269020374E-5},{"$f":"'LB-SCC'!AC50","v":6.594213481657514E-5},{"$f":"'LB-SCC'!AC63","v":1.4298840638614674E-5},{"$f":"'LB-SCC'!AC76","v":1.1758542899453561E-4}]
[null,"YUV, mixed content, 1080p",{"$f":"'LB-SCC'!AC38","v":-3.8889642731516406E-5},{"$f":"'LB-SCC'!AC51","v":-3.8889642731516406E-5},{"$f":"'LB-SCC'!AC64","v":-3.8889642731516406E-5},{"$f":"'LB-SCC'!AC77","v":-3.8889642731516406E-5}]
[null,"YUV, Animation, 720p",{"$f":"'LB-SCC'!AC39","v":-2.0575518031929028E-5},{"$f":"'LB-SCC'!AC52","v":-2.0575518031929028E-5},{"$f":"'LB-SCC'!AC65","v":-2.0575518031929028E-5},{"$f":"'LB-SCC'!AC78","v":-2.0575518031929028E-5}]
[null,"YUV, camera captured, 1080p",{"$f":"'LB-SCC'!AC40","v":-2.7868919672866462E-5},{"$f":"'LB-SCC'!AC53","v":-2.6469079213469995E-5},{"$f":"'LB-SCC'!AC66","v":-3.7013318542030541E-5},{"$f":"'LB-SCC'!AC79","v":-1.5924839884909449E-5}]
[null,"Enc Time[%]",{"$f":"'LB-SCC'!Z82","v":1.0044822196204271}]
[null,"Dec Time[%]",{"$f":"'LB-SCC'!Y82","v":1.0298146775903998}]

{"sheet":"AI-SCC","index":1,"n_rows":83,"n_cols":29,"rows_kept":83,"cut":false,"hidden":false,"merged":[[0,10,0,17],[0,19,0,26],[54,0,66,0],[67,0,79,0],[28,0,40,0],[41,0,53,0]]}
[null,null,null,null,null,null,null,null,null,null,{"$f":"Summary!I2","v":"Anchors (SCM-1.0)"},null,null,null,null,null,null,null,null,{"$f":"Summary!I3","v":"Tested (Rnnnn)"}]
["Class","Sequence","Width","Height","SpP","Bit-depth","FPS","Frames","Total Bits (Uncompressed)","QP","kbps","G/Y MSE","B/U MSE","R/V MSE","Enc T [s]","Dec T [s]","Enc T [h]","Total Bits (Compressed)",null,"kbps","G/Y MSE","B/U MSE","R/V MSE","Enc T [s]","Dec T [s]","Enc T [h]","Total Bits (Compressed)",null,"Overall Bit-rate Saving"]
["RGB, text & graphics with motion, 1080p","sc_flyingGraphics_1920x1080_60_8bit_rgb",1920,1080,3,8,60,300,{"$f":"C3*D3*E3*F3*H3","v":14929920000},0,{"$f":"Anchor!B1","v":185359.416},null,null,null,{"$f":"Anchor!F1","v":12757.36},{"$f":"Anchor!G1","v":67.34},{"$f":"O3/3600","v":3.5437111111111115},{"$f":"K3*1000/$G3*$H3","v":926797080},null,{"$f":"Test!B1","v":179069.2672},null,null,null,{"$f":"Test!F1","v":14065.44},{"$f":"Test!G1","v":62.53},{"$f":"X3/3600","v":3.9070666666666667},{"$f":"T3*1000/$G3*$H3","v":895346336},null,{"$f":"IF(R3,-(AA3-R3)/R3,0)","v":3.3934876014067715E-2}]
[null,"sc_desktop_1920x1080_60_8bit_rgb",1920,1080,3,8,60,600,{"$f":"C4*D4*E4*F4*H4","v":29859840000},0,{"$f":"Anchor!B2","v":82522.652799999996},null,null,null,{"$f":"Anchor!F2","v":18012.29},{"$f":"Anchor!G2","v":98.44},5.0034138888888888,825226528,null,{"$f":"Test!B2","v":70441.813599999994},null,null,null,{"$f":"Test!F2","v":19472.63},{"$f":"Test!G2","v":92.79},5.4090638888888893,704418136,null,0.14639421770987954]
[null,"sc_console_1920x1080_60_8bit_rgb",1920,1080,3,8,60,600,29859840000,0,{"$f":"Anchor!B3","v":64274.828000000001},null,null,null,{"$f":"Anchor!F3","v":16324.18},{"$f":"Anchor!G3","v":91.7},4.5344944444444444,642748280,null,{"$f":"Test!B3","v":58817.196000000004},null,null,null,{"$f":"Test!F3","v":17662.46},{"$f":"Test!G3","v":86.84},4.9062388888888888,588171960,null,8.4910876774341587E-2]
["RGB, text & graphics with motion,720p","sc_web_browsing_1280x720_30_8bit_300_rgb",1280,720,3,8,30,300,6635520000,0,{"$f":"Anchor!B4","v":29148.964800000002},null,null,null,{"$f":"Anchor!F4","v":4798.37},{"$f":"Anchor!G4","v":24.66},1.3328805555555556,291489648,null,{"$f":"Test!B4","v":26995.7696},null,null,null,{"$f":"Test!F4","v":5027.91},{"$f":"Test!G4","v":23.75},1.3966416666666666,269957696,null,7.3868667884905467E-2]
[null,"sc_map_1280x720_60_8bit",1280,720,3,8,60,600,13271040000,0,{"$f":"Anchor!B5","v":184834.0944},null,null,null,{"$f":"Anchor!F5","v":14583.39},{"$f":"Anchor!G5","v":90.3},4.0509416666666667,1848340944.0000002,null,{"$f":"Test!B5","v":148981.11360000001},null,null,null,{"$f":"Test!F5","v":15609.11},{"$f":"Test!G5","v":66.25},4.3358638888888894,1489811136.0000002,null,0.19397384944798363]
[null,"sc_programming_1280x720_60_8bit",1280,720,3,8,60,600,13271040000,0,{"$f":"Anchor!B6","v":163766.59599999999},null,null,null,{"$f":"Anchor!F6","v":12794.8},{"$f":"Anchor!G6","v":84.49},3.5541111111111108,1637665960,null,{"$f":"Test!B6","v":162047.69519999999},null,null,null,{"$f":"Test!F6","v":13966.78},{"$f":"Test!G6","v":83.45},3.8796611111111114,1620476952,null,1.0496040352453806E-2]
[null,"sc_SlideShow_1280x720_20_8bit_500",1280,720,3,8,20,500,11059200000,0,{"$f":"Anchor!B7","v":30007.771499999999},null,null,null,{"$f":"Anchor!F7","v":7942.11},{"$f":"Anchor!G7","v":51.94},2.2061416666666664,750194287.5,null,{"$f":"Test!B7","v":29961.8256},null,null,null,{"$f":"Test!F7","v":8940.69},{"$f":"Test!G7","v":52.82},2.4835250000000002,749045640,null,1.5311333599031171E-3]
["RGB, mixed content, 1440p","Basketball_Screen_2560x1440_60p_8b444",2560,1440,3,8,60,300,26542080000,0,{"$f":"Anchor!B8","v":629633.74080000003},null,null,null,{"$f":"Anchor!F8","v":23062.7},{"$f":"Anchor!G8","v":163.49},6.4063055555555559,3148168704.0000005,null,{"$f":"Test!B8","v":624889.65119999996},null,null,null,{"$f":"Test!F8","v":25523.82},{"$f":"Test!G8","v":161.56},7.08995,3124448256,null,7.5346813434304678E-3]
[null,"MissionControlClip2_2560x1440_60p_8b444",2560,1440,3,8,60,300,26542080000,0,{"$f":"Anchor!B9","v":967457.09920000006},null,null,null,{"$f":"Anchor!F9","v":25206.46},{"$f":"Anchor!G9","v":227.53},7.0017944444444442,4837285496,null,{"$f":"Test!B9","v":961744.22080000001},null,null,null,{"$f":"Test!F9","v":28260.04},{"$f":"Test!G9","v":224.95},7.8500111111111117,4808721104,null,5.9050457169873855E-3]
["RGB, mixed content, 1080p","MissionControlClip3_1920x1080_60p_8b444",1920,1080,3,8,60,600,29859840000,0,{"$f":"Anchor!B10","v":439716.20079999999},null,null,null,{"$f":"Anchor!F10","v":25620.48},{"$f":"Anchor!G10","v":223.93},7.1167999999999996,4397162008,null,{"$f":"Test!B10","v":437172.0528},null,null,null,{"$f":"Test!F10","v":28147.93},{"$f":"Test!G10","v":221.08},7.8188694444444442,4371720528,null,5.785886431683188E-3]
["RGB, Animation, 720p","sc_robot_1280x720_30_8bit_300",1280,720,3,8,30,300,6635520000,0,{"$f":"Anchor!B11","v":272693.84960000002},null,null,null,{"$f":"Anchor!F11","v":13307.65},{"$f":"Anchor!G11","v":96.26},3.6965694444444441,2726938496.0000005,null,{"$f":"Test!B11","v":272704.87199999997},null,null,null,{"$f":"Test!F11","v":15038.33},{"$f":"Test!G11","v":95.75},4.1773138888888885,2727048720,null,-4.0420420248276529E-5]
["RGB, camera captured, 1080p","EBURainFruits_1920x1080_50_10bit_444",1920,1080,3,8,50,250,12441600000,0,{"$f":"Anchor!B12","v":1001414.7168000001},null,null,null,{"$f":"Anchor!F12","v":18951.009999999998},{"$f":"Anchor!G12","v":175.6},5.2641694444444438,5007073584.000001,null,{"$f":"Test!B12","v":1001445.4096},null,null,null,{"$f":"Test!F12","v":22100.2},{"$f":"Test!G12","v":174.45},6.1389444444444443,5007227048,null,-3.0649439722523216E-5]
[null,"Kimono1_1920x1080_24_10bit_444",1920,1080,3,8,24,120,5971968000,0,{"$f":"Anchor!B13","v":635643.84640000004},null,null,null,{"$f":"Anchor!F13","v":10968.52},{"$f":"Anchor!G13","v":102.72},3.0468111111111114,3178219232.0000005,null,{"$f":"Test!B13","v":635667.85279999999},null,null,null,{"$f":"Test!F13","v":12316.83},{"$f":"Test!G13","v":101.36},3.4213416666666667,3178339264,null,-3.7767061123718967E-5]
["YUV, text & graphics with motion, 1080p","sc_flyingGraphics_1920x1080_60_8bit_444",1920,1080,3,8,60,300,14929920000,0,{"$f":"Anchor!B14","v":169844.0208},null,null,null,{"$f":"Anchor!F14","v":12258.45},{"$f":"Anchor!G14","v":66.2},3.4051250000000004,849220104,null,{"$f":"Test!B14","v":165241.14720000001},null,null,null,{"$f":"Test!F14","v":13416.41},{"$f":"Test!G14","v":63.34},3.7267805555555555,826205736,null,2.7100592522006521E-2]
[null,"sc_desktop_1920x1080_60_8bit_444",1920,1080,3,8,60,600,29859840000,0,{"$f":"Anchor!B15","v":84712.792799999996},null,null,null,{"$f":"Anchor!F15","v":17983.84},{"$f":"Anchor!G15","v":100.31},4.995511111111111,847127927.99999988,null,{"$f":"Test!B15","v":69955.243199999997},null,null,null,{"$f":"Test!F15","v":19338.02},{"$f":"Test!G15","v":91.83},5.3716722222222222,699552432,null,0.17420685958071719]
[null,"sc_console_1920x1080_60_8bit_444",1920,1080,3,8,60,600,29859840000,0,{"$f":"Anchor!B16","v":72272.915200000003},null,null,null,{"$f":"Anchor!F16","v":16503.080000000002},{"$f":"Anchor!G16","v":95.7},4.5841888888888898,722729152,null,{"$f":"Test!B16","v":65005.2808},null,null,null,{"$f":"Test!F16","v":17924.12},{"$f":"Test!G16","v":86.49},4.9789222222222218,650052808,null,0.10055820191960377]
["YUV, text & graphics with motion,720p","sc_web_browsing_1280x720_30_8bit_300_444_r1",1280,720,3,8,30,300,6635520000,0,{"$f":"Anchor!B17","v":25345.8472},null,null,null,{"$f":"Anchor!F17","v":4662.17},{"$f":"Anchor!G17","v":23.86},1.2950472222222222,253458472,null,{"$f":"Test!B17","v":22849.621599999999},null,null,null,{"$f":"Test!F17","v":5083.22},{"$f":"Test!G17","v":22.87},1.4120055555555557,228496215.99999997,null,9.8486571796266603E-2]
[null,"sc_map_1280x720_60_8bit_444",1280,720,3,8,60,600,13271040000,0,{"$f":"Anchor!B18","v":154034.1384},null,null,null,{"$f":"Anchor!F18","v":13905.63},{"$f":"Anchor!G18","v":85.62},3.8626749999999999,1540341384,null,{"$f":"Test!B18","v":128629.60159999999},null,null,null,{"$f":"Test!F18","v":14891.7},{"$f":"Test!G18","v":64.52},4.1365833333333333,1286296016,null,0.16492796378701982]
[null,"sc_programming_1280x720_60_8bit_444",1280,720,3,8,60,600,13271040000,0,{"$f":"Anchor!B19","v":137475.8848},null,null,null,{"$f":"Anchor!F19","v":12140.16},{"$f":"Anchor!G19","v":80.989999999999995},3.3722666666666665,1374758848.0000002,null,{"$f":"Test!B19","v":136540.76800000001},null,null,null,{"$f":"Test!F19","v":13065.19},{"$f":"Test!G19","v":80.989999999999995},3.6292194444444448,1365407680,null,6.8020424190063022E-3]
[null,"sc_SlideShow_1280x720_20_8bit_500_444",1280,720,3,8,20,500,11059200000,0,{"$f":"Anchor!B20","v":24250.9686},null,null,null,{"$f":"Anchor!F20","v":7001.73},{"$f":"Anchor!G20","v":49.24},1.9449249999999998,606274215.00000012,null,{"$f":"Test!B20","v":24218.395499999999},null,null,null,{"$f":"Test!F20","v":7330.98},{"$f":"Test!G20","v":49.62},2.0363833333333332,605459887.5,null,1.3431669694217807E-3]
["YUV, mixed content, 1440p","Basketball_Screen_2560x1440_60p_8b444",2560,1440,3,8,60,300,26542080000,0,{"$f":"Anchor!B21","v":519504.52639999997},null,null,null,{"$f":"Anchor!F21","v":21492.65},{"$f":"Anchor!G21","v":158.31},5.9701805555555563,2597522632,null,{"$f":"Test!B21","v":516042.28960000002},null,null,null,{"$f":"Test!F21","v":23511.53},{"$f":"Test!G21","v":155.6},6.5309805555555549,2580211448,null,6.6644978514281529E-3]
[null,"MissionControlClip2_2560x1440_60p_8b444",2560,1440,3,8,60,300,26542080000,0,{"$f":"Anchor!B22","v":708285.18240000005},null,null,null,{"$f":"Anchor!F22","v":22856.13},{"$f":"Anchor!G22","v":203.44},6.3489250000000004,3541425912.0000005,null,{"$f":"Test!B22","v":707613.32160000002},null,null,null,{"$f":"Test!F22","v":24898.9},{"$f":"Test!G22","v":201.79},6.9163611111111116,3538066608.0000005,null,9.4857384665795585E-4]
["YUV, mixed content, 1080p","MissionControlClip3_1920x1080_60p_8b444",1920,1080,3,8,60,600,29859840000,0,{"$f":"Anchor!B23","v":338214.32559999998},null,null,null,{"$f":"Anchor!F23","v":24016.6},{"$f":"Anchor!G23","v":203.39},6.6712777777777772,3382143255.9999995,null,{"$f":"Test!B23","v":337078.06800000003},null,null,null,{"$f":"Test!F23","v":25805.81},{"$f":"Test!G23","v":201.75},7.1682805555555555,3370780680,null,3.359578568956845E-3]
["YUV, Animation, 720p","sc_robot_1280x720_30_8bit_300_444",1280,720,3,8,30,300,6635520000,0,{"$f":"Anchor!B24","v":216583.0472},null,null,null,{"$f":"Anchor!F24","v":12277.26},{"$f":"Anchor!G24","v":88.79},3.4103500000000002,2165830472,null,{"$f":"Test!B24","v":216591.42},null,null,null,{"$f":"Test!F24","v":12935.7},{"$f":"Test!G24","v":87.63},3.5932500000000003,2165914200,null,-3.8658612057795446E-5]
["YUV, camera captured, 1080p","EBURainFruits_1920x1080_50_10bit_444",1920,1080,3,8,50,250,12441600000,0,{"$f":"Anchor!B25","v":790516.152},null,null,null,{"$f":"Anchor!F25","v":18176.3},{"$f":"Anchor!G25","v":173.64},{"$f":"O27/3600","v":5.048972222222222},{"$f":"K27*1000/$G27*$H27","v":3952580760},null,{"$f":"Test!B25","v":790565.86239999998},null,null,null,{"$f":"Test!F25","v":20129.919999999998},{"$f":"Test!G25","v":170.29},{"$f":"X27/3600","v":5.5916444444444435},{"$f":"T27*1000/$G27*$H27","v":3952829312},null,{"$f":"IF(R27,-(AA27-R27)/R27,0)","v":-6.288347160805388E-5}]
[null,"Kimono1_1920x1080_24_10bit_444",1920,1080,3,8,24,120,5971968000,0,{"$f":"Anchor!B26","v":531227.02720000001},null,null,null,{"$f":"Anchor!F26","v":9212.77},{"$f":"Anchor!G26","v":95.43},2.5591027777777779,2656135136,null,{"$f":"Test!B26","v":531249.76159999997},null,null,null,{"$f":"Test!F26","v":11043.34},{"$f":"Test!G26","v":93.7},3.0675944444444445,2656248807.9999995,null,-4.2796015330269384E-5]
["Total",{"$f":"$A3","v":"RGB, text & graphics with motion, 1080p"},null,null,null,null,null,null,{"$f":"SUM(I3:I5)","v":74649600000},null,{"$f":"SUM(K3:K5)","v":332156.89679999999},null,null,null,null,null,null,{"$f":"SUM(R3:R5)","v":2394771888},null,{"$f":"SUM(T3:T5)","v":308328.27679999999},null,null,null,null,null,null,{"$f":"SUM(AA3:AA5)","v":2187936432},null,{"$f":"IF(R29,-(AA29-R29)/R29,0)","v":8.6369585778267657E-2}]
[null,{"$f":"$A6","v":"RGB, text & graphics with motion,720p"},null,null,null,null,null,null,{"$f":"SUM(I6:I9)","v":44236800000},null,{"$f":"SUM(K6:K9)","v":407757.42670000001},null,null,null,null,null,null,{"$f":"SUM(R6:R9)","v":4527690839.5},null,{"$f":"SUM(T6:T9)","v":367986.40399999998},null,null,null,null,null,null,{"$f":"SUM(AA6:AA9)","v":4129291424},null,8.799174449463866E-2]
[null,{"$f":"$A10","v":"RGB, mixed content, 1440p"},null,null,null,null,null,null,{"$f":"SUM(I10:I11)","v":53084160000},null,{"$f":"SUM(K10:K11)","v":1597090.84},null,null,null,null,null,null,{"$f":"SUM(R10:R11)","v":7985454200},null,{"$f":"SUM(T10:T11)","v":1586633.872},null,null,null,null,null,null,{"$f":"SUM(AA10:AA11)","v":7933169360},null,6.5475098460899064E-3]
[null,{"$f":"$A12","v":"RGB, mixed content, 1080p"},null,null,null,null,null,null,{"$f":"SUM(I12:I12)","v":29859840000},null,{"$f":"SUM(K12:K12)","v":439716.20079999999},null,null,null,null,null,null,{"$f":"SUM(R12:R12)","v":4397162008},null,{"$f":"SUM(T12:T12)","v":437172.0528},null,null,null,null,null,null,{"$f":"SUM(AA12:AA12)","v":4371720528},null,5.785886431683188E-3]
[null,{"$f":"$A13","v":"RGB, Animation, 720p"},null,null,null,null,null,null,{"$f":"SUM(I13:I13)","v":6635520000},null,{"$f":"SUM(K13:K13)","v":272693.84960000002},null,null,null,null,null,null,{"$f":"SUM(R13:R13)","v":2726938496.0000005},null,{"$f":"SUM(T13:T13)","v":272704.87199999997},null,null,null,null,null,null,{"$f":"SUM(AA13:AA13)","v":2727048720},null,-4.0420420248276529E-5]
[null,"RGB, camera captured, 1080p",null,null,null,null,null,null,{"$f":"SUM(I14:I15)","v":18413568000},null,{"$f":"SUM(K14:K15)","v":1637058.5632000002},null,null,null,null,null,null,{"$f":"SUM(R14:R15)","v":8185292816.0000019},null,{"$f":"SUM(T14:T15)","v":1637113.2623999999},null,null,null,null,null,null,{"$f":"SUM(AA14:AA15)","v":8185566312},null,-3.3413099096892781E-5]
[null,{"$f":"$A16","v":"YUV, text & graphics with motion, 1080p"},null,null,null,null,null,null,{"$f":"SUM(I16:I18)","v":74649600000},null,{"$f":"SUM(K16:K18)","v":326829.72879999998},null,null,null,null,null,null,{"$f":"SUM(R16:R18)","v":2419077184},null,{"$f":"SUM(T16:T18)","v":300201.67119999998},null,null,null,null,null,null,{"$f":"SUM(AA16:AA18)","v":2175810976},null,0.10056157348305593]
[null,{"$f":"$A19","v":"YUV, text & graphics with motion,720p"},null,null,null,null,null,null,{"$f":"SUM(I19:I22)","v":44236800000},null,{"$f":"SUM(K19:K22)","v":341106.83900000004},null,null,null,null,null,null,{"$f":"SUM(R19:R22)","v":3774832919},null,{"$f":"SUM(T19:T22)","v":312238.38670000003},null,null,null,null,null,null,{"$f":"SUM(AA19:AA22)","v":3485659799.5},null,7.6605541412043621E-2]
[null,{"$f":"$A23","v":"YUV, mixed content, 1440p"},null,null,null,null,null,null,{"$f":"SUM(I23:I24)","v":53084160000},null,{"$f":"SUM(K23:K24)","v":1227789.7088000001},null,null,null,null,null,null,{"$f":"SUM(R23:R24)","v":6138948544},null,{"$f":"SUM(T23:T24)","v":1223655.6112000002},null,null,null,null,null,null,{"$f":"SUM(AA23:AA24)","v":6118278056},null,3.3671055966420557E-3]
[null,{"$f":"$A25","v":"YUV, mixed content, 1080p"},null,null,null,null,null,null,{"$f":"SUM(I25:I25)","v":29859840000},null,{"$f":"SUM(K25:K25)","v":338214.32559999998},null,null,null,null,null,null,{"$f":"SUM(R25:R25)","v":3382143255.9999995},null,{"$f":"SUM(T25:T25)","v":337078.06800000003},null,null,null,null,null,null,{"$f":"SUM(AA25:AA25)","v":3370780680},null,3.359578568956845E-3]
[null,{"$f":"$A26","v":"YUV, Animation, 720p"},null,null,null,null,null,null,{"$f":"SUM(I26:I26)","v":6635520000},null,{"$f":"SUM(K26:K26)","v":216583.0472},null,null,null,null,null,null,{"$f":"SUM(R26:R26)","v":2165830472},null,{"$f":"SUM(T26:T26)","v":216591.42},null,null,null,null,null,null,{"$f":"SUM(AA26:AA26)","v":2165914200},null,-3.8658612057795446E-5]
[null,"YUV, camera captured, 1080p",null,null,null,null,null,null,{"$f":"SUM(I27:I28)","v":18413568000},null,{"$f":"SUM(K27:K28)","v":1321743.1792000001},null,null,null,null,null,null,{"$f":"SUM(R27:R28)","v":6608715896},null,{"$f":"SUM(T27:T28)","v":1321815.6239999998},null,null,null,null,null,null,{"$f":"SUM(AA27:AA28)","v":6609078120},null,-5.4810042631616253E-5]
[null,"Total Average",null,null,null,null,null,null,{"$f":"SUM(I3:I28)","v":453758976000},null,{"$f":"SUM(K3:K28)","v":8458740.6056999993},null,null,null,null,null,null,{"$f":"SUM(R3:R28)","v":54706858518.5},null,{"$f":"SUM(T3:T28)","v":8321519.5210999995},null,null,null,null,null,null,{"$f":"SUM(AA3:AA28)","v":53460254607.5},null,2.278697671112738E-2]
["Average","RGB, text & graphics with motion, 1080p",null,null,null,null,null,null,null,null,null,null,null,null,null,null,null,null,null,null,null,null,null,null,null,null,null,null,{"$f":"AVERAGE(AC3:AC5)","v":8.8413323499429611E-2}]
[null,"RGB, text & graphics with motion,720p",null,null,null,null,null,null,null,null,null,null,null,null,null,null,null,null,null,null,null,null,null,null,null,null,null,null,{"$f":"AVERAGE(AC6:AC9)","v":6.9967422761311515E-2}]
[null,"RGB, mixed content, 1440p",null,null,null,null,null,null,null,null,null,null,null,null,null,null,null,null,null,null,null,null,null,null,null,null,null,null,{"$f":"AVERAGE(AC10:AC11)","v":6.7198635302089266E-3}]
[null,"RGB, mixed content, 1080p",null,null,null,null,null,null,null,null,null,null,null,null,null,null,null,null,null,null,null,null,null,null,null,null,null,null,{"$f":"AVERAGE(AC12:AC12)","v":5.785886431683188E-3}]
[null,"RGB, Animation, 720p",null,null,null,null,null,null,null,null,null,null,null,null,null,null,null,null,null,null,null,null,null,null,null,null,null,null,{"$f":"AVERAGE(AC13:AC13)","v":-4.0420420248276529E-5}]
[null,"RGB, camera captured, 1080p",null,null,null,null,null,null,null,null,null,null,null,null,null,null,null,null,null,null,null,null,null,null,null,null,null,null,{"$f":"AVERAGE(AC14:AC15)","v":-3.4208250423121091E-5}]
[null,"YUV, text & graphics with motion, 1080p",null,null,null,null,null,null,null,null,null,null,null,null,null,null,null,null,null,null,null,null,null,null,null,null,null,null,{"$f":"AVERAGE(AC16:AC18)","v":0.10062188467410915}]
[null,"YUV, text & graphics with motion,720p",null,null,null,null,null,null,null,null,null,null,null,null,null,null,null,null,null,null,null,null,null,null,null,null,null,null,{"$f":"AVERAGE(AC19:AC22)","v":6.788993624292862E-2}]
[null,"YUV, mixed content, 1440p",null,null,null,null,null,null,null,null,null,null,null,null,null,null,null,null,null,null,null,null,null,null,null,null,null,null,{"$f":"AVERAGE(AC23:AC24)","v":3.8065358490430544E-3}]
[null,"YUV, mixed content, 1080p",null,null,null,null,null,null,null,null,null,null,null,null,null,null,null,null,null,null,null,null,null,null,null,null,null,null,{"$f":"AVERAGE(AC25:AC25)","v":3.359578568956845E-3}]
[null,"YUV, Animation, 720p",null,null,null,null,null,null,null,null,null,null,null,null,null,null,null,null,null,null,null,null,null,null,null,null,null,null,{"$f":"AVERAGE(AC26:AC26)","v":-3.8658612057795446E-5}]
[null,"YUV, camera captured, 1080p",null,null,null,null,null,null,null,null,null,null,null,null,null,null,null,null,null,null,null,null,null,null,null,null,null,null,{"$f":"AVERAGE(AC27:AC28)","v":-5.2839743469161628E-5}]
[null,"Overall Average",null,null,null,null,null,null,null,null,null,null,null,null,null,null,null,null,null,null,null,null,null,null,null,null,null,null,{"$f":"AVERAGE(AC3:AC28)","v":4.417231343371654E-2}]
["Min","RGB, text & graphics with motion, 1080p",null,null,null,null,null,null,null,null,{"$f":"MIN(K$3:K$5)","v":64274.828000000001},null,null,null,null,null,null,{"$f":"MIN(R$3:R$5)","v":642748280},null,{"$f":"MIN(T$3:T$5)","v":58817.196000000004},null,null,null,null,null,null,{"$f":"MIN(AA$3:AA$5)","v":588171960},null,{"$f":"MIN(AC$3:AC$5)","v":3.3934876014067715E-2}]
[null,"RGB, text & graphics with motion,720p",null,null,null,null,null,null,null,null,{"$f":"MIN(K$6:K$9)","v":29148.964800000002},null,null,null,null,null,null,{"$f":"MIN(R$6:R$9)","v":291489648},null,{"$f":"MIN(T$6:T$9)","v":26995.7696},null,null,null,null,null,null,{"$f":"MIN(AA$6:AA$9)","v":269957696},null,{"$f":"MIN(AC$6:AC$9)","v":1.5311333599031171E-3}]
[null,"RGB, mixed content, 1440p",null,null,null,null,null,null,null,null,{"$f":"MIN(K$10:K$11)","v":629633.74080000003},null,null,null,null,null,null,{"$f":"MIN(R$10:R$11)","v":3148168704.0000005},null,{"$f":"MIN(T$10:T$11)","v":624889.65119999996},null,null,null,null,null,null,{"$f":"MIN(AA$10:AA$11)","v":3124448256},null,{"$f":"MIN(AC$10:AC$11)","v":5.9050457169873855E-3}]
[null,"RGB, mixed content, 1080p",null,null,null,null,null,null,null,null,{"$f":"MIN(K$12:K$12)","v":439716.20079999999},null,null,null,null,null,null,{"$f":"MIN(R$12:R$12)","v":4397162008},null,{"$f":"MIN(T$12:T$12)","v":437172.0528},null,null,null,null,null,null,{"$f":"MIN(AA$12:AA$12)","v":4371720528},null,{"$f":"MIN(AC$12:AC$12)","v":5.785886431683188E-3}]
[null,"RGB, Animation, 720p",null,null,null,null,null,null,null,null,{"$f":"MIN(K$13:K$13)","v":272693.84960000002},null,null,null,null,null,null,{"$f":"MIN(R$13:R$13)","v":2726938496.0000005},null,{"$f":"MIN(T$13:T$13)","v":272704.87199999997},null,null,null,null,null,null,{"$f":"MIN(AA$13:AA$13)","v":2727048720},null,{"$f":"MIN(AC$13:AC$13)","v":-4.0420420248276529E-5}]
[null,"RGB, camera captured, 1080p",null,null,null,null,null,null,null,null,{"$f":"MIN(K14:K15)","v":635643.84640000004},null,null,null,null,null,null,{"$f":"MIN(R14:R15)","v":3178219232.0000005},null,{"$f":"MIN(T14:T15)","v":635667.85279999999},null,null,null,null,null,null,{"$f":"MIN(AA14:AA15)","v":3178339264},null,{"$f":"MIN(AC14:AC15)","v":-3.7767061123718967E-5}]
[null,"YUV, text & graphics with motion, 1080p",null,null,null,null,null,null,null,null,{"$f":"MIN(K$16:K$18)","v":72272.915200000003},null,null,null,null,null,null,{"$f":"MIN(R$16:R$18)","v":722729152},null,{"$f":"MIN(T$16:T$18)","v":65005.2808},null,null,null,null,null,null,{"$f":"MIN(AA$16:AA$18)","v":650052808},null,{"$f":"MIN(AC$16:AC$18)","v":2.7100592522006521E-2}]
[null,"YUV, text & graphics with motion,720p",null,null,null,null,null,null,null,null,{"$f":"MIN(K$19:K$22)","v":24250.9686},null,null,null,null,null,null,{"$f":"MIN(R$19:R$22)","v":253458472},null,{"$f":"MIN(T$19:T$22)","v":22849.621599999999},null,null,null,null,null,null,{"$f":"MIN(AA$19:AA$22)","v":228496215.99999997},null,{"$f":"MIN(AC$19:AC$22)","v":1.3431669694217807E-3}]
[null,"YUV, mixed content, 1440p",null,null,null,null,null,null,null,null,{"$f":"MIN(K$23:K$24)","v":519504.52639999997},null,null,null,null,null,null,{"$f":"MIN(R$23:R$24)","v":2597522632},null,{"$f":"MIN(T$23:T$24)","v":516042.28960000002},null,null,null,null,null,null,{"$f":"MIN(AA$23:AA$24)","v":2580211448},null,{"$f":"MIN(AC$23:AC$24)","v":9.4857384665795585E-4}]
[null,"YUV, mixed content, 1080p",null,null,null,null,null,null,null,null,{"$f":"MIN(K$25:K$25)","v":338214.32559999998},null,null,null,null,null,null,{"$f":"MIN(R$25:R$25)","v":3382143255.9999995},null,{"$f":"MIN(T$25:T$25)","v":337078.06800000003},null,null,null,null,null,null,{"$f":"MIN(AA$25:AA$25)","v":3370780680},null,{"$f":"MIN(AC$25:AC$25)","v":3.359578568956845E-3}]
[null,"YUV, Animation, 720p",null,null,null,null,null,null,null,null,{"$f":"MIN(K$26:K$26)","v":216583.0472},null,null,null,null,null,null,{"$f":"MIN(R$26:R$26)","v":2165830472},null,{"$f":"MIN(T$26:T$26)","v":216591.42},null,null,null,null,null,null,{"$f":"MIN(AA$26:AA$26)","v":2165914200},null,{"$f":"MIN(AC$26:AC$26)","v":-3.8658612057795446E-5}]
[null,"YUV, camera captured, 1080p",null,null,null,null,null,null,null,null,{"$f":"MIN(K27:K28)","v":531227.02720000001},null,null,null,null,null,null,{"$f":"MIN(R27:R28)","v":2656135136},null,{"$f":"MIN(T27:T28)","v":531249.76159999997},null,null,null,null,null,null,{"$f":"MIN(AA27:AA28)","v":2656248807.9999995},null,{"$f":"MIN(AC27:AC28)","v":-6.288347160805388E-5}]
[null,"Overall Min",null,null,null,null,null,null,null,null,{"$f":"MIN(K$3:K$28)","v":24250.9686},null,null,null,null,null,null,{"$f":"MIN(R$3:R$28)","v":253458472},null,{"$f":"MIN(T$3:T$28)","v":22849.621599999999},null,null,null,null,null,null,{"$f":"MIN(AA$3:AA$28)","v":228496215.99999997},null,{"$f":"MIN(AC$3:AC$28)","v":-6.288347160805388E-5}]
["Max","RGB, text & graphics with motion, 1080p",null,null,null,null,null,null,null,null,{"$f":"MAX(K$3:K$5)","v":185359.416},null,null,null,null,null,null,{"$f":"MAX(R$3:R$5)","v":926797080},null,{"$f":"MAX(T$3:T$5)","v":179069.2672},null,null,null,null,null,null,{"$f":"MAX(AA$3:AA$5)","v":895346336},null,{"$f":"MAX(AC$3:AC$5)","v":0.14639421770987954}]
[null,"RGB, text & graphics with motion,720p",null,null,null,null,null,null,null,null,{"$f":"MAX(K$6:K$9)","v":184834.0944},null,null,null,null,null,null,{"$f":"MAX(R$6:R$9)","v":1848340944.0000002},null,{"$f":"MAX(T$6:T$9)","v":162047.69519999999},null,null,null,null,null,null,{"$f":"MAX(AA$6:AA$9)","v":1620476952},null,{"$f":"MAX(AC$6:AC$9)","v":0.19397384944798363}]
[null,"RGB, mixed content, 1440p",null,null,null,null,null,null,null,null,{"$f":"MAX(K$10:K$11)","v":967457.09920000006},null,null,null,null,null,null,{"$f":"MAX(R$10:R$11)","v":4837285496},null,{"$f":"MAX(T$10:T$11)","v":961744.22080000001},null,null,null,null,null,null,{"$f":"MAX(AA$10:AA$11)","v":4808721104},null,{"$f":"MAX(AC$10:AC$11)","v":7.5346813434304678E-3}]
[null,"RGB, mixed content, 1080p",null,null,null,null,null,null,null,null,{"$f":"MAX(K$12:K$12)","v":439716.20079999999},null,null,null,null,null,null,{"$f":"MAX(R$12:R$12)","v":4397162008},null,{"$f":"MAX(T$12:T$12)","v":437172.0528},null,null,null,null,null,null,{"$f":"MAX(AA$12:AA$12)","v":4371720528},null,{"$f":"MAX(AC$12:AC$12)","v":5.785886431683188E-3}]
[null,"RGB, Animation, 720p",null,null,null,null,null,null,null,null,{"$f":"MAX(K$13:K$13)","v":272693.84960000002},null,null,null,null,null,null,{"$f":"MAX(R$13:R$13)","v":2726938496.0000005},null,{"$f":"MAX(T$13:T$13)","v":272704.87199999997},null,null,null,null,null,null,{"$f":"MAX(AA$13:AA$13)","v":2727048720},null,{"$f":"MAX(AC$13:AC$13)","v":-4.0420420248276529E-5}]
[null,"RGB, camera captured, 1080p",null,null,null,null,null,null,null,null,{"$f":"MAX(K14:K15)","v":1001414.7168000001},null,null,null,null,null,null,{"$f":"MAX(R14:R15)","v":5007073584.000001},null,{"$f":"MAX(T14:T15)","v":1001445.4096},null,null,null,null,null,null,{"$f":"MAX(AA14:AA15)","v":5007227048},null,{"$f":"MAX(AC14:AC15)","v":-3.0649439722523216E-5}]
[null,"YUV, text & graphics with motion, 1080p",null,null,null,null,null,null,null,null,{"$f":"MAX(K$16:K$18)","v":169844.0208},null,null,null,null,null,null,{"$f":"MAX(R$16:R$18)","v":849220104},null,{"$f":"MAX(T$16:T$18)","v":165241.14720000001},null,null,null,null,null,null,{"$f":"MAX(AA$16:AA$18)","v":826205736},null,{"$f":"MAX(AC$16:AC$18)","v":0.17420685958071719}]
[null,"YUV, text & graphics with motion,720p",null,null,null,null,null,null,null,null,{"$f":"MAX(K$19:K$22)","v":154034.1384},null,null,null,null,null,null,{"$f":"MAX(R$19:R$22)","v":1540341384},null,{"$f":"MAX(T$19:T$22)","v":136540.76800000001},null,null,null,null,null,null,{"$f":"MAX(AA$19:AA$22)","v":1365407680},null,{"$f":"MAX(AC$19:AC$22)","v":0.16492796378701982}]
[null,"YUV, mixed content, 1440p",null,null,null,null,null,null,null,null,{"$f":"MAX(K$23:K$24)","v":708285.18240000005},null,null,null,null,null,null,{"$f":"MAX(R$23:R$24)","v":3541425912.0000005},null,{"$f":"MAX(T$23:T$24)","v":707613.32160000002},null,null,null,null,null,null,{"$f":"MAX(AA$23:AA$24)","v":3538066608.0000005},null,{"$f":"MAX(AC$23:AC$24)","v":6.6644978514281529E-3}]
[null,"YUV, mixed content, 1080p",null,null,null,null,null,null,null,null,{"$f":"MAX(K$25:K$25)","v":338214.32559999998},null,null,null,null,null,null,{"$f":"MAX(R$25:R$25)","v":3382143255.9999995},null,{"$f":"MAX(T$25:T$25)","v":337078.06800000003},null,null,null,null,null,null,{"$f":"MAX(AA$25:AA$25)","v":3370780680},null,{"$f":"MAX(AC$25:AC$25)","v":3.359578568956845E-3}]
[null,"YUV, Animation, 720p",null,null,null,null,null,null,null,null,{"$f":"MAX(K$26:K$26)","v":216583.0472},null,null,null,null,null,null,{"$f":"MAX(R$26:R$26)","v":2165830472},null,{"$f":"MAX(T$26:T$26)","v":216591.42},null,null,null,null,null,null,{"$f":"MAX(AA$26:AA$26)","v":2165914200},null,{"$f":"MAX(AC$26:AC$26)","v":-3.8658612057795446E-5}]
[null,"YUV, camera captured, 1080p",null,null,null,null,null,null,null,null,{"$f":"MAX(K27:K28)","v":790516.152},null,null,null,null,null,null,{"$f":"MAX(R27:R28)","v":3952580760},null,{"$f":"MAX(T27:T28)","v":790565.86239999998},null,null,null,null,null,null,{"$f":"MAX(AA27:AA28)","v":3952829312},null,{"$f":"MAX(AC27:AC28)","v":-4.2796015330269384E-5}]
[null,"Overall Max",null,null,null,null,null,null,null,null,{"$f":"MAX(K$3:K$28)","v":1001414.7168000001},null,null,null,null,null,null,{"$f":"MAX(R$3:R$28)","v":5007073584.000001},null,{"$f":"MAX(T$3:T$28)","v":1001445.4096},null,null,null,null,null,null,{"$f":"MAX(AA$3:AA$28)","v":5007227048},null,{"$f":"MAX(AC$3:AC$28)","v":0.19397384944798363}]
[null,"Time geomean",null,null,null,null,null,null,null,null,null,null,null,null,null,{"$f":"GEOMEAN(P3:P28)","v":96.794793716808016},{"$f":"GEOMEAN(O3:O28)","v":13911.677044179578},null,null,null,null,null,null,null,{"$f":"GEOMEAN(Y3:Y28)","v":92.330794230790204},{"$f":"GEOMEAN(X3:X28)","v":15244.95505298048}]
[null,"Time ratio",null,null,null,null,null,null,null,null,null,null,null,null,null,null,null,null,null,null,null,null,null,null,{"$f":"Y81/P81","v":0.95388182241414643},{"$f":"Z81/Q81","v":1.0958387694428777}]
[null,"Time sum (hours)",null,null,null,null,null,null,null,null,null,null,null,null,null,{"$f":"SUM(P3:P28)/3600","v":0.81203333333333327},{"$f":"SUM(Q3:Q28)","v":110.22669166666664},null,null,null,null,null,null,null,{"$f":"SUM(Y3:Y28)/3600","v":0.78277777777777768},{"$f":"SUM(Z3:Z28)","v":120.97416944444443}]

{"sheet":"RA-SCC","index":2,"n_rows":83,"n_cols":29,"rows_kept":83,"cut":false,"hidden":false,"merged":[[67,0,79,0],[0,10,0,17],[0,19,0,26],[28,0,40,0],[41,0,53,0],[54,0,66,0]]}
[null,null,null,null,null,null,null,null,null,null,{"$f":"Summary!I2","v":"Anchors (SCM-1.0)"},null,null,null,null,null,null,null,null,{"$f":"Summary!I3","v":"Tested (Rnnnn)"}]
["Class","Sequence","Width","Height","SpP","Bit-depth","FPS","Frames","Total Bits (Uncompressed)","QP","kbps","G/Y MSE","B/U MSE","R/V MSE","Enc T [s]","Dec T [s]","Enc T [h]","Total Bits (Compressed)",null,"kbps","G/Y MSE","B/U MSE","R/V MSE","Enc T [s]","Dec T [s]","Enc T [h]","Total Bits (Compressed)",null,"Overall Bit-rate Saving"]
["RGB, text & graphics with motion, 1080p","sc_flyingGraphics_1920x1080_60_8bit_rgb",1920,1080,3,8,60,300,{"$f":"C3*D3*E3*F3*H3","v":14929920000},0,{"$f":"Anchor!B27","v":154318.15040000001},null,null,null,{"$f":"Anchor!F27","v":104006.41},{"$f":"Anchor!G27","v":64.180000000000007},{"$f":"O3/3600","v":28.890669444444445},{"$f":"K3*1000/$G3*$H3","v":771590752},null,{"$f":"Test!B27","v":151478.07999999999},null,null,null,{"$f":"Test!F27","v":104153.47},{"$f":"Test!G27","v":62.46},{"$f":"X3/3600","v":28.931519444444444},{"$f":"T3*1000/$G3*$H3","v":757390400},null,{"$f":"IF(R3,-(AA3-R3)/R3,0)","v":1.8403994556948758E-2}]
[null,"sc_desktop_1920x1080_60_8bit_rgb",1920,1080,3,8,60,600,{"$f":"C4*D4*E4*F4*H4","v":29859840000},0,{"$f":"Anchor!B28","v":2689.4976000000001},null,null,null,{"$f":"Anchor!F28","v":23609.73},{"$f":"Anchor!G28","v":46.71},6.5582583333333329,26894976,null,{"$f":"Test!B28","v":2432.7847999999999},null,null,null,{"$f":"Test!F28","v":24016.66},{"$f":"Test!G28","v":48.87},6.6712944444444444,24327848,null,9.5450094471175584E-2]
[null,"sc_console_1920x1080_60_8bit_rgb",1920,1080,3,8,60,600,29859840000,0,{"$f":"Anchor!B29","v":10703.224},null,null,null,{"$f":"Anchor!F29","v":52370.05},{"$f":"Anchor!G29","v":48.54},14.547236111111111,107032240.00000001,null,{"$f":"Test!B29","v":10527.603999999999},null,null,null,{"$f":"Test!F29","v":52900.32},{"$f":"Test!G29","v":50.68},14.694533333333334,105276040.00000001,null,1.6408140201494427E-2]
["RGB, text & graphics with motion,720p","sc_web_browsing_1280x720_30_8bit_300_rgb",1280,720,3,8,30,300,6635520000,0,{"$f":"Anchor!B30","v":1361.1232},null,null,null,{"$f":"Anchor!F30","v":2988.92},{"$f":"Anchor!G30","v":10.61},0.83025555555555552,13611232,null,{"$f":"Test!B30","v":1281.7352000000001},null,null,null,{"$f":"Test!F30","v":3073.01},{"$f":"Test!G30","v":11.15},0.85361388888888889,12817352.000000002,null,5.8325359526602595E-2]
[null,"sc_map_1280x720_60_8bit",1280,720,3,8,60,600,13271040000,0,{"$f":"Anchor!B31","v":13063.0128},null,null,null,{"$f":"Anchor!F31","v":15048.15},{"$f":"Anchor!G31","v":24.68},4.1800416666666669,130630128,null,{"$f":"Test!B31","v":12134.456},null,null,null,{"$f":"Test!F31","v":15238.33},{"$f":"Test!G31","v":25.09},4.2328694444444448,121344559.99999999,null,7.1082897507380643E-2]
[null,"sc_programming_1280x720_60_8bit",1280,720,3,8,60,600,13271040000,0,{"$f":"Anchor!B32","v":62082.267999999996},null,null,null,{"$f":"Anchor!F32","v":47337.94},{"$f":"Anchor!G32","v":47.93},13.149427777777779,620822680,null,{"$f":"Test!B32","v":62029.605600000003},null,null,null,{"$f":"Test!F32","v":48591.58},{"$f":"Test!G32","v":48.83},13.497661111111112,620296056,null,8.482679788695864E-4]
[null,"sc_SlideShow_1280x720_20_8bit_500",1280,720,3,8,20,500,11059200000,0,{"$f":"Anchor!B33","v":7606.6},null,null,null,{"$f":"Anchor!F33","v":25312.240000000002},{"$f":"Anchor!G33","v":26.48},7.0311777777777786,190165000,null,{"$f":"Test!B33","v":7597.1554999999998},null,null,null,{"$f":"Test!F33","v":25045.95},{"$f":"Test!G33","v":27.31},6.9572083333333339,189928887.5,null,1.2416191202376883E-3]
["RGB, mixed content, 1440p","Basketball_Screen_2560x1440_60p_8b444",2560,1440,3,8,60,300,26542080000,0,{"$f":"Anchor!B34","v":136310.5888},null,null,null,{"$f":"Anchor!F34","v":37493.19},{"$f":"Anchor!G34","v":59.1},10.414775000000001,681552944.00000012,null,{"$f":"Test!B34","v":136227.85440000001},null,null,null,{"$f":"Test!F34","v":36930.160000000003},{"$f":"Test!G34","v":61.06},10.258377777777779,681139272.00000012,null,6.0695504823466795E-4]
[null,"MissionControlClip2_2560x1440_60p_8b444",2560,1440,3,8,60,300,26542080000,0,{"$f":"Anchor!B35","v":121327.9008},null,null,null,{"$f":"Anchor!F35","v":45412.03},{"$f":"Anchor!G35","v":64.650000000000006},12.614452777777778,606639504,null,{"$f":"Test!B35","v":121242.0928},null,null,null,{"$f":"Test!F35","v":46054.5},{"$f":"Test!G35","v":66.61},12.792916666666667,606210464,null,7.0724045692876602E-4]
["RGB, mixed content, 1080p","MissionControlClip3_1920x1080_60p_8b444",1920,1080,3,8,60,600,29859840000,0,{"$f":"Anchor!B36","v":65378.641600000003},null,null,null,{"$f":"Anchor!F36","v":44706.59},{"$f":"Anchor!G36","v":70.91},12.418497222222221,653786416,null,{"$f":"Test!B36","v":65333.703200000004},null,null,null,{"$f":"Test!F36","v":45062.43},{"$f":"Test!G36","v":73.17},12.517341666666667,653337032.00000012,null,6.8735597590005723E-4]
["RGB, Animation, 720p","sc_robot_1280x720_30_8bit_300",1280,720,3,8,30,300,6635520000,0,{"$f":"Anchor!B37","v":165448.34239999999},null,null,null,{"$f":"Anchor!F37","v":49251.71},{"$f":"Anchor!G37","v":69.599999999999994},13.681030555555555,1654483424,null,{"$f":"Test!B37","v":165447.97039999999},null,null,null,{"$f":"Test!F37","v":51294.42},{"$f":"Test!G37","v":69.599999999999994},14.24845,1654479703.9999998,null,2.2484359445830376E-6]
["RGB, camera captured, 1080p","EBURainFruits_1920x1080_50_10bit_444",1920,1080,3,8,50,250,12441600000,0,{"$f":"Anchor!B38","v":873497.05119999999},null,null,null,{"$f":"Anchor!F38","v":89472.21},{"$f":"Anchor!G38","v":160.62},24.853391666666667,4367485256,null,{"$f":"Test!B38","v":873513.42879999999},null,null,null,{"$f":"Test!F38","v":91780.04},{"$f":"Test!G38","v":160.56},25.494455555555554,4367567143.999999,null,-1.8749462264709319E-5]
[null,"Kimono1_1920x1080_24_10bit_444",1920,1080,3,8,24,120,5971968000,0,{"$f":"Anchor!B39","v":624273.78879999998},null,null,null,{"$f":"Anchor!F39","v":72462.990000000005},{"$f":"Anchor!G39","v":98.77},20.128608333333336,3121368943.9999995,null,{"$f":"Test!B39","v":624291.10560000001},null,null,null,{"$f":"Test!F39","v":74640.95},{"$f":"Test!G39","v":98.59},20.733597222222222,3121455528.0000005,null,-2.7739111125388862E-5]
["YUV, text & graphics with motion, 1080p","sc_flyingGraphics_1920x1080_60_8bit_444",1920,1080,3,8,60,300,14929920000,0,{"$f":"Anchor!B40","v":139016.5632},null,null,null,{"$f":"Anchor!F40","v":107939.42},{"$f":"Anchor!G40","v":62.97},29.983172222222223,695082816.00000012,null,{"$f":"Test!B40","v":137064.88800000001},null,null,null,{"$f":"Test!F40","v":108295.81},{"$f":"Test!G40","v":62.01},30.082169444444443,685324440,null,1.4039155875204542E-2]
[null,"sc_desktop_1920x1080_60_8bit_444",1920,1080,3,8,60,600,29859840000,0,{"$f":"Anchor!B41","v":2761.1680000000001},null,null,null,{"$f":"Anchor!F41","v":23275.32},{"$f":"Anchor!G41","v":46.28},6.4653666666666663,27611680,null,{"$f":"Test!B41","v":2429.2359999999999},null,null,null,{"$f":"Test!F41","v":22961.7},{"$f":"Test!G41","v":48.49},6.3782500000000004,24292360.000000004,null,0.1202143440746813]
[null,"sc_console_1920x1080_60_8bit_444",1920,1080,3,8,60,600,29859840000,0,{"$f":"Anchor!B42","v":11992.616},null,null,null,{"$f":"Anchor!F42","v":51903},{"$f":"Anchor!G42","v":49.13},14.4175,119926159.99999999,null,{"$f":"Test!B42","v":11748.1608},null,null,null,{"$f":"Test!F42","v":53062.04},{"$f":"Test!G42","v":51.13},14.739455555555557,117481608,null,2.0383809504114742E-2]
["YUV, text & graphics with motion,720p","sc_web_browsing_1280x720_30_8bit_300_444_r1",1280,720,3,8,30,300,6635520000,0,{"$f":"Anchor!B43","v":1173.1296},null,null,null,{"$f":"Anchor!F43","v":2972.11},{"$f":"Anchor!G43","v":10.6},0.82558611111111113,11731296,null,{"$f":"Test!B43","v":1077.6744000000001},null,null,null,{"$f":"Test!F43","v":3046.12},{"$f":"Test!G43","v":11.13},0.84614444444444437,10776744.000000002,null,8.1367992078624399E-2]
[null,"sc_map_1280x720_60_8bit_444",1280,720,3,8,60,600,13271040000,0,{"$f":"Anchor!B44","v":10360.268},null,null,null,{"$f":"Anchor!F44","v":14539.69},{"$f":"Anchor!G44","v":24.02},4.0388027777777777,103602680,null,{"$f":"Test!B44","v":9740.2936000000009},null,null,null,{"$f":"Test!F44","v":15334.19},{"$f":"Test!G44","v":24.74},4.2594972222222225,97402936.000000015,null,5.9841540778674693E-2]
[null,"sc_programming_1280x720_60_8bit_444",1280,720,3,8,60,600,13271040000,0,{"$f":"Anchor!B45","v":51245.987999999998},null,null,null,{"$f":"Anchor!F45","v":47371.93},{"$f":"Anchor!G45","v":46.09},13.158869444444445,512459880,null,{"$f":"Test!B45","v":51224.972000000002},null,null,null,{"$f":"Test!F45","v":47757.04},{"$f":"Test!G45","v":47.08},13.265844444444445,512249720,null,4.1010039654226202E-4]
[null,"sc_SlideShow_1280x720_20_8bit_500_444",1280,720,3,8,20,500,11059200000,0,{"$f":"Anchor!B46","v":6073.1365999999998},null,null,null,{"$f":"Anchor!F46","v":24217.5},{"$f":"Anchor!G46","v":25.54},6.7270833333333337,151828414.99999997,null,{"$f":"Test!B46","v":6068.0559999999996},null,null,null,{"$f":"Test!F46","v":24191.96},{"$f":"Test!G46","v":26.39},6.7199888888888886,151701400,null,8.3656936022134083E-4]
["YUV, mixed content, 1440p","Basketball_Screen_2560x1440_60p_8b444",2560,1440,3,8,60,300,26542080000,0,{"$f":"Anchor!B47","v":109131.7328},null,null,null,{"$f":"Anchor!F47","v":35631.269999999997},{"$f":"Anchor!G47","v":58.04},9.8975749999999998,545658664,null,{"$f":"Test!B47","v":109071.0304},null,null,null,{"$f":"Test!F47","v":36938.269999999997},{"$f":"Test!G47","v":59.89},10.260630555555554,545355152,null,5.5623051556641281E-4]
[null,"MissionControlClip2_2560x1440_60p_8b444",2560,1440,3,8,60,300,26542080000,0,{"$f":"Anchor!B48","v":89890.001600000003},null,null,null,{"$f":"Anchor!F48","v":43043.61},{"$f":"Anchor!G48","v":61.21},11.956558333333334,449450008.00000006,null,{"$f":"Test!B48","v":89873.910399999993},null,null,null,{"$f":"Test!F48","v":43821.59},{"$f":"Test!G48","v":63.14},12.172663888888888,449369552,null,1.7900989780393907E-4]
["YUV, mixed content, 1080p","MissionControlClip3_1920x1080_60p_8b444",1920,1080,3,8,60,600,29859840000,0,{"$f":"Anchor!B49","v":48368.5288},null,null,null,{"$f":"Anchor!F49","v":42596.69},{"$f":"Anchor!G49","v":67.319999999999993},11.83241388888889,483685287.99999994,null,{"$f":"Test!B49","v":48349.336000000003},null,null,null,{"$f":"Test!F49","v":43363.08},{"$f":"Test!G49","v":69.569999999999993},12.045300000000001,483493360.00000006,null,3.9680346862210292E-4]
["YUV, Animation, 720p","sc_robot_1280x720_30_8bit_300_444",1280,720,3,8,30,300,6635520000,0,{"$f":"Anchor!B50","v":130968.056},null,null,null,{"$f":"Anchor!F50","v":46609.07},{"$f":"Anchor!G50","v":62.89},12.946963888888888,1309680559.9999998,null,{"$f":"Test!B50","v":130973.0784},null,null,null,{"$f":"Test!F50","v":47881.42},{"$f":"Test!G50","v":63.33},13.300394444444445,1309730784,null,-3.8348282424103804E-5]
["YUV, camera captured, 1080p","EBURainFruits_1920x1080_50_10bit_444",1920,1080,3,8,50,250,12441600000,0,{"$f":"Anchor!B51","v":675844.65280000004},null,null,null,{"$f":"Anchor!F51","v":84796.24},{"$f":"Anchor!G51","v":154.9},23.554511111111111,3379223264.0000005,null,{"$f":"Test!B51","v":675863.17440000002},null,null,null,{"$f":"Test!F51","v":87265.06},{"$f":"Test!G51","v":153.76},24.240294444444444,3379315872,null,{"$f":"IF(R27,-(AA27-R27)/R27,0)","v":-2.740511436048256E-5}]
[null,"Kimono1_1920x1080_24_10bit_444",1920,1080,3,8,24,120,5971968000,0,{"$f":"Anchor!B52","v":523870.92},null,null,null,{"$f":"Anchor!F52","v":71894.75},{"$f":"Anchor!G52","v":93.04},19.970763888888889,2619354600,null,{"$f":"Test!B52","v":523885.36479999998},null,null,null,{"$f":"Test!F52","v":73469.39},{"$f":"Test!G52","v":92.62},20.40816388888889,2619426823.9999995,null,-2.7573204483090286E-5]
["Total",{"$f":"$A3","v":"RGB, text & graphics with motion, 1080p"},null,null,null,null,null,null,{"$f":"SUM(I3:I5)","v":74649600000},null,{"$f":"SUM(K3:K5)","v":167710.872},null,null,null,null,null,null,{"$f":"SUM(R3:R5)","v":905517968},null,{"$f":"SUM(T3:T5)","v":164438.46879999997},null,null,null,null,null,null,{"$f":"SUM(AA3:AA5)","v":886994288},null,{"$f":"IF(R29,-(AA29-R29)/R29,0)","v":2.0456446646677694E-2}]
[null,{"$f":"$A6","v":"RGB, text & graphics with motion,720p"},null,null,null,null,null,null,{"$f":"SUM(I6:I9)","v":44236800000},null,{"$f":"SUM(K6:K9)","v":84113.004000000001},null,null,null,null,null,null,{"$f":"SUM(R6:R9)","v":955229040},null,{"$f":"SUM(T6:T9)","v":83042.952300000004},null,null,null,null,null,null,{"$f":"SUM(AA6:AA9)","v":944386855.5},null,1.1350350592356362E-2]
[null,{"$f":"$A10","v":"RGB, mixed content, 1440p"},null,null,null,null,null,null,{"$f":"SUM(I10:I11)","v":53084160000},null,{"$f":"SUM(K10:K11)","v":257638.4896},null,null,null,null,null,null,{"$f":"SUM(R10:R11)","v":1288192448},null,{"$f":"SUM(T10:T11)","v":257469.9472},null,null,null,null,null,null,{"$f":"SUM(AA10:AA11)","v":1287349736},null,6.5418175778655084E-4]
[null,{"$f":"$A12","v":"RGB, mixed content, 1080p"},null,null,null,null,null,null,{"$f":"SUM(I12:I12)","v":29859840000},null,{"$f":"SUM(K12:K12)","v":65378.641600000003},null,null,null,null,null,null,{"$f":"SUM(R12:R12)","v":653786416},null,{"$f":"SUM(T12:T12)","v":65333.703200000004},null,null,null,null,null,null,{"$f":"SUM(AA12:AA12)","v":653337032.00000012},null,6.8735597590005723E-4]
[null,{"$f":"$A13","v":"RGB, Animation, 720p"},null,null,null,null,null,null,{"$f":"SUM(I13:I13)","v":6635520000},null,{"$f":"SUM(K13:K13)","v":165448.34239999999},null,null,null,null,null,null,{"$f":"SUM(R13:R13)","v":1654483424},null,{"$f":"SUM(T13:T13)","v":165447.97039999999},null,null,null,null,null,null,{"$f":"SUM(AA13:AA13)","v":1654479703.9999998},null,2.2484359445830376E-6]
[null,"RGB, camera captured, 1080p",null,null,null,null,null,null,{"$f":"SUM(I14:I15)","v":18413568000},null,{"$f":"SUM(K14:K15)","v":1497770.8399999999},null,null,null,null,null,null,{"$f":"SUM(R14:R15)","v":7488854200},null,{"$f":"SUM(T14:T15)","v":1497804.5344},null,null,null,null,null,null,{"$f":"SUM(AA14:AA15)","v":7489022672},null,-2.2496365331828733E-5]
[null,{"$f":"$A16","v":"YUV, text & graphics with motion, 1080p"},null,null,null,null,null,null,{"$f":"SUM(I16:I18)","v":74649600000},null,{"$f":"SUM(K16:K18)","v":153770.34720000002},null,null,null,null,null,null,{"$f":"SUM(R16:R18)","v":842620656.00000012},null,{"$f":"SUM(T16:T18)","v":151242.28480000002},null,null,null,null,null,null,{"$f":"SUM(AA16:AA18)","v":827098408},null,1.8421395071995621E-2]
[null,{"$f":"$A19","v":"YUV, text & graphics with motion,720p"},null,null,null,null,null,null,{"$f":"SUM(I19:I22)","v":44236800000},null,{"$f":"SUM(K19:K22)","v":68852.522199999992},null,null,null,null,null,null,{"$f":"SUM(R19:R22)","v":779622271},null,{"$f":"SUM(T19:T22)","v":68110.995999999999},null,null,null,null,null,null,{"$f":"SUM(AA19:AA22)","v":772130800},null,9.6091033807832304E-3]
[null,{"$f":"$A23","v":"YUV, mixed content, 1440p"},null,null,null,null,null,null,{"$f":"SUM(I23:I24)","v":53084160000},null,{"$f":"SUM(K23:K24)","v":199021.73440000002},null,null,null,null,null,null,{"$f":"SUM(R23:R24)","v":995108672},null,{"$f":"SUM(T23:T24)","v":198944.94079999998},null,null,null,null,null,null,{"$f":"SUM(AA23:AA24)","v":994724704},null,3.8585534505320844E-4]
[null,{"$f":"$A25","v":"YUV, mixed content, 1080p"},null,null,null,null,null,null,{"$f":"SUM(I25:I25)","v":29859840000},null,{"$f":"SUM(K25:K25)","v":48368.5288},null,null,null,null,null,null,{"$f":"SUM(R25:R25)","v":483685287.99999994},null,{"$f":"SUM(T25:T25)","v":48349.336000000003},null,null,null,null,null,null,{"$f":"SUM(AA25:AA25)","v":483493360.00000006},null,3.9680346862210292E-4]
[null,{"$f":"$A26","v":"YUV, Animation, 720p"},null,null,null,null,null,null,{"$f":"SUM(I26:I26)","v":6635520000},null,{"$f":"SUM(K26:K26)","v":130968.056},null,null,null,null,null,null,{"$f":"SUM(R26:R26)","v":1309680559.9999998},null,{"$f":"SUM(T26:T26)","v":130973.0784},null,null,null,null,null,null,{"$f":"SUM(AA26:AA26)","v":1309730784},null,-3.8348282424103804E-5]
[null,"YUV, camera captured, 1080p",null,null,null,null,null,null,{"$f":"SUM(I27:I28)","v":18413568000},null,{"$f":"SUM(K27:K28)","v":1199715.5728},null,null,null,null,null,null,{"$f":"SUM(R27:R28)","v":5998577864},null,{"$f":"SUM(T27:T28)","v":1199748.5392},null,null,null,null,null,null,{"$f":"SUM(AA27:AA28)","v":5998742696},null,-2.7478513030434507E-5]
[null,"Total Average",null,null,null,null,null,null,{"$f":"SUM(I3:I28)","v":453758976000},null,{"$f":"SUM(K3:K28)","v":4038756.9510000004},null,null,null,null,null,null,{"$f":"SUM(R3:R28)","v":23355358807},null,{"$f":"SUM(T3:T28)","v":4030906.7514999998},null,null,null,null,null,null,{"$f":"SUM(AA3:AA28)","v":23301491039.5},null,2.3064414443444521E-3]
["Average","RGB, text & graphics with motion, 1080p",null,null,null,null,null,null,null,null,null,null,null,null,null,null,null,null,null,null,null,null,null,null,null,null,null,null,{"$f":"AVERAGE(AC3:AC5)","v":4.3420743076539592E-2}]
[null,"RGB, text & graphics with motion,720p",null,null,null,null,null,null,null,null,null,null,null,null,null,null,null,null,null,null,null,null,null,null,null,null,null,null,{"$f":"AVERAGE(AC6:AC9)","v":3.2874536033272624E-2}]
[null,"RGB, mixed content, 1440p",null,null,null,null,null,null,null,null,null,null,null,null,null,null,null,null,null,null,null,null,null,null,null,null,null,null,{"$f":"AVERAGE(AC10:AC11)","v":6.5709775258171693E-4}]
[null,"RGB, mixed content, 1080p",null,null,null,null,null,null,null,null,null,null,null,null,null,null,null,null,null,null,null,null,null,null,null,null,null,null,{"$f":"AVERAGE(AC12:AC12)","v":6.8735597590005723E-4}]
[null,"RGB, Animation, 720p",null,null,null,null,null,null,null,null,null,null,null,null,null,null,null,null,null,null,null,null,null,null,null,null,null,null,{"$f":"AVERAGE(AC13:AC13)","v":2.2484359445830376E-6}]
[null,"RGB, camera captured, 1080p",null,null,null,null,null,null,null,null,null,null,null,null,null,null,null,null,null,null,null,null,null,null,null,null,null,null,{"$f":"AVERAGE(AC14:AC15)","v":-2.3244286695049092E-5}]
[null,"YUV, text & graphics with motion, 1080p",null,null,null,null,null,null,null,null,null,null,null,null,null,null,null,null,null,null,null,null,null,null,null,null,null,null,{"$f":"AVERAGE(AC16:AC18)","v":5.1545769818000194E-2}]
[null,"YUV, text & graphics with motion,720p",null,null,null,null,null,null,null,null,null,null,null,null,null,null,null,null,null,null,null,null,null,null,null,null,null,null,{"$f":"AVERAGE(AC19:AC22)","v":3.5614050653515673E-2}]
[null,"YUV, mixed content, 1440p",null,null,null,null,null,null,null,null,null,null,null,null,null,null,null,null,null,null,null,null,null,null,null,null,null,null,{"$f":"AVERAGE(AC23:AC24)","v":3.6762020668517595E-4}]
[null,"YUV, mixed content, 1080p",null,null,null,null,null,null,null,null,null,null,null,null,null,null,null,null,null,null,null,null,null,null,null,null,null,null,{"$f":"AVERAGE(AC25:AC25)","v":3.9680346862210292E-4}]
[null,"YUV, Animation, 720p",null,null,null,null,null,null,null,null,null,null,null,null,null,null,null,null,null,null,null,null,null,null,null,null,null,null,{"$f":"AVERAGE(AC26:AC26)","v":-3.8348282424103804E-5}]
[null,"YUV, camera captured, 1080p",null,null,null,null,null,null,null,null,null,null,null,null,null,null,null,null,null,null,null,null,null,null,null,null,null,null,{"$f":"AVERAGE(AC27:AC28)","v":-2.7489159421786421E-5}]
[null,"Overall Average",null,null,null,null,null,null,null,null,null,null,null,null,null,null,null,null,null,null,null,null,null,null,null,null,null,null,{"$f":"AVERAGE(AC3:AC28)","v":2.1609612079042897E-2}]
["Min","RGB, text & graphics with motion, 1080p",null,null,null,null,null,null,null,null,{"$f":"MIN(K$3:K$5)","v":2689.4976000000001},null,null,null,null,null,null,{"$f":"MIN(R$3:R$5)","v":26894976},null,{"$f":"MIN(T$3:T$5)","v":2432.7847999999999},null,null,null,null,null,null,{"$f":"MIN(AA$3:AA$5)","v":24327848},null,{"$f":"MIN(AC$3:AC$5)","v":1.6408140201494427E-2}]
[null,"RGB, text & graphics with motion,720p",null,null,null,null,null,null,null,null,{"$f":"MIN(K$6:K$9)","v":1361.1232},null,null,null,null,null,null,{"$f":"MIN(R$6:R$9)","v":13611232},null,{"$f":"MIN(T$6:T$9)","v":1281.7352000000001},null,null,null,null,null,null,{"$f":"MIN(AA$6:AA$9)","v":12817352.000000002},null,{"$f":"MIN(AC$6:AC$9)","v":8.482679788695864E-4}]
[null,"RGB, mixed content, 1440p",null,null,null,null,null,null,null,null,{"$f":"MIN(K$10:K$11)","v":121327.9008},null,null,null,null,null,null,{"$f":"MIN(R$10:R$11)","v":606639504},null,{"$f":"MIN(T$10:T$11)","v":121242.0928},null,null,null,null,null,null,{"$f":"MIN(AA$10:AA$11)","v":606210464},null,{"$f":"MIN(AC$10:AC$11)","v":6.0695504823466795E-4}]
[null,"RGB, mixed content, 1080p",null,null,null,null,null,null,null,null,{"$f":"MIN(K$12:K$12)","v":65378.641600000003},null,null,null,null,null,null,{"$f":"MIN(R$12:R$12)","v":653786416},null,{"$f":"MIN(T$12:T$12)","v":65333.703200000004},null,null,null,null,null,null,{"$f":"MIN(AA$12:AA$12)","v":653337032.00000012},null,{"$f":"MIN(AC$12:AC$12)","v":6.8735597590005723E-4}]
[null,"RGB, Animation, 720p",null,null,null,null,null,null,null,null,{"$f":"MIN(K$13:K$13)","v":165448.34239999999},null,null,null,null,null,null,{"$f":"MIN(R$13:R$13)","v":1654483424},null,{"$f":"MIN(T$13:T$13)","v":165447.97039999999},null,null,null,null,null,null,{"$f":"MIN(AA$13:AA$13)","v":1654479703.9999998},null,{"$f":"MIN(AC$13:AC$13)","v":2.2484359445830376E-6}]
[null,"RGB, camera captured, 1080p",null,null,null,null,null,null,null,null,{"$f":"MIN(K14:K15)","v":624273.78879999998},null,null,null,null,null,null,{"$f":"MIN(R14:R15)","v":3121368943.9999995},null,{"$f":"MIN(T14:T15)","v":624291.10560000001},null,null,null,null,null,null,{"$f":"MIN(AA14:AA15)","v":3121455528.0000005},null,{"$f":"MIN(AC14:AC15)","v":-2.7739111125388862E-5}]
[null,"YUV, text & graphics with motion, 1080p",null,null,null,null,null,null,null,null,{"$f":"MIN(K$16:K$18)","v":2761.1680000000001},null,null,null,null,null,null,{"$f":"MIN(R$16:R$18)","v":27611680},null,{"$f":"MIN(T$16:T$18)","v":2429.2359999999999},null,null,null,null,null,null,{"$f":"MIN(AA$16:AA$18)","v":24292360.000000004},null,{"$f":"MIN(AC$16:AC$18)","v":1.4039155875204542E-2}]
[null,"YUV, text & graphics with motion,720p",null,null,null,null,null,null,null,null,{"$f":"MIN(K$19:K$22)","v":1173.1296},null,null,null,null,null,null,{"$f":"MIN(R$19:R$22)","v":11731296},null,{"$f":"MIN(T$19:T$22)","v":1077.6744000000001},null,null,null,null,null,null,{"$f":"MIN(AA$19:AA$22)","v":10776744.000000002},null,{"$f":"MIN(AC$19:AC$22)","v":4.1010039654226202E-4}]
[null,"YUV, mixed content, 1440p",null,null,null,null,null,null,null,null,{"$f":"MIN(K$23:K$24)","v":89890.001600000003},null,null,null,null,null,null,{"$f":"MIN(R$23:R$24)","v":449450008.00000006},null,{"$f":"MIN(T$23:T$24)","v":89873.910399999993},null,null,null,null,null,null,{"$f":"MIN(AA$23:AA$24)","v":449369552},null,{"$f":"MIN(AC$23:AC$24)","v":1.7900989780393907E-4}]
[null,"YUV, mixed content, 1080p",null,null,null,null,null,null,null,null,{"$f":"MIN(K$25:K$25)","v":48368.5288},null,null,null,null,null,null,{"$f":"MIN(R$25:R$25)","v":483685287.99999994},null,{"$f":"MIN(T$25:T$25)","v":48349.336000000003},null,null,null,null,null,null,{"$f":"MIN(AA$25:AA$25)","v":483493360.00000006},null,{"$f":"MIN(AC$25:AC$25)","v":3.9680346862210292E-4}]
[null,"YUV, Animation, 720p",null,null,null,null,null,null,null,null,{"$f":"MIN(K$26:K$26)","v":130968.056},null,null,null,null,null,null,{"$f":"MIN(R$26:R$26)","v":1309680559.9999998},null,{"$f":"MIN(T$26:T$26)","v":130973.0784},null,null,null,null,null,null,{"$f":"MIN(AA$26:AA$26)","v":1309730784},null,{"$f":"MIN(AC$26:AC$26)","v":-3.8348282424103804E-5}]
[null,"YUV, camera captured, 1080p",null,null,null,null,null,null,null,null,{"$f":"MIN(K27:K28)","v":523870.92},null,null,null,null,null,null,{"$f":"MIN(R27:R28)","v":2619354600},null,{"$f":"MIN(T27:T28)","v":523885.36479999998},null,null,null,null,null,null,{"$f":"MIN(AA27:AA28)","v":2619426823.9999995},null,{"$f":"MIN(AC27:AC28)","v":-2.7573204483090286E-5}]
[null,"Overall Min",null,null,null,null,null,null,null,null,{"$f":"MIN(K$3:K$28)","v":1173.1296},null,null,null,null,null,null,{"$f":"MIN(R$3:R$28)","v":11731296},null,{"$f":"MIN(T$3:T$28)","v":1077.6744000000001},null,null,null,null,null,null,{"$f":"MIN(AA$3:AA$28)","v":10776744.000000002},null,{"$f":"MIN(AC$3:AC$28)","v":-3.8348282424103804E-5}]
["Max","RGB, text & graphics with motion, 1080p",null,null,null,null,null,null,null,null,{"$f":"MAX(K$3:K$5)","v":154318.15040000001},null,null,null,null,null,null,{"$f":"MAX(R$3:R$5)","v":771590752},null,{"$f":"MAX(T$3:T$5)","v":151478.07999999999},null,null,null,null,null,null,{"$f":"MAX(AA$3:AA$5)","v":757390400},null,{"$f":"MAX(AC$3:AC$5)","v":9.5450094471175584E-2}]
[null,"RGB, text & graphics with motion,720p",null,null,null,null,null,null,null,null,{"$f":"MAX(K$6:K$9)","v":62082.267999999996},null,null,null,null,null,null,{"$f":"MAX(R$6:R$9)","v":620822680},null,{"$f":"MAX(T$6:T$9)","v":62029.605600000003},null,null,null,null,null,null,{"$f":"MAX(AA$6:AA$9)","v":620296056},null,{"$f":"MAX(AC$6:AC$9)","v":7.1082897507380643E-2}]
[null,"RGB, mixed content, 1440p",null,null,null,null,null,null,null,null,{"$f":"MAX(K$10:K$11)","v":136310.5888},null,null,null,null,null,null,{"$f":"MAX(R$10:R$11)","v":681552944.00000012},null,{"$f":"MAX(T$10:T$11)","v":136227.85440000001},null,null,null,null,null,null,{"$f":"MAX(AA$10:AA$11)","v":681139272.00000012},null,{"$f":"MAX(AC$10:AC$11)","v":7.0724045692876602E-4}]
[null,"RGB, mixed content, 1080p",null,null,null,null,null,null,null,null,{"$f":"MAX(K$12:K$12)","v":65378.641600000003},null,null,null,null,null,null,{"$f":"MAX(R$12:R$12)","v":653786416},null,{"$f":"MAX(T$12:T$12)","v":65333.703200000004},null,null,null,null,null,null,{"$f":"MAX(AA$12:AA$12)","v":653337032.00000012},null,{"$f":"MAX(AC$12:AC$12)","v":6.8735597590005723E-4}]
[null,"RGB, Animation, 720p",null,null,null,null,null,null,null,null,{"$f":"MAX(K$13:K$13)","v":165448.34239999999},null,null,null,null,null,null,{"$f":"MAX(R$13:R$13)","v":1654483424},null,{"$f":"MAX(T$13:T$13)","v":165447.97039999999},null,null,null,null,null,null,{"$f":"MAX(AA$13:AA$13)","v":1654479703.9999998},null,{"$f":"MAX(AC$13:AC$13)","v":2.2484359445830376E-6}]
[null,"RGB, camera captured, 1080p",null,null,null,null,null,null,null,null,{"$f":"MAX(K14:K15)","v":873497.05119999999},null,null,null,null,null,null,{"$f":"MAX(R14:R15)","v":4367485256},null,{"$f":"MAX(T14:T15)","v":873513.42879999999},null,null,null,null,null,null,{"$f":"MAX(AA14:AA15)","v":4367567143.999999},null,{"$f":"MAX(AC14:AC15)","v":-1.8749462264709319E-5}]
[null,"YUV, text & graphics with motion, 1080p",null,null,null,null,null,null,null,null,{"$f":"MAX(K$16:K$18)","v":139016.5632},null,null,null,null,null,null,{"$f":"MAX(R$16:R$18)","v":695082816.00000012},null,{"$f":"MAX(T$16:T$18)","v":137064.88800000001},null,null,null,null,null,null,{"$f":"MAX(AA$16:AA$18)","v":685324440},null,{"$f":"MAX(AC$16:AC$18)","v":0.1202143440746813}]
[null,"YUV, text & graphics with motion,720p",null,null,null,null,null,null,null,null,{"$f":"MAX(K$19:K$22)","v":51245.987999999998},null,null,null,null,null,null,{"$f":"MAX(R$19:R$22)","v":512459880},null,{"$f":"MAX(T$19:T$22)","v":51224.972000000002},null,null,null,null,null,null,{"$f":"MAX(AA$19:AA$22)","v":512249720},null,{"$f":"MAX(AC$19:AC$22)","v":8.1367992078624399E-2}]
[null,"YUV, mixed content, 1440p",null,null,null,null,null,null,null,null,{"$f":"MAX(K$23:K$24)","v":109131.7328},null,null,null,null,null,null,{"$f":"MAX(R$23:R$24)","v":545658664},null,{"$f":"MAX(T$23:T$24)","v":109071.0304},null,null,null,null,null,null,{"$f":"MAX(AA$23:AA$24)","v":545355152},null,{"$f":"MAX(AC$23:AC$24)","v":5.5623051556641281E-4}]
[null,"YUV, mixed content, 1080p",null,null,null,null,null,null,null,null,{"$f":"MAX(K$25:K$25)","v":48368.5288},null,null,null,null,null,null,{"$f":"MAX(R$25:R$25)","v":483685287.99999994},null,{"$f":"MAX(T$25:T$25)","v":48349.336000000003},null,null,null,null,null,null,{"$f":"MAX(AA$25:AA$25)","v":483493360.00000006},null,{"$f":"MAX(AC$25:AC$25)","v":3.9680346862210292E-4}]
[null,"YUV, Animation, 720p",null,null,null,null,null,null,null,null,{"$f":"MAX(K$26:K$26)","v":130968.056},null,null,null,null,null,null,{"$f":"MAX(R$26:R$26)","v":1309680559.9999998},null,{"$f":"MAX(T$26:T$26)","v":130973.0784},null,null,null,null,null,null,{"$f":"MAX(AA$26:AA$26)","v":1309730784},null,{"$f":"MAX(AC$26:AC$26)","v":-3.8348282424103804E-5}]
[null,"YUV, camera captured, 1080p",null,null,null,null,null,null,null,null,{"$f":"MAX(K27:K28)","v":675844.65280000004},null,null,null,null,null,null,{"$f":"MAX(R27:R28)","v":3379223264.0000005},null,{"$f":"MAX(T27:T28)","v":675863.17440000002},null,null,null,null,null,null,{"$f":"MAX(AA27:AA28)","v":3379315872},null,{"$f":"MAX(AC27:AC28)","v":-2.740511436048256E-5}]
[null,"Overall Max",null,null,null,null,null,null,null,null,{"$f":"MAX(K$3:K$28)","v":873497.05119999999},null,null,null,null,null,null,{"$f":"MAX(R$3:R$28)","v":4367485256},null,{"$f":"MAX(T$3:T$28)","v":873513.42879999999},null,null,null,null,null,null,{"$f":"MAX(AA$3:AA$28)","v":4367567143.999999},null,{"$f":"MAX(AC$3:AC$28)","v":0.1202143440746813}]
[null,"Time geomean",null,null,null,null,null,null,null,null,null,null,null,null,null,{"$f":"GEOMEAN(P3:P28)","v":49.804440002130853},{"$f":"GEOMEAN(O3:O28)","v":35499.2251094206},null,null,null,null,null,null,null,{"$f":"GEOMEAN(Y3:Y28)","v":50.893284941468693},{"$f":"GEOMEAN(X3:X28)","v":36094.997811502311}]
[null,"Time ratio",null,null,null,null,null,null,null,null,null,null,null,null,null,null,null,null,null,null,null,null,null,null,{"$f":"Y81/P81","v":1.0218624070322095},{"$f":"Z81/Q81","v":1.0167826959671751}]
[null,"Time sum (hours)",null,null,null,null,null,null,null,null,null,null,null,null,null,{"$f":"SUM(P3:P28)/3600","v":0.43189166666666673},{"$f":"SUM(Q3:Q28)","v":335.07298888888886},null,null,null,null,null,null,null,{"$f":"SUM(Y3:Y28)/3600","v":0.43812777777777784},{"$f":"SUM(Z3:Z28)","v":340.60263611111111}]

{"sheet":"LB-SCC","index":3,"n_rows":83,"n_cols":29,"rows_kept":83,"cut":false,"hidden":false,"merged":[[67,0,79,0],[0,10,0,17],[0,19,0,26],[28,0,40,0],[41,0,53,0],[54,0,66,0]]}
[null,null,null,null,null,null,null,null,null,null,{"$f":"Summary!I2","v":"Anchors (SCM-1.0)"},null,null,null,null,null,null,null,null,{"$f":"Summary!I3","v":"Tested (Rnnnn)"}]
["Class","Sequence","Width","Height","SpP","Bit-depth","FPS","Frames","Total Bits (Uncompressed)","QP","kbps","G/Y MSE","B/U MSE","R/V MSE","Enc T [s]","Dec T [s]","Enc T [h]","Total Bits (Compressed)",null,"kbps","G/Y MSE","B/U MSE","R/V MSE","Enc T [s]","Dec T [s]","Enc T [h]","Total Bits (Compressed)",null,"Overall Bit-rate Saving"]
["RGB, text & graphics with motion, 1080p","sc_flyingGraphics_1920x1080_60_8bit_rgb",1920,1080,3,8,60,300,{"$f":"C3*D3*E3*F3*H3","v":14929920000},0,{"$f":"Anchor!B53","v":152274.75520000001},null,null,null,{"$f":"Anchor!F53","v":156607.51999999999},{"$f":"Anchor!G53","v":63.19},{"$f":"O3/3600","v":43.502088888888885},{"$f":"K3*1000/$G3*$H3","v":761373776.00000012},null,{"$f":"Test!B53","v":149693.56959999999},null,null,null,{"$f":"Test!F53","v":157807.35},{"$f":"Test!G53","v":61.6},{"$f":"X3/3600","v":43.835374999999999},{"$f":"T3*1000/$G3*$H3","v":748467848},null,{"$f":"IF(R3,-(AA3-R3)/R3,0)","v":1.6950843865155815E-2}]
[null,"sc_desktop_1920x1080_60_8bit_rgb",1920,1080,3,8,60,600,{"$f":"C4*D4*E4*F4*H4","v":29859840000},0,{"$f":"Anchor!B54","v":1475.2167999999999},null,null,null,{"$f":"Anchor!F54","v":30190.22},{"$f":"Anchor!G54","v":39.21},8.386172222222223,14752167.999999998,null,{"$f":"Test!B54","v":1397.1424},null,null,null,{"$f":"Test!F54","v":30498.46},{"$f":"Test!G54","v":41.71},8.4717944444444448,13971424,null,5.2924017676588164E-2]
[null,"sc_console_1920x1080_60_8bit_rgb",1920,1080,3,8,60,600,29859840000,0,{"$f":"Anchor!B55","v":9965.8151999999991},null,null,null,{"$f":"Anchor!F55","v":66078.039999999994},{"$f":"Anchor!G55","v":47.06},18.355011111111111,99658151.999999985,null,{"$f":"Test!B55","v":9879.1712000000007},null,null,null,{"$f":"Test!F55","v":66143.05},{"$f":"Test!G55","v":49.42},18.373069444444447,98791712.000000015,null,8.6941206776538493E-3]
["RGB, text & graphics with motion,720p","sc_web_browsing_1280x720_30_8bit_300_rgb",1280,720,3,8,30,300,6635520000,0,{"$f":"Anchor!B56","v":750.86959999999999},null,null,null,{"$f":"Anchor!F56","v":5247.04},{"$f":"Anchor!G56","v":8.16},1.4575111111111112,7508696,null,{"$f":"Test!B56","v":723.89359999999999},null,null,null,{"$f":"Test!F56","v":5088.67},{"$f":"Test!G56","v":8.82},1.4135194444444446,7238936,null,3.5926344600979987E-2]
[null,"sc_map_1280x720_60_8bit",1280,720,3,8,60,600,13271040000,0,{"$f":"Anchor!B57","v":11065.864799999999},null,null,null,{"$f":"Anchor!F57","v":21892.85},{"$f":"Anchor!G57","v":20.7},6.081347222222222,110658647.99999999,null,{"$f":"Test!B57","v":10532.5488},null,null,null,{"$f":"Test!F57","v":21152.51},{"$f":"Test!G57","v":21.52},5.8756972222222217,105325488,null,4.8194696902495913E-2]
[null,"sc_programming_1280x720_60_8bit",1280,720,3,8,60,600,13271040000,0,{"$f":"Anchor!B58","v":58972.409599999999},null,null,null,{"$f":"Anchor!F58","v":60402.91},{"$f":"Anchor!G58","v":45.86},16.77858611111111,589724096,null,{"$f":"Test!B58","v":58944.045599999998},null,null,null,{"$f":"Test!F58","v":60525.55},{"$f":"Test!G58","v":46.62},16.812652777777778,589440455.99999988,null,4.8097068090654924E-4]
[null,"sc_SlideShow_1280x720_20_8bit_500",1280,720,3,8,20,500,11059200000,0,{"$f":"Anchor!B59","v":6751.5420999999997},null,null,null,{"$f":"Anchor!F59","v":35403.919999999998},{"$f":"Anchor!G59","v":22.35},9.8344222222222211,168788552.5,null,{"$f":"Test!B59","v":6743.5897999999997},null,null,null,{"$f":"Test!F59","v":34285.17},{"$f":"Test!G59","v":23.37},9.5236583333333336,168589745,null,1.1778494279106992E-3]
["RGB, mixed content, 1440p","Basketball_Screen_2560x1440_60p_8b444",2560,1440,3,8,60,300,26542080000,0,{"$f":"Anchor!B60","v":118795.1584},null,null,null,{"$f":"Anchor!F60","v":46627.66},{"$f":"Anchor!G60","v":53.48},12.952127777777779,593975792.00000012,null,{"$f":"Test!B60","v":118782.6896},null,null,null,{"$f":"Test!F60","v":47162.51},{"$f":"Test!G60","v":55.47},13.100697222222223,593913448,null,1.0496050653882405E-4]
[null,"MissionControlClip2_2560x1440_60p_8b444",2560,1440,3,8,60,300,26542080000,0,{"$f":"Anchor!B61","v":108507.44319999999},null,null,null,{"$f":"Anchor!F61","v":58125.83},{"$f":"Anchor!G61","v":55.48},16.146063888888889,542537216,null,{"$f":"Test!B61","v":108495.2736},null,null,null,{"$f":"Test!F61","v":56297.47},{"$f":"Test!G61","v":57.43},15.638186111111111,542476368,null,1.1215451807825843E-4]
["RGB, mixed content, 1080p","MissionControlClip3_1920x1080_60p_8b444",1920,1080,3,8,60,600,29859840000,0,{"$f":"Anchor!B62","v":58016.167999999998},null,null,null,{"$f":"Anchor!F62","v":55255.45},{"$f":"Anchor!G62","v":65.7},15.34873611111111,580161680,null,{"$f":"Test!B62","v":58011.364000000001},null,null,null,{"$f":"Test!F62","v":56606.8},{"$f":"Test!G62","v":68.010000000000005},15.724111111111112,580113640,null,8.2804503737647747E-5]
["RGB, Animation, 720p","sc_robot_1280x720_30_8bit_300",1280,720,3,8,30,300,6635520000,0,{"$f":"Anchor!B63","v":164472.19760000001},null,null,null,{"$f":"Anchor!F63","v":61522.23},{"$f":"Anchor!G63","v":69},17.089508333333335,1644721976.0000002,null,{"$f":"Test!B63","v":164479.59760000001},null,null,null,{"$f":"Test!F63","v":62410.66},{"$f":"Test!G63","v":69.22},17.336294444444444,1644795976,null,-4.4992406667862002E-5]
["RGB, camera captured, 1080p","EBURainFruits_1920x1080_50_10bit_444",1920,1080,3,8,50,250,12441600000,0,{"$f":"Anchor!B64","v":883620.66079999995},null,null,null,{"$f":"Anchor!F64","v":110704.66},{"$f":"Anchor!G64","v":165.78},30.751294444444447,4418103304,null,{"$f":"Test!B64","v":883611.34400000004},null,null,null,{"$f":"Test!F64","v":112315.46},{"$f":"Test!G64","v":165.61},31.19873888888889,4418056720,null,1.054389107602451E-5]
[null,"Kimono1_1920x1080_24_10bit_444",1920,1080,3,8,24,120,5971968000,0,{"$f":"Anchor!B65","v":624192.32640000002},null,null,null,{"$f":"Anchor!F65","v":97162.57},{"$f":"Anchor!G65","v":99.38},26.98960277777778,3120961631.9999995,null,{"$f":"Test!B65","v":624211.41280000005},null,null,null,{"$f":"Test!F65","v":99992.97},{"$f":"Test!G65","v":99.05},27.775825000000001,3121057064.0000005,null,-3.0577754952981649E-5]
["YUV, text & graphics with motion, 1080p","sc_flyingGraphics_1920x1080_60_8bit_444",1920,1080,3,8,60,300,14929920000,0,{"$f":"Anchor!B66","v":136058.9952},null,null,null,{"$f":"Anchor!F66","v":146812.84},{"$f":"Anchor!G66","v":61.7},40.781344444444443,680294976.00000012,null,{"$f":"Test!B66","v":134412.3904},null,null,null,{"$f":"Test!F66","v":148032.26999999999},{"$f":"Test!G66","v":61.11},41.120075,672061952,null,1.2102138470004103E-2]
[null,"sc_desktop_1920x1080_60_8bit_444",1920,1080,3,8,60,600,29859840000,0,{"$f":"Anchor!B67","v":1513.7888},null,null,null,{"$f":"Anchor!F67","v":30024.880000000001},{"$f":"Anchor!G67","v":39.29},8.3402444444444441,15137888.000000002,null,{"$f":"Test!B67","v":1400.0791999999999},null,null,null,{"$f":"Test!F67","v":30296.25},{"$f":"Test!G67","v":41.72},8.4156250000000004,14000792,null,7.5115894634707414E-2]
[null,"sc_console_1920x1080_60_8bit_444",1920,1080,3,8,60,600,29859840000,0,{"$f":"Anchor!B68","v":11173.86},null,null,null,{"$f":"Anchor!F68","v":67974.070000000007},{"$f":"Anchor!G68","v":47.59},18.881686111111112,111738600,null,{"$f":"Test!B68","v":11055.7464},null,null,null,{"$f":"Test!F68","v":67949.710000000006},{"$f":"Test!G68","v":49.88},18.874919444444448,110557464,null,1.057052800017183E-2]
["YUV, text & graphics with motion,720p","sc_web_browsing_1280x720_30_8bit_300_444_r1",1280,720,3,8,30,300,6635520000,0,{"$f":"Anchor!B69","v":630.63919999999996},null,null,null,{"$f":"Anchor!F69","v":5133.71},{"$f":"Anchor!G69","v":8.18},1.4260305555555555,6306391.9999999991,null,{"$f":"Test!B69","v":596.6232},null,null,null,{"$f":"Test!F69","v":5305.78},{"$f":"Test!G69","v":8.7899999999999991},1.4738277777777777,5966232,null,5.3938924189932867E-2]
[null,"sc_map_1280x720_60_8bit_444",1280,720,3,8,60,600,13271040000,0,{"$f":"Anchor!B70","v":8652.7024000000001},null,null,null,{"$f":"Anchor!F70","v":20331.259999999998},{"$f":"Anchor!G70","v":20.22},5.6475722222222222,86527024,null,{"$f":"Test!B70","v":8334.8495999999996},null,null,null,{"$f":"Test!F70","v":20610.669999999998},{"$f":"Test!G70","v":21.28},5.7251861111111104,83348496,null,3.6734511983215784E-2]
[null,"sc_programming_1280x720_60_8bit_444",1280,720,3,8,60,600,13271040000,0,{"$f":"Anchor!B71","v":48850.3416},null,null,null,{"$f":"Anchor!F71","v":60967.33},{"$f":"Anchor!G71","v":44.5},16.935369444444444,488503416,null,{"$f":"Test!B71","v":48843.171199999997},null,null,null,{"$f":"Test!F71","v":62186.5},{"$f":"Test!G71","v":45.79},17.274027777777778,488431711.99999994,null,1.4678300632407369E-4]
[null,"sc_SlideShow_1280x720_20_8bit_500_444",1280,720,3,8,20,500,11059200000,0,{"$f":"Anchor!B72","v":5329.5501000000004},null,null,null,{"$f":"Anchor!F72","v":33335.839999999997},{"$f":"Anchor!G72","v":21.46},9.2599555555555551,133238752.5,null,{"$f":"Test!B72","v":5324.8069999999998},null,null,null,{"$f":"Test!F72","v":33497.81},{"$f":"Test!G72","v":22.54},9.3049472222222214,133120174.99999999,null,8.899625504975732E-4]
["YUV, mixed content, 1440p","Basketball_Screen_2560x1440_60p_8b444",2560,1440,3,8,60,300,26542080000,0,{"$f":"Anchor!B73","v":95590.075200000007},null,null,null,{"$f":"Anchor!F73","v":45760.11},{"$f":"Anchor!G73","v":52.89},12.711141666666666,477950376.00000006,null,{"$f":"Test!B73","v":95578.835200000001},null,null,null,{"$f":"Test!F73","v":45230.31},{"$f":"Test!G73","v":54.74},12.563974999999999,477894176,null,1.1758542899453561E-4]
[null,"MissionControlClip2_2560x1440_60p_8b444",2560,1440,3,8,60,300,26542080000,0,{"$f":"Anchor!B74","v":80454.075200000007},null,null,null,{"$f":"Anchor!F74","v":54889.599999999999},{"$f":"Anchor!G74","v":52.65},15.24711111111111,402270376,null,{"$f":"Test!B74","v":80452.924799999993},null,null,null,{"$f":"Test!F74","v":54175.16},{"$f":"Test!G74","v":54.7},15.048655555555557,402264623.99999994,null,1.4298840638614674E-5]
["YUV, mixed content, 1080p","MissionControlClip3_1920x1080_60p_8b444",1920,1080,3,8,60,600,29859840000,0,{"$f":"Anchor!B75","v":42643.7448},null,null,null,{"$f":"Anchor!F75","v":54276.800000000003},{"$f":"Anchor!G75","v":62.47},15.07688888888889,426437448,null,{"$f":"Test!B75","v":42645.403200000001},null,null,null,{"$f":"Test!F75","v":54774.28},{"$f":"Test!G75","v":64.8},15.215077777777777,426454032.00000006,null,-3.8889642731516406E-5]
["YUV, Animation, 720p","sc_robot_1280x720_30_8bit_300_444",1280,720,3,8,30,300,6635520000,0,{"$f":"Anchor!B76","v":128891.04399999999},null,null,null,{"$f":"Anchor!F76","v":57685.41},{"$f":"Anchor!G76","v":62.36},16.023725000000002,1288910440.0000002,null,{"$f":"Test!B76","v":128893.696},null,null,null,{"$f":"Test!F76","v":59704.54},{"$f":"Test!G76","v":62.45},16.584594444444445,1288936960,null,-2.0575518031929028E-5]
["YUV, camera captured, 1080p","EBURainFruits_1920x1080_50_10bit_444",1920,1080,3,8,50,250,12441600000,0,{"$f":"Anchor!B77","v":684510.36},null,null,null,{"$f":"Anchor!F77","v":105462.92},{"$f":"Anchor!G77","v":158.71},29.295255555555556,3422551800,null,{"$f":"Test!B77","v":684535.696},null,null,null,{"$f":"Test!F77","v":105847.37},{"$f":"Test!G77","v":157.83000000000001},29.402047222222222,3422678480,null,{"$f":"IF(R27,-(AA27-R27)/R27,0)","v":-3.7013318542030541E-5}]
[null,"Kimono1_1920x1080_24_10bit_444",1920,1080,3,8,24,120,5971968000,0,{"$f":"Anchor!B78","v":524061.78399999999},null,null,null,{"$f":"Anchor!F78","v":97658.29},{"$f":"Anchor!G78","v":93.84},27.127302777777775,2620308920,null,{"$f":"Test!B78","v":524070.12959999999},null,null,null,{"$f":"Test!F78","v":99724.31},{"$f":"Test!G78","v":93.21},27.70119722222222,2620350648,null,-1.5924839884909449E-5]
["Total",{"$f":"$A3","v":"RGB, text & graphics with motion, 1080p"},null,null,null,null,null,null,{"$f":"SUM(I3:I5)","v":74649600000},null,{"$f":"SUM(K3:K5)","v":163715.78720000002},null,null,null,null,null,null,{"$f":"SUM(R3:R5)","v":875784096.00000012},null,{"$f":"SUM(T3:T5)","v":160969.88320000001},null,null,null,null,null,null,{"$f":"SUM(AA3:AA5)","v":861230984},null,{"$f":"IF(R29,-(AA29-R29)/R29,0)","v":1.6617237132381217E-2}]
[null,{"$f":"$A6","v":"RGB, text & graphics with motion,720p"},null,null,null,null,null,null,{"$f":"SUM(I6:I9)","v":44236800000},null,{"$f":"SUM(K6:K9)","v":77540.686100000006},null,null,null,null,null,null,{"$f":"SUM(R6:R9)","v":876679992.5},null,{"$f":"SUM(T6:T9)","v":76944.077799999999},null,null,null,null,null,null,{"$f":"SUM(AA6:AA9)","v":870594624.99999988},null,6.9413783273947812E-3]
[null,{"$f":"$A10","v":"RGB, mixed content, 1440p"},null,null,null,null,null,null,{"$f":"SUM(I10:I11)","v":53084160000},null,{"$f":"SUM(K10:K11)","v":227302.60159999999},null,null,null,null,null,null,{"$f":"SUM(R10:R11)","v":1136513008},null,{"$f":"SUM(T10:T11)","v":227277.9632},null,null,null,null,null,null,{"$f":"SUM(AA10:AA11)","v":1136389816},null,1.0839471183597751E-4]
[null,{"$f":"$A12","v":"RGB, mixed content, 1080p"},null,null,null,null,null,null,{"$f":"SUM(I12:I12)","v":29859840000},null,{"$f":"SUM(K12:K12)","v":58016.167999999998},null,null,null,null,null,null,{"$f":"SUM(R12:R12)","v":580161680},null,{"$f":"SUM(T12:T12)","v":58011.364000000001},null,null,null,null,null,null,{"$f":"SUM(AA12:AA12)","v":580113640},null,8.2804503737647747E-5]
[null,{"$f":"$A13","v":"RGB, Animation, 720p"},null,null,null,null,null,null,{"$f":"SUM(I13:I13)","v":6635520000},null,{"$f":"SUM(K13:K13)","v":164472.19760000001},null,null,null,null,null,null,{"$f":"SUM(R13:R13)","v":1644721976.0000002},null,{"$f":"SUM(T13:T13)","v":164479.59760000001},null,null,null,null,null,null,{"$f":"SUM(AA13:AA13)","v":1644795976},null,-4.4992406667862002E-5]
[null,"RGB, camera captured, 1080p",null,null,null,null,null,null,{"$f":"SUM(I14:I15)","v":18413568000},null,{"$f":"SUM(K14:K15)","v":1507812.9871999999},null,null,null,null,null,null,{"$f":"SUM(R14:R15)","v":7539064936},null,{"$f":"SUM(T14:T15)","v":1507822.7568000001},null,null,null,null,null,null,{"$f":"SUM(AA14:AA15)","v":7539113784},null,-6.4793181136754172E-6]
[null,{"$f":"$A16","v":"YUV, text & graphics with motion, 1080p"},null,null,null,null,null,null,{"$f":"SUM(I16:I18)","v":74649600000},null,{"$f":"SUM(K16:K18)","v":148746.64400000003},null,null,null,null,null,null,{"$f":"SUM(R16:R18)","v":807171464.00000012},null,{"$f":"SUM(T16:T18)","v":146868.21600000001},null,null,null,null,null,null,{"$f":"SUM(AA16:AA18)","v":796620208},null,1.3071889270852764E-2]
[null,{"$f":"$A19","v":"YUV, text & graphics with motion,720p"},null,null,null,null,null,null,{"$f":"SUM(I19:I22)","v":44236800000},null,{"$f":"SUM(K19:K22)","v":63463.2333},null,null,null,null,null,null,{"$f":"SUM(R19:R22)","v":714575584.5},null,{"$f":"SUM(T19:T22)","v":63099.451000000001},null,null,null,null,null,null,{"$f":"SUM(AA19:AA22)","v":710866615},null,5.1904509200313993E-3]
[null,{"$f":"$A23","v":"YUV, mixed content, 1440p"},null,null,null,null,null,null,{"$f":"SUM(I23:I24)","v":53084160000},null,{"$f":"SUM(K23:K24)","v":176044.15040000001},null,null,null,null,null,null,{"$f":"SUM(R23:R24)","v":880220752},null,{"$f":"SUM(T23:T24)","v":176031.76},null,null,null,null,null,null,{"$f":"SUM(AA23:AA24)","v":880158800},null,7.0382344269020374E-5]
[null,{"$f":"$A25","v":"YUV, mixed content, 1080p"},null,null,null,null,null,null,{"$f":"SUM(I25:I25)","v":29859840000},null,{"$f":"SUM(K25:K25)","v":42643.7448},null,null,null,null,null,null,{"$f":"SUM(R25:R25)","v":426437448},null,{"$f":"SUM(T25:T25)","v":42645.403200000001},null,null,null,null,null,null,{"$f":"SUM(AA25:AA25)","v":426454032.00000006},null,-3.8889642731516406E-5]
[null,{"$f":"$A26","v":"YUV, Animation, 720p"},null,null,null,null,null,null,{"$f":"SUM(I26:I26)","v":6635520000},null,{"$f":"SUM(K26:K26)","v":128891.04399999999},null,null,null,null,null,null,{"$f":"SUM(R26:R26)","v":1288910440.0000002},null,{"$f":"SUM(T26:T26)","v":128893.696},null,null,null,null,null,null,{"$f":"SUM(AA26:AA26)","v":1288936960},null,-2.0575518031929028E-5]
[null,"YUV, camera captured, 1080p",null,null,null,null,null,null,{"$f":"SUM(I27:I28)","v":18413568000},null,{"$f":"SUM(K27:K28)","v":1208572.1439999999},null,null,null,null,null,null,{"$f":"SUM(R27:R28)","v":6042860720},null,{"$f":"SUM(T27:T28)","v":1208605.8256000001},null,null,null,null,null,null,{"$f":"SUM(AA27:AA28)","v":6043029128},null,-2.7868919672866462E-5]
[null,"Total Average",null,null,null,null,null,null,{"$f":"SUM(I3:I28)","v":453758976000},null,{"$f":"SUM(K3:K28)","v":3967221.3881999995},null,null,null,null,null,null,{"$f":"SUM(R3:R28)","v":22813102097},null,{"$f":"SUM(T3:T28)","v":3961649.9944000002},null,null,null,null,null,null,{"$f":"SUM(AA3:AA28)","v":22778304568},null,1.5253308757416202E-3]
["Average","RGB, text & graphics with motion, 1080p",null,null,null,null,null,null,null,null,null,null,null,null,null,null,null,null,null,null,null,null,null,null,null,null,null,null,{"$f":"AVERAGE(AC3:AC5)","v":2.6189660739799277E-2}]
[null,"RGB, text & graphics with motion,720p",null,null,null,null,null,null,null,null,null,null,null,null,null,null,null,null,null,null,null,null,null,null,null,null,null,null,{"$f":"AVERAGE(AC6:AC9)","v":2.144496540307329E-2}]
[null,"RGB, mixed content, 1440p",null,null,null,null,null,null,null,null,null,null,null,null,null,null,null,null,null,null,null,null,null,null,null,null,null,null,{"$f":"AVERAGE(AC10:AC11)","v":1.0855751230854125E-4}]
[null,"RGB, mixed content, 1080p",null,null,null,null,null,null,null,null,null,null,null,null,null,null,null,null,null,null,null,null,null,null,null,null,null,null,{"$f":"AVERAGE(AC12:AC12)","v":8.2804503737647747E-5}]
[null,"RGB, Animation, 720p",null,null,null,null,null,null,null,null,null,null,null,null,null,null,null,null,null,null,null,null,null,null,null,null,null,null,{"$f":"AVERAGE(AC13:AC13)","v":-4.4992406667862002E-5}]
[null,"RGB, camera captured, 1080p",null,null,null,null,null,null,null,null,null,null,null,null,null,null,null,null,null,null,null,null,null,null,null,null,null,null,{"$f":"AVERAGE(AC14:AC15)","v":-1.001693193847857E-5}]
[null,"YUV, text & graphics with motion, 1080p",null,null,null,null,null,null,null,null,null,null,null,null,null,null,null,null,null,null,null,null,null,null,null,null,null,null,{"$f":"AVERAGE(AC16:AC18)","v":3.2596187034961116E-2}]
[null,"YUV, text & graphics with motion,720p",null,null,null,null,null,null,null,null,null,null,null,null,null,null,null,null,null,null,null,null,null,null,null,null,null,null,{"$f":"AVERAGE(AC19:AC22)","v":2.2927545432492577E-2}]
[null,"YUV, mixed content, 1440p",null,null,null,null,null,null,null,null,null,null,null,null,null,null,null,null,null,null,null,null,null,null,null,null,null,null,{"$f":"AVERAGE(AC23:AC24)","v":6.594213481657514E-5}]
[null,"YUV, mixed content, 1080p",null,null,null,null,null,null,null,null,null,null,null,null,null,null,null,null,null,null,null,null,null,null,null,null,null,null,{"$f":"AVERAGE(AC25:AC25)","v":-3.8889642731516406E-5}]
[null,"YUV, Animation, 720p",null,null,null,null,null,null,null,null,null,null,null,null,null,null,null,null,null,null,null,null,null,null,null,null,null,null,{"$f":"AVERAGE(AC26:AC26)","v":-2.0575518031929028E-5}]
[null,"YUV, camera captured, 1080p",null,null,null,null,null,null,null,null,null,null,null,null,null,null,null,null,null,null,null,null,null,null,null,null,null,null,{"$f":"AVERAGE(AC27:AC28)","v":-2.6469079213469995E-5}]
[null,"Overall Average",null,null,null,null,null,null,null,null,null,null,null,null,null,null,null,null,null,null,null,null,null,null,null,null,null,null,{"$f":"AVERAGE(AC3:AC28)","v":1.3619306187492203E-2}]
["Min","RGB, text & graphics with motion, 1080p",null,null,null,null,null,null,null,null,{"$f":"MIN(K$3:K$5)","v":1475.2167999999999},null,null,null,null,null,null,{"$f":"MIN(R$3:R$5)","v":14752167.999999998},null,{"$f":"MIN(T$3:T$5)","v":1397.1424},null,null,null,null,null,null,{"$f":"MIN(AA$3:AA$5)","v":13971424},null,{"$f":"MIN(AC$3:AC$5)","v":8.6941206776538493E-3}]
[null,"RGB, text & graphics with motion,720p",null,null,null,null,null,null,null,null,{"$f":"MIN(K$6:K$9)","v":750.86959999999999},null,null,null,null,null,null,{"$f":"MIN(R$6:R$9)","v":7508696},null,{"$f":"MIN(T$6:T$9)","v":723.89359999999999},null,null,null,null,null,null,{"$f":"MIN(AA$6:AA$9)","v":7238936},null,{"$f":"MIN(AC$6:AC$9)","v":4.8097068090654924E-4}]
[null,"RGB, mixed content, 1440p",null,null,null,null,null,null,null,null,{"$f":"MIN(K$10:K$11)","v":108507.44319999999},null,null,null,null,null,null,{"$f":"MIN(R$10:R$11)","v":542537216},null,{"$f":"MIN(T$10:T$11)","v":108495.2736},null,null,null,null,null,null,{"$f":"MIN(AA$10:AA$11)","v":542476368},null,{"$f":"MIN(AC$10:AC$11)","v":1.0496050653882405E-4}]
[null,"RGB, mixed content, 1080p",null,null,null,null,null,null,null,null,{"$f":"MIN(K$12:K$12)","v":58016.167999999998},null,null,null,null,null,null,{"$f":"MIN(R$12:R$12)","v":580161680},null,{"$f":"MIN(T$12:T$12)","v":58011.364000000001},null,null,null,null,null,null,{"$f":"MIN(AA$12:AA$12)","v":580113640},null,{"$f":"MIN(AC$12:AC$12)","v":8.2804503737647747E-5}]
[null,"RGB, Animation, 720p",null,null,null,null,null,null,null,null,{"$f":"MIN(K$13:K$13)","v":164472.19760000001},null,null,null,null,null,null,{"$f":"MIN(R$13:R$13)","v":1644721976.0000002},null,{"$f":"MIN(T$13:T$13)","v":164479.59760000001},null,null,null,null,null,null,{"$f":"MIN(AA$13:AA$13)","v":1644795976},null,{"$f":"MIN(AC$13:AC$13)","v":-4.4992406667862002E-5}]
[null,"RGB, camera captured, 1080p",null,null,null,null,null,null,null,null,{"$f":"MIN(K14:K15)","v":624192.32640000002},null,null,null,null,null,null,{"$f":"MIN(R14:R15)","v":3120961631.9999995},null,{"$f":"MIN(T14:T15)","v":624211.41280000005},null,null,null,null,null,null,{"$f":"MIN(AA14:AA15)","v":3121057064.0000005},null,{"$f":"MIN(AC14:AC15)","v":-3.0577754952981649E-5}]
[null,"YUV, text & graphics with motion, 1080p",null,null,null,null,null,null,null,null,{"$f":"MIN(K$16:K$18)","v":1513.7888},null,null,null,null,null,null,{"$f":"MIN(R$16:R$18)","v":15137888.000000002},null,{"$f":"MIN(T$16:T$18)","v":1400.0791999999999},null,null,null,null,null,null,{"$f":"MIN(AA$16:AA$18)","v":14000792},null,{"$f":"MIN(AC$16:AC$18)","v":1.057052800017183E-2}]
[null,"YUV, text & graphics with motion,720p",null,null,null,null,null,null,null,null,{"$f":"MIN(K$19:K$22)","v":630.63919999999996},null,null,null,null,null,null,{"$f":"MIN(R$19:R$22)","v":6306391.9999999991},null,{"$f":"MIN(T$19:T$22)","v":596.6232},null,null,null,null,null,null,{"$f":"MIN(AA$19:AA$22)","v":5966232},null,{"$f":"MIN(AC$19:AC$22)","v":1.4678300632407369E-4}]
[null,"YUV, mixed content, 1440p",null,null,null,null,null,null,null,null,{"$f":"MIN(K$23:K$24)","v":80454.075200000007},null,null,null,null,null,null,{"$f":"MIN(R$23:R$24)","v":402270376},null,{"$f":"MIN(T$23:T$24)","v":80452.924799999993},null,null,null,null,null,null,{"$f":"MIN(AA$23:AA$24)","v":402264623.99999994},null,{"$f":"MIN(AC$23:AC$24)","v":1.4298840638614674E-5}]
[null,"YUV, mixed content, 1080p",null,null,null,null,null,null,null,null,{"$f":"MIN(K$25:K$25)","v":42643.7448},null,null,null,null,null,null,{"$f":"MIN(R$25:R$25)","v":426437448},null,{"$f":"MIN(T$25:T$25)","v":42645.403200000001},null,null,null,null,null,null,{"$f":"MIN(AA$25:AA$25)","v":426454032.00000006},null,{"$f":"MIN(AC$25:AC$25)","v":-3.8889642731516406E-5}]
[null,"YUV, Animation, 720p",null,null,null,null,null,null,null,null,{"$f":"MIN(K$26:K$26)","v":128891.04399999999},null,null,null,null,null,null,{"$f":"MIN(R$26:R$26)","v":1288910440.0000002},null,{"$f":"MIN(T$26:T$26)","v":128893.696},null,null,null,null,null,null,{"$f":"MIN(AA$26:AA$26)","v":1288936960},null,{"$f":"MIN(AC$26:AC$26)","v":-2.0575518031929028E-5}]
[null,"YUV, camera captured, 1080p",null,null,null,null,null,null,null,null,{"$f":"MIN(K27:K28)","v":524061.78399999999},null,null,null,null,null,null,{"$f":"MIN(R27:R28)","v":2620308920},null,{"$f":"MIN(T27:T28)","v":524070.12959999999},null,null,null,null,null,null,{"$f":"MIN(AA27:AA28)","v":2620350648},null,{"$f":"MIN(AC27:AC28)","v":-3.7013318542030541E-5}]
[null,"Overall Min",null,null,null,null,null,null,null,null,{"$f":"MIN(K$3:K$28)","v":630.63919999999996},null,null,null,null,null,null,{"$f":"MIN(R$3:R$28)","v":6306391.9999999991},null,{"$f":"MIN(T$3:T$28)","v":596.6232},null,null,null,null,null,null,{"$f":"MIN(AA$3:AA$28)","v":5966232},null,{"$f":"MIN(AC$3:AC$28)","v":-4.4992406667862002E-5}]
["Max","RGB, text & graphics with motion, 1080p",null,null,null,null,null,null,null,null,{"$f":"MAX(K$3:K$5)","v":152274.75520000001},null,null,null,null,null,null,{"$f":"MAX(R$3:R$5)","v":761373776.00000012},null,{"$f":"MAX(T$3:T$5)","v":149693.56959999999},null,null,null,null,null,null,{"$f":"MAX(AA$3:AA$5)","v":748467848},null,{"$f":"MAX(AC$3:AC$5)","v":5.2924017676588164E-2}]
[null,"RGB, text & graphics with motion,720p",null,null,null,null,null,null,null,null,{"$f":"MAX(K$6:K$9)","v":58972.409599999999},null,null,null,null,null,null,{"$f":"MAX(R$6:R$9)","v":589724096},null,{"$f":"MAX(T$6:T$9)","v":58944.045599999998},null,null,null,null,null,null,{"$f":"MAX(AA$6:AA$9)","v":589440455.99999988},null,{"$f":"MAX(AC$6:AC$9)","v":4.8194696902495913E-2}]
[null,"RGB, mixed content, 1440p",null,null,null,null,null,null,null,null,{"$f":"MAX(K$10:K$11)","v":118795.1584},null,null,null,null,null,null,{"$f":"MAX(R$10:R$11)","v":593975792.00000012},null,{"$f":"MAX(T$10:T$11)","v":118782.6896},null,null,null,null,null,null,{"$f":"MAX(AA$10:AA$11)","v":593913448},null,{"$f":"MAX(AC$10:AC$11)","v":1.1215451807825843E-4}]
[null,"RGB, mixed content, 1080p",null,null,null,null,null,null,null,null,{"$f":"MAX(K$12:K$12)","v":58016.167999999998},null,null,null,null,null,null,{"$f":"MAX(R$12:R$12)","v":580161680},null,{"$f":"MAX(T$12:T$12)","v":58011.364000000001},null,null,null,null,null,null,{"$f":"MAX(AA$12:AA$12)","v":580113640},null,{"$f":"MAX(AC$12:AC$12)","v":8.2804503737647747E-5}]
[null,"RGB, Animation, 720p",null,null,null,null,null,null,null,null,{"$f":"MAX(K$13:K$13)","v":164472.19760000001},null,null,null,null,null,null,{"$f":"MAX(R$13:R$13)","v":1644721976.0000002},null,{"$f":"MAX(T$13:T$13)","v":164479.59760000001},null,null,null,null,null,null,{"$f":"MAX(AA$13:AA$13)","v":1644795976},null,{"$f":"MAX(AC$13:AC$13)","v":-4.4992406667862002E-5}]
[null,"RGB, camera captured, 1080p",null,null,null,null,null,null,null,null,{"$f":"MAX(K14:K15)","v":883620.66079999995},null,null,null,null,null,null,{"$f":"MAX(R14:R15)","v":4418103304},null,{"$f":"MAX(T14:T15)","v":883611.34400000004},null,null,null,null,null,null,{"$f":"MAX(AA14:AA15)","v":4418056720},null,{"$f":"MAX(AC14:AC15)","v":1.054389107602451E-5}]
[null,"YUV, text & graphics with motion, 1080p",null,null,null,null,null,null,null,null,{"$f":"MAX(K$16:K$18)","v":136058.9952},null,null,null,null,null,null,{"$f":"MAX(R$16:R$18)","v":680294976.00000012},null,{"$f":"MAX(T$16:T$18)","v":134412.3904},null,null,null,null,null,null,{"$f":"MAX(AA$16:AA$18)","v":672061952},null,{"$f":"MAX(AC$16:AC$18)","v":7.5115894634707414E-2}]
[null,"YUV, text & graphics with motion,720p",null,null,null,null,null,null,null,null,{"$f":"MAX(K$19:K$22)","v":48850.3416},null,null,null,null,null,null,{"$f":"MAX(R$19:R$22)","v":488503416},null,{"$f":"MAX(T$19:T$22)","v":48843.171199999997},null,null,null,null,null,null,{"$f":"MAX(AA$19:AA$22)","v":488431711.99999994},null,{"$f":"MAX(AC$19:AC$22)","v":5.3938924189932867E-2}]
[null,"YUV, mixed content, 1440p",null,null,null,null,null,null,null,null,{"$f":"MAX(K$23:K$24)","v":95590.075200000007},null,null,null,null,null,null,{"$f":"MAX(R$23:R$24)","v":477950376.00000006},null,{"$f":"MAX(T$23:T$24)","v":95578.835200000001},null,null,null,null,null,null,{"$f":"MAX(AA$23:AA$24)","v":477894176},null,{"$f":"MAX(AC$23:AC$24)","v":1.1758542899453561E-4}]
[null,"YUV, mixed content, 1080p",null,null,null,null,null,null,null,null,{"$f":"MAX(K$25:K$25)","v":42643.7448},null,null,null,null,null,null,{"$f":"MAX(R$25:R$25)","v":426437448},null,{"$f":"MAX(T$25:T$25)","v":42645.403200000001},null,null,null,null,null,null,{"$f":"MAX(AA$25:AA$25)","v":426454032.00000006},null,{"$f":"MAX(AC$25:AC$25)","v":-3.8889642731516406E-5}]
[null,"YUV, Animation, 720p",null,null,null,null,null,null,null,null,{"$f":"MAX(K$26:K$26)","v":128891.04399999999},null,null,null,null,null,null,{"$f":"MAX(R$26:R$26)","v":1288910440.0000002},null,{"$f":"MAX(T$26:T$26)","v":128893.696},null,null,null,null,null,null,{"$f":"MAX(AA$26:AA$26)","v":1288936960},null,{"$f":"MAX(AC$26:AC$26)","v":-2.0575518031929028E-5}]
[null,"YUV, camera captured, 1080p",null,null,null,null,null,null,null,null,{"$f":"MAX(K27:K28)","v":684510.36},null,null,null,null,null,null,{"$f":"MAX(R27:R28)","v":3422551800},null,{"$f":"MAX(T27:T28)","v":684535.696},null,null,null,null,null,null,{"$f":"MAX(AA27:AA28)","v":3422678480},null,{"$f":"MAX(AC27:AC28)","v":-1.5924839884909449E-5}]
[null,"Overall Max",null,null,null,null,null,null,null,null,{"$f":"MAX(K$3:K$28)","v":883620.66079999995},null,null,null,null,null,null,{"$f":"MAX(R$3:R$28)","v":4418103304},null,{"$f":"MAX(T$3:T$28)","v":883611.34400000004},null,null,null,null,null,null,{"$f":"MAX(AA$3:AA$28)","v":4418056720},null,{"$f":"MAX(AC$3:AC$28)","v":7.5115894634707414E-2}]
[null,"Time geomean",null,null,null,null,null,null,null,null,null,null,null,null,null,{"$f":"GEOMEAN(P3:P28)","v":45.545537273936787},{"$f":"GEOMEAN(O3:O28)","v":47494.834546979357},null,null,null,null,null,null,null,{"$f":"GEOMEAN(Y3:Y28)","v":46.903462783440744},{"$f":"GEOMEAN(X3:X28)","v":47707.716826254764}]
[null,"Time ratio",null,null,null,null,null,null,null,null,null,null,null,null,null,null,null,null,null,null,null,null,null,null,{"$f":"Y81/P81","v":1.0298146775903998},{"$f":"Z81/Q81","v":1.0044822196204271}]
[null,"Time sum (hours)",null,null,null,null,null,null,null,null,null,null,null,null,null,{"$f":"SUM(P3:P28)/3600","v":0.41144722222222224},{"$f":"SUM(Q3:Q28)","v":440.42610000000002},null,null,null,null,null,null,null,{"$f":"SUM(Y3:Y28)/3600","v":0.41852499999999992},{"$f":"SUM(Z3:Z28)","v":443.78377499999999}]

{"sheet":"Anchor","index":4,"n_rows":78,"n_cols":10,"rows_kept":78,"cut":false,"hidden":false,"merged":[]}
["AI",185359.416,114.30840000000001,114.30840000000001,114.30840000000001,12757.36,67.34,114.30840000000001,114.30840000000001,114.30840000000001]
[null,82522.652799999996,114.30840000000001,114.30840000000001,114.30840000000001,18012.29,98.44,114.30840000000001,114.30840000000001,114.30840000000001]
[null,64274.828000000001,114.30840000000001,114.30840000000001,114.30840000000001,16324.18,91.7,114.30840000000001,114.30840000000001,114.30840000000001]
[null,29148.964800000002,110.7865,110.7865,110.7865,4798.37,24.66,110.7865,110.7865,110.7865]
[null,184834.0944,110.7865,110.7865,110.7865,14583.39,90.3,110.7865,110.7865,110.7865]
[null,163766.59599999999,110.7865,110.7865,110.7865,12794.8,84.49,110.7865,110.7865,110.7865]
[null,30007.771499999999,110.7865,110.7865,110.7865,7942.11,51.94,110.7865,110.7865,110.7865]
[null,629633.74080000003,116.80710000000001,116.80710000000001,116.80710000000001,23062.7,163.49,116.80710000000001,116.80710000000001,116.80710000000001]
[null,967457.09920000006,116.80710000000001,116.80710000000001,116.80710000000001,25206.46,227.53,116.80710000000001,116.80710000000001,116.80710000000001]
[null,439716.20079999999,114.30840000000001,114.30840000000001,114.30840000000001,25620.48,223.93,114.30840000000001,114.30840000000001,114.30840000000001]
[null,272693.84960000002,110.7865,110.7865,110.7865,13307.65,96.26,110.7865,110.7865,110.7865]
[null,1001414.7168000001,114.30840000000001,114.30840000000001,114.30840000000001,18951.009999999998,175.6,114.30840000000001,114.30840000000001,114.30840000000001]
[null,635643.84640000004,114.30840000000001,114.30840000000001,114.30840000000001,10968.52,102.72,114.30840000000001,114.30840000000001,114.30840000000001]
[null,169844.0208,114.30840000000001,114.30840000000001,114.30840000000001,12258.45,66.2,114.30840000000001,114.30840000000001,114.30840000000001]
[null,84712.792799999996,114.30840000000001,114.30840000000001,114.30840000000001,17983.84,100.31,114.30840000000001,114.30840000000001,114.30840000000001]
[null,72272.915200000003,114.30840000000001,114.30840000000001,114.30840000000001,16503.080000000002,95.7,114.30840000000001,114.30840000000001,114.30840000000001]
[null,25345.8472,110.7865,110.7865,110.7865,4662.17,23.86,110.7865,110.7865,110.7865]
[null,154034.1384,110.7865,110.7865,110.7865,13905.63,85.62,110.7865,110.7865,110.7865]
[null,137475.8848,110.7865,110.7865,110.7865,12140.16,80.989999999999995,110.7865,110.7865,110.7865]
[null,24250.9686,110.7865,110.7865,110.7865,7001.73,49.24,110.7865,110.7865,110.7865]
[null,519504.52639999997,116.80710000000001,116.80710000000001,116.80710000000001,21492.65,158.31,116.80710000000001,116.80710000000001,116.80710000000001]
[null,708285.18240000005,116.80710000000001,116.80710000000001,116.80710000000001,22856.13,203.44,116.80710000000001,116.80710000000001,116.80710000000001]
[null,338214.32559999998,114.30840000000001,114.30840000000001,114.30840000000001,24016.6,203.39,114.30840000000001,114.30840000000001,114.30840000000001]
[null,216583.0472,110.7865,110.7865,110.7865,12277.26,88.79,110.7865,110.7865,110.7865]
[null,790516.152,114.30840000000001,114.30840000000001,114.30840000000001,18176.3,173.64,114.30840000000001,114.30840000000001,114.30840000000001]
[null,531227.02720000001,114.30840000000001,114.30840000000001,114.30840000000001,9212.77,95.43,114.30840000000001,114.30840000000001,114.30840000000001]
["RA",154318.15040000001,114.30840000000001,114.30840000000001,114.30840000000001,104006.41,64.180000000000007,114.30840000000001,114.30840000000001,114.30840000000001]
[null,2689.4976000000001,114.30840000000001,114.30840000000001,114.30840000000001,23609.73,46.71,114.30840000000001,114.30840000000001,114.30840000000001]
[null,10703.224,114.30840000000001,114.30840000000001,114.30840000000001,52370.05,48.54,114.30840000000001,114.30840000000001,114.30840000000001]
[null,1361.1232,110.7865,110.7865,110.7865,2988.92,10.61,110.7865,110.7865,110.7865]
[null,13063.0128,110.7865,110.7865,110.7865,15048.15,24.68,110.7865,110.7865,110.7865]
[null,62082.267999999996,110.7865,110.7865,110.7865,47337.94,47.93,110.7865,110.7865,110.7865]
[null,7606.6,110.7865,110.7865,110.7865,25312.240000000002,26.48,110.7865,110.7865,110.7865]
[null,136310.5888,116.80710000000001,116.80710000000001,116.80710000000001,37493.19,59.1,116.80710000000001,116.80710000000001,116.80710000000001]
[null,121327.9008,116.80710000000001,116.80710000000001,116.80710000000001,45412.03,64.650000000000006,116.80710000000001,116.80710000000001,116.80710000000001]
[null,65378.641600000003,114.30840000000001,114.30840000000001,114.30840000000001,44706.59,70.91,114.30840000000001,114.30840000000001,114.30840000000001]
[null,165448.34239999999,110.7865,110.7865,110.7865,49251.71,69.599999999999994,110.7865,110.7865,110.7865]
[null,873497.05119999999,114.30840000000001,114.30840000000001,114.30840000000001,89472.21,160.62,114.30840000000001,114.30840000000001,114.30840000000001]
[null,624273.78879999998,114.30840000000001,114.30840000000001,114.30840000000001,72462.990000000005,98.77,114.30840000000001,114.30840000000001,114.30840000000001]
[null,139016.5632,114.30840000000001,114.30840000000001,114.30840000000001,107939.42,62.97,114.30840000000001,114.30840000000001,114.30840000000001]
[null,2761.1680000000001,114.30840000000001,114.30840000000001,114.30840000000001,23275.32,46.28,114.30840000000001,114.30840000000001,114.30840000000001]
[null,11992.616,114.30840000000001,114.30840000000001,114.30840000000001,51903,49.13,114.30840000000001,114.30840000000001,114.30840000000001]
[null,1173.1296,110.7865,110.7865,110.7865,2972.11,10.6,110.7865,110.7865,110.7865]
[null,10360.268,110.7865,110.7865,110.7865,14539.69,24.02,110.7865,110.7865,110.7865]
[null,51245.987999999998,110.7865,110.7865,110.7865,47371.93,46.09,110.7865,110.7865,110.7865]
[null,6073.1365999999998,110.7865,110.7865,110.7865,24217.5,25.54,110.7865,110.7865,110.7865]
[null,109131.7328,116.80710000000001,116.80710000000001,116.80710000000001,35631.269999999997,58.04,116.80710000000001,116.80710000000001,116.80710000000001]
[null,89890.001600000003,116.80710000000001,116.80710000000001,116.80710000000001,43043.61,61.21,116.80710000000001,116.80710000000001,116.80710000000001]
[null,48368.5288,114.30840000000001,114.30840000000001,114.30840000000001,42596.69,67.319999999999993,114.30840000000001,114.30840000000001,114.30840000000001]
[null,130968.056,110.7865,110.7865,110.7865,46609.07,62.89,110.7865,110.7865,110.7865]
[null,675844.65280000004,114.30840000000001,114.30840000000001,114.30840000000001,84796.24,154.9,114.30840000000001,114.30840000000001,114.30840000000001]
[null,523870.92,114.30840000000001,114.30840000000001,114.30840000000001,71894.75,93.04,114.30840000000001,114.30840000000001,114.30840000000001]
["LB",152274.75520000001,114.30840000000001,114.30840000000001,114.30840000000001,156607.51999999999,63.19,114.30840000000001,114.30840000000001,114.30840000000001]
[null,1475.2167999999999,114.30840000000001,114.30840000000001,114.30840000000001,30190.22,39.21,114.30840000000001,114.30840000000001,114.30840000000001]
[null,9965.8151999999991,114.30840000000001,114.30840000000001,114.30840000000001,66078.039999999994,47.06,114.30840000000001,114.30840000000001,114.30840000000001]
[null,750.86959999999999,110.7865,110.7865,110.7865,5247.04,8.16,110.7865,110.7865,110.7865]
[null,11065.864799999999,110.7865,110.7865,110.7865,21892.85,20.7,110.7865,110.7865,110.7865]
[null,58972.409599999999,110.7865,110.7865,110.7865,60402.91,45.86,110.7865,110.7865,110.7865]
[null,6751.5420999999997,110.7865,110.7865,110.7865,35403.919999999998,22.35,110.7865,110.7865,110.7865]
[null,118795.1584,116.80710000000001,116.80710000000001,116.80710000000001,46627.66,53.48,116.80710000000001,116.80710000000001,116.80710000000001]
[null,108507.44319999999,116.80710000000001,116.80710000000001,116.80710000000001,58125.83,55.48,116.80710000000001,116.80710000000001,116.80710000000001]
[null,58016.167999999998,114.30840000000001,114.30840000000001,114.30840000000001,55255.45,65.7,114.30840000000001,114.30840000000001,114.30840000000001]
[null,164472.19760000001,110.7865,110.7865,110.7865,61522.23,69,110.7865,110.7865,110.7865]
[null,883620.66079999995,114.30840000000001,114.30840000000001,114.30840000000001,110704.66,165.78,114.30840000000001,114.30840000000001,114.30840000000001]
[null,624192.32640000002,114.30840000000001,114.30840000000001,114.30840000000001,97162.57,99.38,114.30840000000001,114.30840000000001,114.30840000000001]
[null,136058.9952,114.30840000000001,114.30840000000001,114.30840000000001,146812.84,61.7,114.30840000000001,114.30840000000001,114.30840000000001]
[null,1513.7888,114.30840000000001,114.30840000000001,114.30840000000001,30024.880000000001,39.29,114.30840000000001,114.30840000000001,114.30840000000001]
[null,11173.86,114.30840000000001,114.30840000000001,114.30840000000001,67974.070000000007,47.59,114.30840000000001,114.30840000000001,114.30840000000001]
[null,630.63919999999996,110.7865,110.7865,110.7865,5133.71,8.18,110.7865,110.7865,110.7865]
[null,8652.7024000000001,110.7865,110.7865,110.7865,20331.259999999998,20.22,110.7865,110.7865,110.7865]
[null,48850.3416,110.7865,110.7865,110.7865,60967.33,44.5,110.7865,110.7865,110.7865]
[null,5329.5501000000004,110.7865,110.7865,110.7865,33335.839999999997,21.46,110.7865,110.7865,110.7865]
[null,95590.075200000007,116.80710000000001,116.80710000000001,116.80710000000001,45760.11,52.89,116.80710000000001,116.80710000000001,116.80710000000001]
[null,80454.075200000007,116.80710000000001,116.80710000000001,116.80710000000001,54889.599999999999,52.65,116.80710000000001,116.80710000000001,116.80710000000001]
[null,42643.7448,114.30840000000001,114.30840000000001,114.30840000000001,54276.800000000003,62.47,114.30840000000001,114.30840000000001,114.30840000000001]
[null,128891.04399999999,110.7865,110.7865,110.7865,57685.41,62.36,110.7865,110.7865,110.7865]
[null,684510.36,114.30840000000001,114.30840000000001,114.30840000000001,105462.92,158.71,114.30840000000001,114.30840000000001,114.30840000000001]
[null,524061.78399999999,114.30840000000001,114.30840000000001,114.30840000000001,97658.29,93.84,114.30840000000001,114.30840000000001,114.30840000000001]

{"sheet":"Test","index":5,"n_rows":78,"n_cols":7,"rows_kept":78,"cut":false,"hidden":false,"merged":[]}
["AI",179069.2672,114.30840000000001,114.30840000000001,114.30840000000001,14065.44,62.53]
[null,70441.813599999994,114.30840000000001,114.30840000000001,114.30840000000001,19472.63,92.79]
[null,58817.196000000004,114.30840000000001,114.30840000000001,114.30840000000001,17662.46,86.84]
[null,26995.7696,110.7865,110.7865,110.7865,5027.91,23.75]
[null,148981.11360000001,110.7865,110.7865,110.7865,15609.11,66.25]
[null,162047.69519999999,110.7865,110.7865,110.7865,13966.78,83.45]
[null,29961.8256,110.7865,110.7865,110.7865,8940.69,52.82]
[null,624889.65119999996,116.80710000000001,116.80710000000001,116.80710000000001,25523.82,161.56]
[null,961744.22080000001,116.80710000000001,116.80710000000001,116.80710000000001,28260.04,224.95]
[null,437172.0528,114.30840000000001,114.30840000000001,114.30840000000001,28147.93,221.08]
[null,272704.87199999997,110.7865,110.7865,110.7865,15038.33,95.75]
[null,1001445.4096,114.30840000000001,114.30840000000001,114.30840000000001,22100.2,174.45]
[null,635667.85279999999,114.30840000000001,114.30840000000001,114.30840000000001,12316.83,101.36]
[null,165241.14720000001,114.30840000000001,114.30840000000001,114.30840000000001,13416.41,63.34]
[null,69955.243199999997,114.30840000000001,114.30840000000001,114.30840000000001,19338.02,91.83]
[null,65005.2808,114.30840000000001,114.30840000000001,114.30840000000001,17924.12,86.49]
[null,22849.621599999999,110.7865,110.7865,110.7865,5083.22,22.87]
[null,128629.60159999999,110.7865,110.7865,110.7865,14891.7,64.52]
[null,136540.76800000001,110.7865,110.7865,110.7865,13065.19,80.989999999999995]
[null,24218.395499999999,110.7865,110.7865,110.7865,7330.98,49.62]
[null,516042.28960000002,116.80710000000001,116.80710000000001,116.80710000000001,23511.53,155.6]
[null,707613.32160000002,116.80710000000001,116.80710000000001,116.80710000000001,24898.9,201.79]
[null,337078.06800000003,114.30840000000001,114.30840000000001,114.30840000000001,25805.81,201.75]
[null,216591.42,110.7865,110.7865,110.7865,12935.7,87.63]
[null,790565.86239999998,114.30840000000001,114.30840000000001,114.30840000000001,20129.919999999998,170.29]
[null,531249.76159999997,114.30840000000001,114.30840000000001,114.30840000000001,11043.34,93.7]
["RA",151478.07999999999,114.30840000000001,114.30840000000001,114.30840000000001,104153.47,62.46]
[null,2432.7847999999999,114.30840000000001,114.30840000000001,114.30840000000001,24016.66,48.87]
[null,10527.603999999999,114.30840000000001,114.30840000000001,114.30840000000001,52900.32,50.68]
[null,1281.7352000000001,110.7865,110.7865,110.7865,3073.01,11.15]
[null,12134.456,110.7865,110.7865,110.7865,15238.33,25.09]
[null,62029.605600000003,110.7865,110.7865,110.7865,48591.58,48.83]
[null,7597.1554999999998,110.7865,110.7865,110.7865,25045.95,27.31]
[null,136227.85440000001,116.80710000000001,116.80710000000001,116.80710000000001,36930.160000000003,61.06]
[null,121242.0928,116.80710000000001,116.80710000000001,116.80710000000001,46054.5,66.61]
[null,65333.703200000004,114.30840000000001,114.30840000000001,114.30840000000001,45062.43,73.17]
[null,165447.97039999999,110.7865,110.7865,110.7865,51294.42,69.599999999999994]
[null,873513.42879999999,114.30840000000001,114.30840000000001,114.30840000000001,91780.04,160.56]
[null,624291.10560000001,114.30840000000001,114.30840000000001,114.30840000000001,74640.95,98.59]
[null,137064.88800000001,114.30840000000001,114.30840000000001,114.30840000000001,108295.81,62.01]
[null,2429.2359999999999,114.30840000000001,114.30840000000001,114.30840000000001,22961.7,48.49]
[null,11748.1608,114.30840000000001,114.30840000000001,114.30840000000001,53062.04,51.13]
[null,1077.6744000000001,110.7865,110.7865,110.7865,3046.12,11.13]
[null,9740.2936000000009,110.7865,110.7865,110.7865,15334.19,24.74]
[null,51224.972000000002,110.7865,110.7865,110.7865,47757.04,47.08]
[null,6068.0559999999996,110.7865,110.7865,110.7865,24191.96,26.39]
[null,109071.0304,116.80710000000001,116.80710000000001,116.80710000000001,36938.269999999997,59.89]
[null,89873.910399999993,116.80710000000001,116.80710000000001,116.80710000000001,43821.59,63.14]
[null,48349.336000000003,114.30840000000001,114.30840000000001,114.30840000000001,43363.08,69.569999999999993]
[null,130973.0784,110.7865,110.7865,110.7865,47881.42,63.33]
[null,675863.17440000002,114.30840000000001,114.30840000000001,114.30840000000001,87265.06,153.76]
[null,523885.36479999998,114.30840000000001,114.30840000000001,114.30840000000001,73469.39,92.62]
["LB",149693.56959999999,114.30840000000001,114.30840000000001,114.30840000000001,157807.35,61.6]
[null,1397.1424,114.30840000000001,114.30840000000001,114.30840000000001,30498.46,41.71]
[null,9879.1712000000007,114.30840000000001,114.30840000000001,114.30840000000001,66143.05,49.42]
[null,723.89359999999999,110.7865,110.7865,110.7865,5088.67,8.82]
[null,10532.5488,110.7865,110.7865,110.7865,21152.51,21.52]
[null,58944.045599999998,110.7865,110.7865,110.7865,60525.55,46.62]
[null,6743.5897999999997,110.7865,110.7865,110.7865,34285.17,23.37]
[null,118782.6896,116.80710000000001,116.80710000000001,116.80710000000001,47162.51,55.47]
[null,108495.2736,116.80710000000001,116.80710000000001,116.80710000000001,56297.47,57.43]
[null,58011.364000000001,114.30840000000001,114.30840000000001,114.30840000000001,56606.8,68.010000000000005]
[null,164479.59760000001,110.7865,110.7865,110.7865,62410.66,69.22]
[null,883611.34400000004,114.30840000000001,114.30840000000001,114.30840000000001,112315.46,165.61]
[null,624211.41280000005,114.30840000000001,114.30840000000001,114.30840000000001,99992.97,99.05]
[null,134412.3904,114.30840000000001,114.30840000000001,114.30840000000001,148032.26999999999,61.11]
[null,1400.0791999999999,114.30840000000001,114.30840000000001,114.30840000000001,30296.25,41.72]
[null,11055.7464,114.30840000000001,114.30840000000001,114.30840000000001,67949.710000000006,49.88]
[null,596.6232,110.7865,110.7865,110.7865,5305.78,8.7899999999999991]
[null,8334.8495999999996,110.7865,110.7865,110.7865,20610.669999999998,21.28]
[null,48843.171199999997,110.7865,110.7865,110.7865,62186.5,45.79]
[null,5324.8069999999998,110.7865,110.7865,110.7865,33497.81,22.54]
[null,95578.835200000001,116.80710000000001,116.80710000000001,116.80710000000001,45230.31,54.74]
[null,80452.924799999993,116.80710000000001,116.80710000000001,116.80710000000001,54175.16,54.7]
[null,42645.403200000001,114.30840000000001,114.30840000000001,114.30840000000001,54774.28,64.8]
[null,128893.696,110.7865,110.7865,110.7865,59704.54,62.45]
[null,684535.696,114.30840000000001,114.30840000000001,114.30840000000001,105847.37,157.83000000000001]
[null,524070.12959999999,114.30840000000001,114.30840000000001,114.30840000000001,99724.31,93.21]