BEGIN:VCALENDAR
VERSION:2.0
BEGIN:VTIMEZONE
TZID:Europe/Zurich
BEGIN:STANDARD
DTSTART:20251026T030000
TZOFFSETFROM:+0200
TZOFFSETTO:+0100
TZNAME:CET
END:STANDARD
BEGIN:DAYLIGHT
DTSTART:20260329T020000
TZOFFSETFROM:+0100
TZOFFSETTO:+0200
TZNAME:CEST
END:DAYLIGHT
END:VTIMEZONE
BEGIN:VEVENT
CLASS:PUBLIC
SUMMARY:ITU Space-Connect – E3 – Girls & Space: Pathways to the Stars (Online participation)
DESCRIPTION:ITU Space-Connect\nE3 – Girls & Space: Pathways to the Stars\n\nDate: 23 April 2026
DTSTART;TZID=Europe/Zurich:20260423T150000
DTEND;TZID=Europe/Zurich:20260423T163000
LOCATION:Online participation (https://www.itu.int/space-connect/)
URL:https://www.itu.int/space-connect/2026-e-3
END:VEVENT
END:VCALENDAR